BEGIN:VCALENDAR
VERSION:2.0
PRODID:-//Minneapolis Park &amp; Recreation Board - ECPv6.15.20//NONSGML v1.0//EN
CALSCALE:GREGORIAN
METHOD:PUBLISH
X-ORIGINAL-URL:https://www.minneapolisparks.org
X-WR-CALDESC:Events for Minneapolis Park &amp; Recreation Board
REFRESH-INTERVAL;VALUE=DURATION:PT1H
X-Robots-Tag:noindex
X-PUBLISHED-TTL:PT1H
BEGIN:VTIMEZONE
TZID:America/Chicago
BEGIN:DAYLIGHT
TZOFFSETFROM:-0600
TZOFFSETTO:-0500
TZNAME:CDT
DTSTART:20220313T080000
END:DAYLIGHT
BEGIN:STANDARD
TZOFFSETFROM:-0500
TZOFFSETTO:-0600
TZNAME:CST
DTSTART:20221106T070000
END:STANDARD
BEGIN:DAYLIGHT
TZOFFSETFROM:-0600
TZOFFSETTO:-0500
TZNAME:CDT
DTSTART:20230312T080000
END:DAYLIGHT
BEGIN:STANDARD
TZOFFSETFROM:-0500
TZOFFSETTO:-0600
TZNAME:CST
DTSTART:20231105T070000
END:STANDARD
BEGIN:DAYLIGHT
TZOFFSETFROM:-0600
TZOFFSETTO:-0500
TZNAME:CDT
DTSTART:20240310T080000
END:DAYLIGHT
BEGIN:STANDARD
TZOFFSETFROM:-0500
TZOFFSETTO:-0600
TZNAME:CST
DTSTART:20241103T070000
END:STANDARD
BEGIN:DAYLIGHT
TZOFFSETFROM:-0600
TZOFFSETTO:-0500
TZNAME:CDT
DTSTART:20250309T080000
END:DAYLIGHT
BEGIN:STANDARD
TZOFFSETFROM:-0500
TZOFFSETTO:-0600
TZNAME:CST
DTSTART:20251102T070000
END:STANDARD
END:VTIMEZONE
BEGIN:VEVENT
DTSTART;TZID=America/Chicago:20230906T080000
DTEND;TZID=America/Chicago:20230906T170000
DTSTAMP:20260420T054036
CREATED:20230119T171346Z
LAST-MODIFIED:20230126T144053Z
UID:62925-1693987200-1694019600@www.minneapolisparks.org
SUMMARY:Board Meeting
DESCRIPTION:Meeting Info
URL:https://www.minneapolisparks.org/event-calendar/board-meeting-94/2023-09-06/
LOCATION:Mary Merrill Minneapolis Park & Recreation Board Headquarters\, 2117 West River Road N\, Minneapolis\, MN\, 55411\, United States
CATEGORIES:Public Meetings
GEO:45.0008334;-93.2780339
X-APPLE-STRUCTURED-LOCATION;VALUE=URI;X-ADDRESS=Mary Merrill Minneapolis Park & Recreation Board Headquarters 2117 West River Road N Minneapolis MN 55411 United States;X-APPLE-RADIUS=500;X-TITLE=2117 West River Road N:geo:-93.2780339,45.0008334
END:VEVENT
BEGIN:VEVENT
DTSTART;TZID=America/Chicago:20230919T160000
DTEND;TZID=America/Chicago:20230919T190000
DTSTAMP:20260420T054036
CREATED:20230915T202635Z
LAST-MODIFIED:20230915T203647Z
UID:68597-1695139200-1695150000@www.minneapolisparks.org
SUMMARY:Folwell Park Community Open House Details
DESCRIPTION:Review the new preferred draft concept and share feedback \nLight refreshments provided \nCan’t make it? Following the open house\, the concept plan and opportunities to share feedback will be available on the Folwell Park improvements web page.
URL:https://www.minneapolisparks.org/event-calendar/community-open-house-details/
LOCATION:Folwell Recreation Center\, 1615 N Dowling Ave\, Minneapolis\, MN\, 55412\, United States
CATEGORIES:Public Meetings
GEO:45.0235514;-93.3002305
X-APPLE-STRUCTURED-LOCATION;VALUE=URI;X-ADDRESS=Folwell Recreation Center 1615 N Dowling Ave Minneapolis MN 55412 United States;X-APPLE-RADIUS=500;X-TITLE=1615 N Dowling Ave:geo:-93.3002305,45.0235514
END:VEVENT
BEGIN:VEVENT
DTSTART;TZID=America/Chicago:20231026T170000
DTEND;TZID=America/Chicago:20231026T203000
DTSTAMP:20260420T054036
CREATED:20231023T161925Z
LAST-MODIFIED:20231023T162232Z
UID:69289-1698339600-1698352200@www.minneapolisparks.org
SUMMARY:Committee of the Whole Board Meeting
DESCRIPTION:Meeting Details
URL:https://www.minneapolisparks.org/event-calendar/committee-of-the-whole-board-meeting-2/
LOCATION:Mary Merrill Minneapolis Park & Recreation Board Headquarters Board Room\, 2117 West River Road N\, Minneapolis\, MN\, 55411\, United States
CATEGORIES:Public Meetings
GEO:45.0008334;-93.2780339
X-APPLE-STRUCTURED-LOCATION;VALUE=URI;X-ADDRESS=Mary Merrill Minneapolis Park & Recreation Board Headquarters Board Room 2117 West River Road N Minneapolis MN 55411 United States;X-APPLE-RADIUS=500;X-TITLE=2117 West River Road N:geo:-93.2780339,45.0008334
END:VEVENT
BEGIN:VEVENT
DTSTART;TZID=America/Chicago:20231113T180000
DTEND;TZID=America/Chicago:20231113T180000
DTSTAMP:20260420T054036
CREATED:20231108T164958Z
LAST-MODIFIED:20231113T152118Z
UID:69619-1699898400-1699898400@www.minneapolisparks.org
SUMMARY:Special Meeting of the Board of Commissioners
DESCRIPTION:Meeting Agenda
URL:https://www.minneapolisparks.org/event-calendar/special-meeting-of-the-board-of-commissioners/
LOCATION:Mary Merrill Minneapolis Park & Recreation Board Headquarters\, 2117 West River Road N\, Minneapolis\, MN\, 55411\, United States
CATEGORIES:Public Meetings
GEO:45.0008334;-93.2780339
X-APPLE-STRUCTURED-LOCATION;VALUE=URI;X-ADDRESS=Mary Merrill Minneapolis Park & Recreation Board Headquarters 2117 West River Road N Minneapolis MN 55411 United States;X-APPLE-RADIUS=500;X-TITLE=2117 West River Road N:geo:-93.2780339,45.0008334
END:VEVENT
BEGIN:VEVENT
DTSTART;TZID=America/Chicago:20231118T130000
DTEND;TZID=America/Chicago:20231118T140000
DTSTAMP:20260420T054036
CREATED:20231113T152951Z
LAST-MODIFIED:20231113T153006Z
UID:69664-1700312400-1700316000@www.minneapolisparks.org
SUMMARY:Community Information Meeting for Lyndale Park Rose Garden Improvements
DESCRIPTION:Share directions for potential improvements at the Lyndale Rose Garden. Note: Information shared will be the same as the meetings held on 10/23 and 10/25 as well as the meeting scheduled for 12/11.
URL:https://www.minneapolisparks.org/event-calendar/community-information-meeting-for-lyndale-park-rose-garden-improvements/
LOCATION:Lyndale Farmstead Recreation Center\, 3900 Bryant Ave S\, Minneapolis\, MN\, 55409\, United States
CATEGORIES:Public Meetings
GEO:44.9321181;-93.2914154
X-APPLE-STRUCTURED-LOCATION;VALUE=URI;X-ADDRESS=Lyndale Farmstead Recreation Center 3900 Bryant Ave S Minneapolis MN 55409 United States;X-APPLE-RADIUS=500;X-TITLE=3900 Bryant Ave S:geo:-93.2914154,44.9321181
END:VEVENT
BEGIN:VEVENT
DTSTART;TZID=America/Chicago:20231205T170000
DTEND;TZID=America/Chicago:20231205T180000
DTSTAMP:20260420T054036
CREATED:20231108T165314Z
LAST-MODIFIED:20231113T152330Z
UID:69621-1701795600-1701799200@www.minneapolisparks.org
SUMMARY:Special Budget Meeting
DESCRIPTION:Meeting Agenda
URL:https://www.minneapolisparks.org/event-calendar/special-budget-meeting/
LOCATION:City Hall\, Council Chambers Room 317\, 350 South 5th Street\, Minneapolis\, MN\, 55415\, United States
CATEGORIES:Public Meetings
GEO:44.9772839;-93.2652365
X-APPLE-STRUCTURED-LOCATION;VALUE=URI;X-ADDRESS=City Hall Council Chambers Room 317 350 South 5th Street Minneapolis MN 55415 United States;X-APPLE-RADIUS=500;X-TITLE=350 South 5th Street:geo:-93.2652365,44.9772839
END:VEVENT
BEGIN:VEVENT
DTSTART;TZID=America/Chicago:20231206T170000
DTEND;TZID=America/Chicago:20231206T170000
DTSTAMP:20260420T054036
CREATED:20230119T171433Z
LAST-MODIFIED:20230126T144211Z
UID:62932-1701882000-1701882000@www.minneapolisparks.org
SUMMARY:Board Meeting
DESCRIPTION:Meeting Info
URL:https://www.minneapolisparks.org/event-calendar/board-meeting-95/
LOCATION:Mary Merrill Minneapolis Park & Recreation Board Headquarters\, 2117 West River Road N\, Minneapolis\, MN\, 55411\, United States
CATEGORIES:Public Meetings
GEO:45.0008334;-93.2780339
X-APPLE-STRUCTURED-LOCATION;VALUE=URI;X-ADDRESS=Mary Merrill Minneapolis Park & Recreation Board Headquarters 2117 West River Road N Minneapolis MN 55411 United States;X-APPLE-RADIUS=500;X-TITLE=2117 West River Road N:geo:-93.2780339,45.0008334
END:VEVENT
BEGIN:VEVENT
DTSTART;TZID=America/Chicago:20231211T173000
DTEND;TZID=America/Chicago:20231211T183000
DTSTAMP:20260420T054036
CREATED:20231113T153107Z
LAST-MODIFIED:20231113T153107Z
UID:69666-1702315800-1702319400@www.minneapolisparks.org
SUMMARY:Community Information Meeting for Lyndale Park Rose Garden Improvements
DESCRIPTION:Share directions for potential improvements at the Lyndale Rose Garden. Note: Information shared will be the same as the meetings held on 10/23\, 10/25\, and 11/18.
URL:https://www.minneapolisparks.org/event-calendar/community-information-meeting-for-lyndale-park-rose-garden-improvements-2/
LOCATION:Lyndale Farmstead Recreation Center\, 3900 Bryant Ave S\, Minneapolis\, MN\, 55409\, United States
CATEGORIES:Public Meetings
GEO:44.9321181;-93.2914154
X-APPLE-STRUCTURED-LOCATION;VALUE=URI;X-ADDRESS=Lyndale Farmstead Recreation Center 3900 Bryant Ave S Minneapolis MN 55409 United States;X-APPLE-RADIUS=500;X-TITLE=3900 Bryant Ave S:geo:-93.2914154,44.9321181
END:VEVENT
BEGIN:VEVENT
DTSTART;TZID=America/Chicago:20231214T180000
DTEND;TZID=America/Chicago:20231214T180000
DTSTAMP:20260420T054036
CREATED:20231205T190227Z
LAST-MODIFIED:20231205T192043Z
UID:69969-1702576800-1702576800@www.minneapolisparks.org
SUMMARY:Whittier Alliance Community Engagement Dinner
DESCRIPTION:MPRB staff will have a table with project information and comment boards for the community to provide feedback. \nClinton Field Park Improvements and New Mixed-Use Court
URL:https://www.minneapolisparks.org/event-calendar/whittier-alliance-community-engagement-dinner/
LOCATION:Whittier Recreation Center\, 425 W 26th St\, Minneapolis\, MN\, 55404\, United States
CATEGORIES:Public Meetings
GEO:44.9551265;-93.2845291
X-APPLE-STRUCTURED-LOCATION;VALUE=URI;X-ADDRESS=Whittier Recreation Center 425 W 26th St Minneapolis MN 55404 United States;X-APPLE-RADIUS=500;X-TITLE=425 W 26th St:geo:-93.2845291,44.9551265
END:VEVENT
BEGIN:VEVENT
DTSTART;TZID=America/Chicago:20231218T180000
DTEND;TZID=America/Chicago:20231218T180000
DTSTAMP:20260420T054036
CREATED:20231129T153638Z
LAST-MODIFIED:20231129T153638Z
UID:69842-1702922400-1702922400@www.minneapolisparks.org
SUMMARY:Nokomis East Neighborhood Association Board Meeting
DESCRIPTION:Regular NENA Board meeting with an agenda item to introduce the Minnehaha Regional Park improvements project current scope\, schedule\, budget\, and timeline.
URL:https://www.minneapolisparks.org/event-calendar/nokomis-east-neighborhood-association-board-meeting/
LOCATION:Online
CATEGORIES:Public Meetings
GEO:46.729553;-94.6858998
END:VEVENT
BEGIN:VEVENT
DTSTART;TZID=America/Chicago:20240102T170000
DTEND;TZID=America/Chicago:20240102T180000
DTSTAMP:20260420T054036
CREATED:20240102T155713Z
LAST-MODIFIED:20240102T155713Z
UID:70524-1704214800-1704218400@www.minneapolisparks.org
SUMMARY:Annual Meeting - Minneapolis Park and Recreation Board
DESCRIPTION:Meeting Details
URL:https://www.minneapolisparks.org/event-calendar/annual-meeting-minneapolis-park-and-recreation-board/
LOCATION:Mary Merrill Minneapolis Park & Recreation Board Headquarters Board Room\, 2117 West River Road N\, Minneapolis\, MN\, 55411\, United States
CATEGORIES:Public Meetings
GEO:45.0008334;-93.2780339
X-APPLE-STRUCTURED-LOCATION;VALUE=URI;X-ADDRESS=Mary Merrill Minneapolis Park & Recreation Board Headquarters Board Room 2117 West River Road N Minneapolis MN 55411 United States;X-APPLE-RADIUS=500;X-TITLE=2117 West River Road N:geo:-93.2780339,45.0008334
END:VEVENT
BEGIN:VEVENT
DTSTART;TZID=America/Chicago:20240103T170000
DTEND;TZID=America/Chicago:20240103T170000
DTSTAMP:20260420T054036
CREATED:20240102T155832Z
LAST-MODIFIED:20240102T155832Z
UID:70526-1704301200-1704301200@www.minneapolisparks.org
SUMMARY:Board Meeting
DESCRIPTION:Meeting Details
URL:https://www.minneapolisparks.org/event-calendar/board-meeting-91/
LOCATION:Mary Merrill Minneapolis Park & Recreation Board Headquarters Board Room\, 2117 West River Road N\, Minneapolis\, MN\, 55411\, United States
CATEGORIES:Public Meetings
GEO:45.0008334;-93.2780339
X-APPLE-STRUCTURED-LOCATION;VALUE=URI;X-ADDRESS=Mary Merrill Minneapolis Park & Recreation Board Headquarters Board Room 2117 West River Road N Minneapolis MN 55411 United States;X-APPLE-RADIUS=500;X-TITLE=2117 West River Road N:geo:-93.2780339,45.0008334
END:VEVENT
BEGIN:VEVENT
DTSTART;TZID=America/Chicago:20240110T080000
DTEND;TZID=America/Chicago:20240110T170000
DTSTAMP:20260420T054036
CREATED:20240110T200834Z
LAST-MODIFIED:20240110T200834Z
UID:70859-1704873600-1704906000@www.minneapolisparks.org
SUMMARY:Board Meeting
DESCRIPTION:Meeting Details
URL:https://www.minneapolisparks.org/event-calendar/board-meeting-102/
LOCATION:MN
CATEGORIES:Public Meetings
END:VEVENT
BEGIN:VEVENT
DTSTART;TZID=America/Chicago:20240110T170000
DTEND;TZID=America/Chicago:20240110T210000
DTSTAMP:20260420T054036
CREATED:20240110T210401Z
LAST-MODIFIED:20240110T210401Z
UID:70869-1704906000-1704920400@www.minneapolisparks.org
SUMMARY:Board Meeting
DESCRIPTION:Meeting Details
URL:https://www.minneapolisparks.org/event-calendar/board-meeting-107/
LOCATION:MN
CATEGORIES:Public Meetings
END:VEVENT
BEGIN:VEVENT
DTSTART;TZID=America/Chicago:20240111T170000
DTEND;TZID=America/Chicago:20240111T183000
DTSTAMP:20260420T054036
CREATED:20231227T183335Z
LAST-MODIFIED:20231227T183335Z
UID:70485-1704992400-1704997800@www.minneapolisparks.org
SUMMARY:Diamond Sports Facilities Study Technical Advisory Committee Meeting #8 scheduled Jan. 11
DESCRIPTION:Diamond Sports Facility Study
URL:https://www.minneapolisparks.org/event-calendar/diamond-sports-facilities-study-technical-advisory-committee-meeting-8-scheduled-jan-11/
LOCATION:Mary Merrill Minneapolis Park & Recreation Board Headquarters\, 2117 West River Road N\, Minneapolis\, MN\, 55411\, United States
CATEGORIES:Public Meetings
GEO:45.0008334;-93.2780339
X-APPLE-STRUCTURED-LOCATION;VALUE=URI;X-ADDRESS=Mary Merrill Minneapolis Park & Recreation Board Headquarters 2117 West River Road N Minneapolis MN 55411 United States;X-APPLE-RADIUS=500;X-TITLE=2117 West River Road N:geo:-93.2780339,45.0008334
END:VEVENT
BEGIN:VEVENT
DTSTART;TZID=America/Chicago:20240117T170000
DTEND;TZID=America/Chicago:20240117T170000
DTSTAMP:20260420T054036
CREATED:20240110T172342Z
LAST-MODIFIED:20240110T172342Z
UID:70836-1705510800-1705510800@www.minneapolisparks.org
SUMMARY:Board Meeting
DESCRIPTION:More Info
URL:https://www.minneapolisparks.org/event-calendar/board-meeting-96/
LOCATION:Mary Merrill Minneapolis Park & Recreation Board Headquarters\, 2117 West River Road N\, Minneapolis\, MN\, 55411\, United States
CATEGORIES:Public Meetings
GEO:45.0008334;-93.2780339
X-APPLE-STRUCTURED-LOCATION;VALUE=URI;X-ADDRESS=Mary Merrill Minneapolis Park & Recreation Board Headquarters 2117 West River Road N Minneapolis MN 55411 United States;X-APPLE-RADIUS=500;X-TITLE=2117 West River Road N:geo:-93.2780339,45.0008334
END:VEVENT
BEGIN:VEVENT
DTSTART;TZID=America/Chicago:20240119T080000
DTEND;TZID=America/Chicago:20240119T100000
DTSTAMP:20260420T054036
CREATED:20240116T221741Z
LAST-MODIFIED:20240116T221741Z
UID:70955-1705651200-1705658400@www.minneapolisparks.org
SUMMARY:Committee of the Whole Meeting
DESCRIPTION:Meeting Info
URL:https://www.minneapolisparks.org/event-calendar/committee-of-the-whole-meeting-16/
LOCATION:The Trailhead\, 1339 Theodore Wirth Parkway\, Minneapolis\, MN\, 55411\, United States
CATEGORIES:Public Meetings
GEO:44.9898452;-93.3268367
X-APPLE-STRUCTURED-LOCATION;VALUE=URI;X-ADDRESS=The Trailhead 1339 Theodore Wirth Parkway Minneapolis MN 55411 United States;X-APPLE-RADIUS=500;X-TITLE=1339 Theodore Wirth Parkway:geo:-93.3268367,44.9898452
END:VEVENT
BEGIN:VEVENT
DTSTART;TZID=America/Chicago:20240207T170000
DTEND;TZID=America/Chicago:20240207T210000
DTSTAMP:20260420T054036
CREATED:20240110T181907Z
LAST-MODIFIED:20240110T182017Z
UID:70840-1707325200-1707339600@www.minneapolisparks.org
SUMMARY:Board Meeting
DESCRIPTION:Meeting Details
URL:https://www.minneapolisparks.org/event-calendar/board-meeting-97/
LOCATION:Mary Merrill Minneapolis Park & Recreation Board Headquarters Board Room\, 2117 West River Road N\, Minneapolis\, MN\, 55411\, United States
CATEGORIES:Public Meetings
GEO:45.0008334;-93.2780339
X-APPLE-STRUCTURED-LOCATION;VALUE=URI;X-ADDRESS=Mary Merrill Minneapolis Park & Recreation Board Headquarters Board Room 2117 West River Road N Minneapolis MN 55411 United States;X-APPLE-RADIUS=500;X-TITLE=2117 West River Road N:geo:-93.2780339,45.0008334
END:VEVENT
BEGIN:VEVENT
DTSTART;TZID=America/Chicago:20240221T170000
DTEND;TZID=America/Chicago:20240221T210000
DTSTAMP:20260420T054036
CREATED:20240110T195648Z
LAST-MODIFIED:20240110T195648Z
UID:70851-1708534800-1708549200@www.minneapolisparks.org
SUMMARY:Board Meeting
DESCRIPTION:Meeting Details \n 
URL:https://www.minneapolisparks.org/event-calendar/board-meeting-98/
LOCATION:Mary Merrill Minneapolis Park & Recreation Board Headquarters Board Room\, 2117 West River Road N\, Minneapolis\, MN\, 55411\, United States
CATEGORIES:Public Meetings
GEO:45.0008334;-93.2780339
X-APPLE-STRUCTURED-LOCATION;VALUE=URI;X-ADDRESS=Mary Merrill Minneapolis Park & Recreation Board Headquarters Board Room 2117 West River Road N Minneapolis MN 55411 United States;X-APPLE-RADIUS=500;X-TITLE=2117 West River Road N:geo:-93.2780339,45.0008334
END:VEVENT
BEGIN:VEVENT
DTSTART;TZID=America/Chicago:20240306T170000
DTEND;TZID=America/Chicago:20240306T210000
DTSTAMP:20260420T054036
CREATED:20240110T195927Z
LAST-MODIFIED:20240110T195927Z
UID:70853-1709744400-1709758800@www.minneapolisparks.org
SUMMARY:Board Meeting
DESCRIPTION:Meeting Details
URL:https://www.minneapolisparks.org/event-calendar/board-meeting-99/
LOCATION:Mary Merrill Minneapolis Park & Recreation Board Headquarters Board Room\, 2117 West River Road N\, Minneapolis\, MN\, 55411\, United States
CATEGORIES:Public Meetings
GEO:45.0008334;-93.2780339
X-APPLE-STRUCTURED-LOCATION;VALUE=URI;X-ADDRESS=Mary Merrill Minneapolis Park & Recreation Board Headquarters Board Room 2117 West River Road N Minneapolis MN 55411 United States;X-APPLE-RADIUS=500;X-TITLE=2117 West River Road N:geo:-93.2780339,45.0008334
END:VEVENT
BEGIN:VEVENT
DTSTART;TZID=America/Chicago:20240320T170000
DTEND;TZID=America/Chicago:20240320T210000
DTSTAMP:20260420T054036
CREATED:20240110T200049Z
LAST-MODIFIED:20240110T200049Z
UID:70855-1710954000-1710968400@www.minneapolisparks.org
SUMMARY:Board Meeting
DESCRIPTION:Meeting Details
URL:https://www.minneapolisparks.org/event-calendar/board-meeting-100/
LOCATION:Mary Merrill Minneapolis Park & Recreation Board Headquarters Board Room\, 2117 West River Road N\, Minneapolis\, MN\, 55411\, United States
CATEGORIES:Public Meetings
GEO:45.0008334;-93.2780339
X-APPLE-STRUCTURED-LOCATION;VALUE=URI;X-ADDRESS=Mary Merrill Minneapolis Park & Recreation Board Headquarters Board Room 2117 West River Road N Minneapolis MN 55411 United States;X-APPLE-RADIUS=500;X-TITLE=2117 West River Road N:geo:-93.2780339,45.0008334
END:VEVENT
BEGIN:VEVENT
DTSTART;TZID=America/Chicago:20240321T170000
DTEND;TZID=America/Chicago:20240321T183000
DTSTAMP:20260420T054036
CREATED:20240301T161651Z
LAST-MODIFIED:20240301T161804Z
UID:71928-1711040400-1711045800@www.minneapolisparks.org
SUMMARY:Diamond Sports Facilities Study Technical Advisory Committee Meeting #9
DESCRIPTION:
URL:https://www.minneapolisparks.org/event-calendar/diamond-sports-facilities-study-technical-advisory-committee-meeting-9/
LOCATION:Mary Merrill Minneapolis Park & Recreation Board Headquarters\, 2117 West River Road N\, Minneapolis\, MN\, 55411\, United States
CATEGORIES:Public Meetings
GEO:45.0008334;-93.2780339
X-APPLE-STRUCTURED-LOCATION;VALUE=URI;X-ADDRESS=Mary Merrill Minneapolis Park & Recreation Board Headquarters 2117 West River Road N Minneapolis MN 55411 United States;X-APPLE-RADIUS=500;X-TITLE=2117 West River Road N:geo:-93.2780339,45.0008334
END:VEVENT
BEGIN:VEVENT
DTSTART;TZID=America/Chicago:20240403T170000
DTEND;TZID=America/Chicago:20240403T210000
DTSTAMP:20260420T054036
CREATED:20240110T200230Z
LAST-MODIFIED:20240110T200230Z
UID:70857-1712163600-1712178000@www.minneapolisparks.org
SUMMARY:Board Meeting
DESCRIPTION:Meeting Details
URL:https://www.minneapolisparks.org/event-calendar/board-meeting-101/
LOCATION:Mary Merrill Minneapolis Park & Recreation Board Headquarters Board Room\, 2117 West River Road N\, Minneapolis\, MN\, 55411\, United States
CATEGORIES:Public Meetings
GEO:45.0008334;-93.2780339
X-APPLE-STRUCTURED-LOCATION;VALUE=URI;X-ADDRESS=Mary Merrill Minneapolis Park & Recreation Board Headquarters Board Room 2117 West River Road N Minneapolis MN 55411 United States;X-APPLE-RADIUS=500;X-TITLE=2117 West River Road N:geo:-93.2780339,45.0008334
END:VEVENT
BEGIN:VEVENT
DTSTART;TZID=America/Chicago:20240424T170000
DTEND;TZID=America/Chicago:20240424T210000
DTSTAMP:20260420T054036
CREATED:20240110T202243Z
LAST-MODIFIED:20240110T202243Z
UID:70861-1713978000-1713992400@www.minneapolisparks.org
SUMMARY:Board Meeting
DESCRIPTION:Meeting Details
URL:https://www.minneapolisparks.org/event-calendar/board-meeting-103/
LOCATION:Mary Merrill Minneapolis Park & Recreation Board Headquarters\, Board Room\, 2117 West River Road N\, Minneapolis\, MN\, 55411\, United States
CATEGORIES:Public Meetings
GEO:45.0008334;-93.2780339
X-APPLE-STRUCTURED-LOCATION;VALUE=URI;X-ADDRESS=Mary Merrill Minneapolis Park & Recreation Board Headquarters Board Room 2117 West River Road N Minneapolis MN 55411 United States;X-APPLE-RADIUS=500;X-TITLE=2117 West River Road N:geo:-93.2780339,45.0008334
END:VEVENT
BEGIN:VEVENT
DTSTART;TZID=America/Chicago:20240501T170000
DTEND;TZID=America/Chicago:20240501T170000
DTSTAMP:20260420T054036
CREATED:20240426T190354Z
LAST-MODIFIED:20240426T190354Z
UID:73408-1714582800-1714582800@www.minneapolisparks.org
SUMMARY:Committee of the Whole Meeting
DESCRIPTION:View the Agenda
URL:https://www.minneapolisparks.org/event-calendar/committee-of-the-whole-meeting-17/
LOCATION:Northeast Recreation Center\, Minneapolis\, MN\, United States
CATEGORIES:Public Meetings
GEO:45.0039194;-93.2379239
END:VEVENT
BEGIN:VEVENT
DTSTART;TZID=America/Chicago:20240501T180000
DTEND;TZID=America/Chicago:20240501T200000
DTSTAMP:20260420T054036
CREATED:20240422T204742Z
LAST-MODIFIED:20240422T204812Z
UID:73314-1714586400-1714593600@www.minneapolisparks.org
SUMMARY:Central Gym Skatepark Community Open House #1
DESCRIPTION:Project Page
URL:https://www.minneapolisparks.org/event-calendar/central-gym-skatepark-community-open-house-1/
LOCATION:Central Gym\, Minneapolis\, MN\, United States
CATEGORIES:Public Meetings
GEO:44.9405123;-93.2702447
END:VEVENT
BEGIN:VEVENT
DTSTART;TZID=America/Chicago:20240507T170000
DTEND;TZID=America/Chicago:20240507T210000
DTSTAMP:20260420T054036
CREATED:20240110T203810Z
LAST-MODIFIED:20240110T203810Z
UID:70863-1715101200-1715115600@www.minneapolisparks.org
SUMMARY:Board Meeting
DESCRIPTION:Meeting Details
URL:https://www.minneapolisparks.org/event-calendar/board-meeting-104/
LOCATION:Mary Merrill Minneapolis Park & Recreation Board Headquarters Board Room\, 2117 West River Road N\, Minneapolis\, MN\, 55411\, United States
CATEGORIES:Public Meetings
GEO:45.0008334;-93.2780339
X-APPLE-STRUCTURED-LOCATION;VALUE=URI;X-ADDRESS=Mary Merrill Minneapolis Park & Recreation Board Headquarters Board Room 2117 West River Road N Minneapolis MN 55411 United States;X-APPLE-RADIUS=500;X-TITLE=2117 West River Road N:geo:-93.2780339,45.0008334
END:VEVENT
BEGIN:VEVENT
DTSTART;TZID=America/Chicago:20240522T170000
DTEND;TZID=America/Chicago:20240522T210000
DTSTAMP:20260420T054036
CREATED:20240110T204025Z
LAST-MODIFIED:20240110T204025Z
UID:70865-1716397200-1716411600@www.minneapolisparks.org
SUMMARY:Board Meeting
DESCRIPTION:Meeting Details
URL:https://www.minneapolisparks.org/event-calendar/board-meeting-105/
LOCATION:Mary Merrill Minneapolis Park & Recreation Board Headquarters Board Room\, 2117 West River Road N\, Minneapolis\, MN\, 55411\, United States
CATEGORIES:Public Meetings
GEO:45.0008334;-93.2780339
X-APPLE-STRUCTURED-LOCATION;VALUE=URI;X-ADDRESS=Mary Merrill Minneapolis Park & Recreation Board Headquarters Board Room 2117 West River Road N Minneapolis MN 55411 United States;X-APPLE-RADIUS=500;X-TITLE=2117 West River Road N:geo:-93.2780339,45.0008334
END:VEVENT
BEGIN:VEVENT
DTSTART;TZID=America/Chicago:20240523T170000
DTEND;TZID=America/Chicago:20240523T190000
DTSTAMP:20260420T054036
CREATED:20240516T191357Z
LAST-MODIFIED:20240516T191357Z
UID:73876-1716483600-1716490800@www.minneapolisparks.org
SUMMARY:Open House- Audubon Park Rec Center
DESCRIPTION:The upcoming improvements for Audubon Park are the first phase of implementation projects from the Audubon Master Plan\, which was developed with community input between 2015 -2019. Now we are reaching out for feedback to create a more detailed concept plan for the playground\, courts\, and other park-wide improvements recommended in the master plan.
URL:https://www.minneapolisparks.org/event-calendar/open-house-audubon-park-rec-center/
LOCATION:Audubon Recreation Center\, 1320 29th Ave NE\, Minneapolis\, MN\, 55418\, United States
CATEGORIES:Public Meetings
GEO:45.0200505;-93.2397463
X-APPLE-STRUCTURED-LOCATION;VALUE=URI;X-ADDRESS=Audubon Recreation Center 1320 29th Ave NE Minneapolis MN 55418 United States;X-APPLE-RADIUS=500;X-TITLE=1320 29th Ave NE:geo:-93.2397463,45.0200505
END:VEVENT
BEGIN:VEVENT
DTSTART;TZID=America/Chicago:20240605T170000
DTEND;TZID=America/Chicago:20240605T210000
DTSTAMP:20260420T054036
CREATED:20240110T210139Z
LAST-MODIFIED:20240110T210139Z
UID:70867-1717606800-1717621200@www.minneapolisparks.org
SUMMARY:Board Meeting
DESCRIPTION:Meeting Details
URL:https://www.minneapolisparks.org/event-calendar/board-meeting-106/
LOCATION:Mary Merrill Minneapolis Park & Recreation Board Headquarters\, Board Room\, 2117 West River Road N\, Minneapolis\, MN\, 55411\, United States
CATEGORIES:Public Meetings
GEO:45.0008334;-93.2780339
X-APPLE-STRUCTURED-LOCATION;VALUE=URI;X-ADDRESS=Mary Merrill Minneapolis Park & Recreation Board Headquarters Board Room 2117 West River Road N Minneapolis MN 55411 United States;X-APPLE-RADIUS=500;X-TITLE=2117 West River Road N:geo:-93.2780339,45.0008334
END:VEVENT
END:VCALENDAR