BEGIN:VCALENDAR
VERSION:2.0
PRODID:-//Minneapolis Park &amp; Recreation Board - ECPv6.15.20//NONSGML v1.0//EN
CALSCALE:GREGORIAN
METHOD:PUBLISH
X-WR-CALNAME:Minneapolis Park &amp; Recreation Board
X-ORIGINAL-URL:https://www.minneapolisparks.org
X-WR-CALDESC:Events for Minneapolis Park &amp; Recreation Board
REFRESH-INTERVAL;VALUE=DURATION:PT1H
X-Robots-Tag:noindex
X-PUBLISHED-TTL:PT1H
BEGIN:VTIMEZONE
TZID:America/Chicago
BEGIN:DAYLIGHT
TZOFFSETFROM:-0600
TZOFFSETTO:-0500
TZNAME:CDT
DTSTART:20210314T080000
END:DAYLIGHT
BEGIN:STANDARD
TZOFFSETFROM:-0500
TZOFFSETTO:-0600
TZNAME:CST
DTSTART:20211107T070000
END:STANDARD
BEGIN:DAYLIGHT
TZOFFSETFROM:-0600
TZOFFSETTO:-0500
TZNAME:CDT
DTSTART:20220313T080000
END:DAYLIGHT
BEGIN:STANDARD
TZOFFSETFROM:-0500
TZOFFSETTO:-0600
TZNAME:CST
DTSTART:20221106T070000
END:STANDARD
BEGIN:DAYLIGHT
TZOFFSETFROM:-0600
TZOFFSETTO:-0500
TZNAME:CDT
DTSTART:20230312T080000
END:DAYLIGHT
BEGIN:STANDARD
TZOFFSETFROM:-0500
TZOFFSETTO:-0600
TZNAME:CST
DTSTART:20231105T070000
END:STANDARD
BEGIN:DAYLIGHT
TZOFFSETFROM:-0600
TZOFFSETTO:-0500
TZNAME:CDT
DTSTART:20240310T080000
END:DAYLIGHT
BEGIN:STANDARD
TZOFFSETFROM:-0500
TZOFFSETTO:-0600
TZNAME:CST
DTSTART:20241103T070000
END:STANDARD
END:VTIMEZONE
BEGIN:VEVENT
DTSTART;TZID=America/Chicago:20220712T180000
DTEND;TZID=America/Chicago:20220712T200000
DTSTAMP:20260420T024838
CREATED:20220606T173254Z
LAST-MODIFIED:20220606T173254Z
UID:58474-1657648800-1657656000@www.minneapolisparks.org
SUMMARY:Water Quality Community Advisory Committee (CAC) Subcommittee Meeting #4\, Cedar-Isles Master Plan
DESCRIPTION:Water Quality experts with EOR and the design team from Ten x Ten will present their Water Quality findings developed from the CAC Water Quality Goals and how they informed the Preferred Park Concept. CAC discussion to follow. 15 minutes will be reserved for public comment at the end. \nVirtual on Zoom (https://us06web.zoom.us/j/84502876650)
URL:https://www.minneapolisparks.org/event-calendar/water-quality-community-advisory-committee-cac-subcommittee-meeting-4-cedar-isles-master-plan/
LOCATION:Virtual Program
CATEGORIES:Events- MPRB,Public Meetings
END:VEVENT
BEGIN:VEVENT
DTSTART;TZID=America/Chicago:20220713T190000
DTEND;TZID=America/Chicago:20220713T210000
DTSTAMP:20260420T024838
CREATED:20220629T160852Z
LAST-MODIFIED:20220629T160852Z
UID:59167-1657738800-1657746000@www.minneapolisparks.org
SUMMARY:Pop-Up Engagement for 28th St Tot Lot Park Project
DESCRIPTION:
URL:https://www.minneapolisparks.org/event-calendar/pop-up-engagement-for-28th-st-tot-lot-park-project/
LOCATION:Whittier Park\, 425 W 26th St\, Minneapolis\, MN\, 55404\, United States
CATEGORIES:Public Meetings
GEO:44.9551265;-93.2845291
X-APPLE-STRUCTURED-LOCATION;VALUE=URI;X-ADDRESS=Whittier Park 425 W 26th St Minneapolis MN 55404 United States;X-APPLE-RADIUS=500;X-TITLE=425 W 26th St:geo:-93.2845291,44.9551265
END:VEVENT
BEGIN:VEVENT
DTSTART;TZID=America/Chicago:20220714T163000
DTEND;TZID=America/Chicago:20220714T183000
DTSTAMP:20260420T024838
CREATED:20220606T173109Z
LAST-MODIFIED:20220701T150421Z
UID:58472-1657816200-1657823400@www.minneapolisparks.org
SUMMARY:Preferred Park Concept Open House (In Person) for Cedar-Isles Master Plan
DESCRIPTION:Discuss the Preferred Park Concept with MPRB staff. No formal presentation\, this event allows for informal discussion and Q&A.
URL:https://www.minneapolisparks.org/event-calendar/preferred-park-concept-open-house-in-person-for-cedar-isles-master-plan-2/
LOCATION:Cedar Lake South Beach\, 3500 Cedar Lake Parkway\, Minneapolis\, MN\, 55416\, United States
CATEGORIES:Public Meetings
GEO:44.9537231;-93.3204519
X-APPLE-STRUCTURED-LOCATION;VALUE=URI;X-ADDRESS=Cedar Lake South Beach 3500 Cedar Lake Parkway Minneapolis MN 55416 United States;X-APPLE-RADIUS=500;X-TITLE=3500 Cedar Lake Parkway:geo:-93.3204519,44.9537231
END:VEVENT
BEGIN:VEVENT
DTSTART;TZID=America/Chicago:20220716T090000
DTEND;TZID=America/Chicago:20220716T110000
DTSTAMP:20260420T024838
CREATED:20220606T172955Z
LAST-MODIFIED:20220701T150515Z
UID:58470-1657962000-1657969200@www.minneapolisparks.org
SUMMARY:Preferred Park Concept Open House (In Person) for Cedar-Isles Master Plan
DESCRIPTION:Discuss the Preferred Park Concept with MPRB staff. No formal presentation\, this event allows for informal discussion and Q&A. \nMeeting location is near intersection of Lake of the Isles Parkway and Euclid Place.
URL:https://www.minneapolisparks.org/event-calendar/preferred-park-concept-open-house-in-person-for-cedar-isles-master-plan/
LOCATION:Lake of the Isles\, Minneapolis\, MN\, United States
CATEGORIES:Public Meetings
GEO:44.9583577;-93.3032469
END:VEVENT
BEGIN:VEVENT
DTSTART;TZID=America/Chicago:20220719T183000
DTEND;TZID=America/Chicago:20220719T200000
DTSTAMP:20260420T024838
CREATED:20220629T160953Z
LAST-MODIFIED:20220629T160953Z
UID:59169-1658255400-1658260800@www.minneapolisparks.org
SUMMARY:Whittier Alliance Housing & Land Use Committee Meeting
DESCRIPTION:Location: Provision Community Restaurant
URL:https://www.minneapolisparks.org/event-calendar/whittier-alliance-housing-land-use-committee-meeting/
LOCATION:Minneapolis\, MN\, 55401\, United States
CATEGORIES:Public Meetings
GEO:44.9836543;-93.2693572
END:VEVENT
BEGIN:VEVENT
DTSTART;TZID=America/Chicago:20220721T180000
DTEND;TZID=America/Chicago:20220721T200000
DTSTAMP:20260420T024838
CREATED:20220606T173728Z
LAST-MODIFIED:20220606T173728Z
UID:58478-1658426400-1658433600@www.minneapolisparks.org
SUMMARY:Water Quality Community Advisory Committee (CAC) Subcommittee Meeting #5\, Cedar-Isles Master Plan
DESCRIPTION:The CAC subcommittee will continue their conversation from Subcommittee Meeting #4 and finalize the draft of the Water Quality Goals. \nVirtual on Zoom (https://us06web.zoom.us/j/89370873055)
URL:https://www.minneapolisparks.org/event-calendar/water-quality-community-advisory-committee-cac-subcommittee-meeting-5-cedar-isles-master-plan/
LOCATION:Virtual Program
CATEGORIES:Events- MPRB,Public Meetings
END:VEVENT
BEGIN:VEVENT
DTSTART;TZID=America/Chicago:20220728T093000
DTEND;TZID=America/Chicago:20220728T113000
DTSTAMP:20260420T024838
CREATED:20220720T203434Z
LAST-MODIFIED:20220720T203434Z
UID:59817-1659000600-1659007800@www.minneapolisparks.org
SUMMARY:Help Plan Your Park: Open House for Powderhorn Park Improvements!
DESCRIPTION:This is a drop in “open house” to share feedback and help us plan for improvements at Powderhorn Park. The Minneapolis Park and Recreation Board will gather feedback throughout the summer\, and we need to hear from you what projects should be priorities! An online survey is also available here if you cannot attend any of the open houses. For more information\, please review the Park Master Plan & check out the project page background and timeline. We will be outside unless there is rain. Please see the project web page for updates due to inclement weather. If you attended any of the other open houses earlier in June and July\, the information at this open house will be the same. All are welcome!
URL:https://www.minneapolisparks.org/event-calendar/help-plan-your-park-open-house-for-powderhorn-park-improvements-3/
LOCATION:Powderhorn Recreation Center\, Minneapolis\, MN\, United States
CATEGORIES:Public Meetings
GEO:44.9413282;-93.2547875
END:VEVENT
BEGIN:VEVENT
DTSTART;TZID=America/Chicago:20220728T173000
DTEND;TZID=America/Chicago:20220728T210000
DTSTAMP:20260420T024838
CREATED:20220705T145558Z
LAST-MODIFIED:20220705T145558Z
UID:59442-1659029400-1659042000@www.minneapolisparks.org
SUMMARY:Cedar-Isles Master Plan Community Advisory Committee (CAC) Meeting #12
DESCRIPTION:The Community Advisory Committee (CAC) will be discussing the preferred park concept and working towards a final recommendation on the preferred park concept. All are welcome to attend.  Networking time available from 5:30-6:00 before the meeting begins. Light refreshments will be provided. \nThe last 15 minutes will be reserved for public comment time.
URL:https://www.minneapolisparks.org/event-calendar/cedar-isles-master-plan-community-advisory-committee-cac-meeting-12/
LOCATION:Lake of the Isles Lutheran Church\, 2020 W Lake of the Isles Parkway\, Minneapolis\, MN\, 55405\, United States
CATEGORIES:Public Meetings
END:VEVENT
BEGIN:VEVENT
DTSTART;TZID=America/Chicago:20220802T170000
DTEND;TZID=America/Chicago:20220802T170000
DTSTAMP:20260420T024838
CREATED:20220802T200133Z
LAST-MODIFIED:20220802T215439Z
UID:59990-1659459600-1659459600@www.minneapolisparks.org
SUMMARY:Committee of the Whole
DESCRIPTION:View agenda 
URL:https://www.minneapolisparks.org/event-calendar/committee-of-the-whole-10/
LOCATION:Mary Merrill Minneapolis Park & Recreation Board Headquarters\, 2117 West River Road N\, Minneapolis\, MN\, 55411\, United States
CATEGORIES:Public Meetings
GEO:45.0008334;-93.2780339
X-APPLE-STRUCTURED-LOCATION;VALUE=URI;X-ADDRESS=Mary Merrill Minneapolis Park & Recreation Board Headquarters 2117 West River Road N Minneapolis MN 55411 United States;X-APPLE-RADIUS=500;X-TITLE=2117 West River Road N:geo:-93.2780339,45.0008334
END:VEVENT
BEGIN:VEVENT
DTSTART;TZID=America/Chicago:20220805T170000
DTEND;TZID=America/Chicago:20220805T190000
DTSTAMP:20260420T024838
CREATED:20220720T163129Z
LAST-MODIFIED:20220720T163129Z
UID:59785-1659718800-1659726000@www.minneapolisparks.org
SUMMARY:Help Plan Your Park: Open House for Powderhorn Park Improvements!
DESCRIPTION:This is a drop in “open house” to share feedback and help us plan for improvements at Powderhorn Park. The Minneapolis Park and Recreation Board will gather feedback throughout the summer\, and we need to hear from you what projects should be priorities! An online survey is also available here if you cannot attend any of the open houses. For more information\, please review the Park Master Plan & check out the project page background and timeline. We will be outside unless there is rain. Please see the project web page for updates due to inclement weather. If you attended any of the other open houses earlier in June and July\, the information at this open house will be the same. All are welcome!
URL:https://www.minneapolisparks.org/event-calendar/help-plan-your-park-open-house-for-powderhorn-park-improvements-2/
LOCATION:Northwest corner of Powderhorn Park E 32nd St. & 10th Ave. S\, E 32nd St. & 10th Ave. S\, Minneapolis\, 55407
CATEGORIES:Public Meetings
END:VEVENT
BEGIN:VEVENT
DTSTART;TZID=America/Chicago:20220810T180000
DTEND;TZID=America/Chicago:20220810T200000
DTSTAMP:20260420T024838
CREATED:20220804T141012Z
LAST-MODIFIED:20220804T141012Z
UID:60045-1660154400-1660161600@www.minneapolisparks.org
SUMMARY:Circulation CAC Subcommittee Meeting #1\, Cedar-Isles Master Plan
DESCRIPTION:A subcommittee of CAC members will meet to discuss circulation topics that have continued to surface within the community engagement feedback and work to bring final recommendations back to the final CAC meeting for full CAC adoption. Public comment time will be provided at the meeting. The meeting will be held via Zoom.
URL:https://www.minneapolisparks.org/event-calendar/circulation-cac-subcommittee-meeting-1-cedar-isles-master-plan/
LOCATION:Zoom\, Minneapolis\, MN\, 55401\, United States
CATEGORIES:Public Meetings
GEO:44.9836543;-93.2693572
END:VEVENT
BEGIN:VEVENT
DTSTART;TZID=America/Chicago:20220817T170000
DTEND;TZID=America/Chicago:20220817T170000
DTSTAMP:20260420T024838
CREATED:20220125T144459Z
LAST-MODIFIED:20220125T215734Z
UID:54603-1660755600-1660755600@www.minneapolisparks.org
SUMMARY:Board Meeting
DESCRIPTION:
URL:https://www.minneapolisparks.org/event-calendar/board-meeting-86-2022-08-17/
LOCATION:Mary Merrill Minneapolis Park & Recreation Board Headquarters\, 2117 West River Road N\, Minneapolis\, MN\, 55411\, United States
CATEGORIES:Public Meetings
GEO:45.0008334;-93.2780339
X-APPLE-STRUCTURED-LOCATION;VALUE=URI;X-ADDRESS=Mary Merrill Minneapolis Park & Recreation Board Headquarters 2117 West River Road N Minneapolis MN 55411 United States;X-APPLE-RADIUS=500;X-TITLE=2117 West River Road N:geo:-93.2780339,45.0008334
END:VEVENT
BEGIN:VEVENT
DTSTART;TZID=America/Chicago:20220818T170000
DTEND;TZID=America/Chicago:20220818T180000
DTSTAMP:20260420T024838
CREATED:20220816T164052Z
LAST-MODIFIED:20220816T164052Z
UID:60209-1660842000-1660845600@www.minneapolisparks.org
SUMMARY:Committee of the whole - Joint meeting Mia and MPRB
DESCRIPTION:Meeting details
URL:https://www.minneapolisparks.org/event-calendar/committee-of-the-whole-joint-meeting-mia-and-mprb/
LOCATION:MIA – Wells Fargo Community Room\, First Floor\, 2400 Third Avenue South\, Minneapolis\, MN\, 55404\, United States
CATEGORIES:Public Meetings
END:VEVENT
BEGIN:VEVENT
DTSTART;TZID=America/Chicago:20220818T180000
DTEND;TZID=America/Chicago:20220818T200000
DTSTAMP:20260420T024838
CREATED:20220804T142432Z
LAST-MODIFIED:20220804T142432Z
UID:60050-1660845600-1660852800@www.minneapolisparks.org
SUMMARY:Circulation CAC Subcommittee Meeting #2\, Cedar-Isles Master Plan
DESCRIPTION:If the subcommittee is not able to finish their work in one meeting\, they will continue their discussion and work to bring final Circulation recommendations back to the final CAC meeting for full CAC adoption. Public comment time will be provided at the meeting. The meeting will be held on Zoom.
URL:https://www.minneapolisparks.org/event-calendar/circulation-cac-subcommittee-meeting-2-cedar-isles-master-plan/
LOCATION:Zoom\, Minneapolis\, MN\, 55401\, United States
CATEGORIES:Public Meetings
GEO:44.9836543;-93.2693572
END:VEVENT
BEGIN:VEVENT
DTSTART;TZID=America/Chicago:20220823T180000
DTEND;TZID=America/Chicago:20220823T200000
DTSTAMP:20260420T024838
CREATED:20220817T153059Z
LAST-MODIFIED:20220817T153059Z
UID:60235-1661277600-1661284800@www.minneapolisparks.org
SUMMARY:Cedar-Isles master Plan Community Advisory Committee (CAC) Meeting #13
DESCRIPTION:The CAC will discuss the preferred park concept and work towards a final recommendation on the preferred park concept. All are welcome to attend. Light refreshments will be provided. The majority of the meeting will be for CAC discussion\, with some public comment time incorporated. Networking time available from 5:30-6 pm before the meeting begins.
URL:https://www.minneapolisparks.org/event-calendar/cedar-isles-master-plan-community-advisory-committee-cac-meeting-13/
LOCATION:Mary Merrill Minneapolis Park & Recreation Board Headquarters Board Room\, 2117 West River Road N\, Minneapolis\, MN\, 55411\, United States
CATEGORIES:Public Meetings
GEO:45.0008334;-93.2780339
X-APPLE-STRUCTURED-LOCATION;VALUE=URI;X-ADDRESS=Mary Merrill Minneapolis Park & Recreation Board Headquarters Board Room 2117 West River Road N Minneapolis MN 55411 United States;X-APPLE-RADIUS=500;X-TITLE=2117 West River Road N:geo:-93.2780339,45.0008334
END:VEVENT
BEGIN:VEVENT
DTSTART;TZID=America/Chicago:20220907T170000
DTEND;TZID=America/Chicago:20220907T170000
DTSTAMP:20260420T024838
CREATED:20220125T144459Z
LAST-MODIFIED:20220125T144738Z
UID:54605-1662570000-1662570000@www.minneapolisparks.org
SUMMARY:Board Meeting
DESCRIPTION:
URL:https://www.minneapolisparks.org/event-calendar/board-meeting-86-2022-09-14/
LOCATION:Mary Merrill Minneapolis Park & Recreation Board Headquarters\, 2117 West River Road N\, Minneapolis\, MN\, 55411\, United States
CATEGORIES:Public Meetings
GEO:45.0008334;-93.2780339
X-APPLE-STRUCTURED-LOCATION;VALUE=URI;X-ADDRESS=Mary Merrill Minneapolis Park & Recreation Board Headquarters 2117 West River Road N Minneapolis MN 55411 United States;X-APPLE-RADIUS=500;X-TITLE=2117 West River Road N:geo:-93.2780339,45.0008334
END:VEVENT
BEGIN:VEVENT
DTSTART;VALUE=DATE:20220920
DTEND;VALUE=DATE:20220923
DTSTAMP:20260420T024838
CREATED:20220125T160034Z
LAST-MODIFIED:20220125T151419Z
UID:41276-1663632000-1663891199@www.minneapolisparks.org
SUMMARY:NRPA Congress
DESCRIPTION:
URL:https://www.minneapolisparks.org/event-calendar/nrpa-congress/
LOCATION:Mary Merrill Minneapolis Park & Recreation Board Headquarters\, Board Room\, 2117 West River Road N\, Minneapolis\, MN\, 55411\, United States
CATEGORIES:Public Meetings
GEO:45.0008334;-93.2780339
X-APPLE-STRUCTURED-LOCATION;VALUE=URI;X-ADDRESS=Mary Merrill Minneapolis Park & Recreation Board Headquarters Board Room 2117 West River Road N Minneapolis MN 55411 United States;X-APPLE-RADIUS=500;X-TITLE=2117 West River Road N:geo:-93.2780339,45.0008334
END:VEVENT
BEGIN:VEVENT
DTSTART;TZID=America/Chicago:20220928T170000
DTEND;TZID=America/Chicago:20220928T170000
DTSTAMP:20260420T024838
CREATED:20220125T144459Z
LAST-MODIFIED:20220125T215632Z
UID:54606-1664384400-1664384400@www.minneapolisparks.org
SUMMARY:Board Meeting
DESCRIPTION:
URL:https://www.minneapolisparks.org/event-calendar/board-meeting-86-2022-09-28/
LOCATION:Mary Merrill Minneapolis Park & Recreation Board Headquarters\, 2117 West River Road N\, Minneapolis\, MN\, 55411\, United States
CATEGORIES:Public Meetings
GEO:45.0008334;-93.2780339
X-APPLE-STRUCTURED-LOCATION;VALUE=URI;X-ADDRESS=Mary Merrill Minneapolis Park & Recreation Board Headquarters 2117 West River Road N Minneapolis MN 55411 United States;X-APPLE-RADIUS=500;X-TITLE=2117 West River Road N:geo:-93.2780339,45.0008334
END:VEVENT
BEGIN:VEVENT
DTSTART;TZID=America/Chicago:20221003T180000
DTEND;TZID=America/Chicago:20221003T200000
DTSTAMP:20260420T024838
CREATED:20220927T193000Z
LAST-MODIFIED:20220927T193000Z
UID:60701-1664820000-1664827200@www.minneapolisparks.org
SUMMARY:Meeting #1 - Draft Concept Plan Powderhorn Park Improvements
DESCRIPTION:Agenda for meeting #1 will be a mix of a formal style meeting and open house with a presentation by design team from LHB & Minneapolis Park and Recreation Board (MPRB). 6-6:30PM Welcome 6:30-7PM Presentation of draft concepts 7-8PM Open house/feedback on concepts. Dinner will be provided. MPRB Naturalist will be on-site with fun activities for kids!
URL:https://www.minneapolisparks.org/event-calendar/meeting-1-draft-concept-plan-powderhorn-park-improvements/
LOCATION:Powderhorn Recreation Center\, Minneapolis\, MN\, United States
CATEGORIES:Public Meetings
GEO:44.9413282;-93.2547875
END:VEVENT
BEGIN:VEVENT
DTSTART;TZID=America/Chicago:20221004T100000
DTEND;TZID=America/Chicago:20221004T120000
DTSTAMP:20260420T024838
CREATED:20220927T194211Z
LAST-MODIFIED:20220927T194211Z
UID:60705-1664877600-1664884800@www.minneapolisparks.org
SUMMARY:Meeting #2 - Draft Concept Plan Powderhorn Park Improvements
DESCRIPTION:Agenda for meeting #2 will be more of an informal pop-up style meeting where you can interact with the design team from LHB & Minneapolis Park and Recreation Board (MPRB)\, ask questions and provide feedback on the draft concept plans. Light refreshments will be provided. MPRB naturalist will be on-site with fun activities for kids! This meeting will be outside the recreation center if weather permits. \nCan’t attend the in person meetings? The Draft Concept’s and presentation will be available online October 6th. Please check the project webpage to learn more & share your feedback.
URL:https://www.minneapolisparks.org/event-calendar/meeting-2-draft-concept-plan-powderhorn-park-improvements/
LOCATION:Powderhorn Recreation Center\, Minneapolis\, MN\, United States
CATEGORIES:Public Meetings
GEO:44.9413282;-93.2547875
END:VEVENT
BEGIN:VEVENT
DTSTART;TZID=America/Chicago:20221012T170000
DTEND;TZID=America/Chicago:20221012T170000
DTSTAMP:20260420T024838
CREATED:20220125T144459Z
LAST-MODIFIED:20220125T215702Z
UID:54607-1665594000-1665594000@www.minneapolisparks.org
SUMMARY:Board Meeting
DESCRIPTION:
URL:https://www.minneapolisparks.org/event-calendar/board-meeting-86-2022-10-12/
LOCATION:Mary Merrill Minneapolis Park & Recreation Board Headquarters\, 2117 West River Road N\, Minneapolis\, MN\, 55411\, United States
CATEGORIES:Public Meetings
GEO:45.0008334;-93.2780339
X-APPLE-STRUCTURED-LOCATION;VALUE=URI;X-ADDRESS=Mary Merrill Minneapolis Park & Recreation Board Headquarters 2117 West River Road N Minneapolis MN 55411 United States;X-APPLE-RADIUS=500;X-TITLE=2117 West River Road N:geo:-93.2780339,45.0008334
END:VEVENT
BEGIN:VEVENT
DTSTART;TZID=America/Chicago:20221026T170000
DTEND;TZID=America/Chicago:20221026T170000
DTSTAMP:20260420T024838
CREATED:20220125T144459Z
LAST-MODIFIED:20220125T215556Z
UID:54608-1666803600-1666803600@www.minneapolisparks.org
SUMMARY:Board Meeting
DESCRIPTION:
URL:https://www.minneapolisparks.org/event-calendar/board-meeting-86-2022-10-26/
LOCATION:Mary Merrill Minneapolis Park & Recreation Board Headquarters\, 2117 West River Road N\, Minneapolis\, MN\, 55411\, United States
CATEGORIES:Public Meetings
GEO:45.0008334;-93.2780339
X-APPLE-STRUCTURED-LOCATION;VALUE=URI;X-ADDRESS=Mary Merrill Minneapolis Park & Recreation Board Headquarters 2117 West River Road N Minneapolis MN 55411 United States;X-APPLE-RADIUS=500;X-TITLE=2117 West River Road N:geo:-93.2780339,45.0008334
END:VEVENT
BEGIN:VEVENT
DTSTART;TZID=America/Chicago:20221102T170000
DTEND;TZID=America/Chicago:20221102T170000
DTSTAMP:20260420T024838
CREATED:20220125T144459Z
LAST-MODIFIED:20220125T144558Z
UID:54609-1667408400-1667408400@www.minneapolisparks.org
SUMMARY:Board Meeting
DESCRIPTION:
URL:https://www.minneapolisparks.org/event-calendar/board-meeting-86-2022-11-09/
LOCATION:Mary Merrill Minneapolis Park & Recreation Board Headquarters\, 2117 West River Road N\, Minneapolis\, MN\, 55411\, United States
CATEGORIES:Public Meetings
GEO:45.0008334;-93.2780339
X-APPLE-STRUCTURED-LOCATION;VALUE=URI;X-ADDRESS=Mary Merrill Minneapolis Park & Recreation Board Headquarters 2117 West River Road N Minneapolis MN 55411 United States;X-APPLE-RADIUS=500;X-TITLE=2117 West River Road N:geo:-93.2780339,45.0008334
END:VEVENT
BEGIN:VEVENT
DTSTART;TZID=America/Chicago:20221122T180000
DTEND;TZID=America/Chicago:20221122T200000
DTSTAMP:20260420T024838
CREATED:20221107T203502Z
LAST-MODIFIED:20221107T203502Z
UID:61297-1669140000-1669147200@www.minneapolisparks.org
SUMMARY:Riverside Park Open House
DESCRIPTION:Riverside Park Improvements
URL:https://www.minneapolisparks.org/event-calendar/riverside-park-open-house/
LOCATION:2910 E. Franklin Ave.\, 2910 E. Franklin Ave.\, Minneapolis\, 55406
CATEGORIES:Public Meetings
END:VEVENT
BEGIN:VEVENT
DTSTART;TZID=America/Chicago:20221130T170000
DTEND;TZID=America/Chicago:20221130T170000
DTSTAMP:20260420T024838
CREATED:20220125T144459Z
LAST-MODIFIED:20220926T181857Z
UID:54610-1669827600-1669827600@www.minneapolisparks.org
SUMMARY:Board Meeting
DESCRIPTION:
URL:https://www.minneapolisparks.org/event-calendar/board-meeting-86-2022-11-23/
LOCATION:Mary Merrill Minneapolis Park & Recreation Board Headquarters\, 2117 West River Road N\, Minneapolis\, MN\, 55411\, United States
CATEGORIES:Public Meetings
GEO:45.0008334;-93.2780339
X-APPLE-STRUCTURED-LOCATION;VALUE=URI;X-ADDRESS=Mary Merrill Minneapolis Park & Recreation Board Headquarters 2117 West River Road N Minneapolis MN 55411 United States;X-APPLE-RADIUS=500;X-TITLE=2117 West River Road N:geo:-93.2780339,45.0008334
END:VEVENT
BEGIN:VEVENT
DTSTART;TZID=America/Chicago:20221130T183000
DTEND;TZID=America/Chicago:20221130T183000
DTSTAMP:20260420T024838
CREATED:20221121T163622Z
LAST-MODIFIED:20221121T163622Z
UID:61442-1669833000-1669833000@www.minneapolisparks.org
SUMMARY:Public Hearing
DESCRIPTION:Public Hearing on November 30 at 6:30 pm on the final concept plan for improvements at Corcoran Park and Master Plan amendment.
URL:https://www.minneapolisparks.org/event-calendar/public-hearing-2/
LOCATION:Mary Merrill Minneapolis Park & Recreation Board Headquarters\, 2117 West River Road N\, Minneapolis\, MN\, 55411\, United States
CATEGORIES:Public Meetings
GEO:45.0008334;-93.2780339
X-APPLE-STRUCTURED-LOCATION;VALUE=URI;X-ADDRESS=Mary Merrill Minneapolis Park & Recreation Board Headquarters 2117 West River Road N Minneapolis MN 55411 United States;X-APPLE-RADIUS=500;X-TITLE=2117 West River Road N:geo:-93.2780339,45.0008334
END:VEVENT
BEGIN:VEVENT
DTSTART;TZID=America/Chicago:20221206T180000
DTEND;TZID=America/Chicago:20221206T180000
DTSTAMP:20260420T024838
CREATED:20221025T212341Z
LAST-MODIFIED:20221025T212341Z
UID:61088-1670349600-1670349600@www.minneapolisparks.org
SUMMARY:Board Meeting
DESCRIPTION:Proposed 2023 budget and tax levy
URL:https://www.minneapolisparks.org/event-calendar/board-meeting-87/
LOCATION:City Hall\, Council Chambers Room 317\, 350 South 5th Street\, Minneapolis\, MN\, 55415\, United States
CATEGORIES:Public Meetings
GEO:44.9772839;-93.2652365
X-APPLE-STRUCTURED-LOCATION;VALUE=URI;X-ADDRESS=City Hall Council Chambers Room 317 350 South 5th Street Minneapolis MN 55415 United States;X-APPLE-RADIUS=500;X-TITLE=350 South 5th Street:geo:-93.2652365,44.9772839
END:VEVENT
BEGIN:VEVENT
DTSTART;TZID=America/Chicago:20221207T170000
DTEND;TZID=America/Chicago:20221207T170000
DTSTAMP:20260420T024838
CREATED:20220125T144459Z
LAST-MODIFIED:20220125T203025Z
UID:54611-1670432400-1670432400@www.minneapolisparks.org
SUMMARY:Board Meeting
DESCRIPTION:
URL:https://www.minneapolisparks.org/event-calendar/board-meeting-86-2022-12-07/
LOCATION:Mary Merrill Minneapolis Park & Recreation Board Headquarters\, 2117 West River Road N\, Minneapolis\, MN\, 55411\, United States
CATEGORIES:Public Meetings
GEO:45.0008334;-93.2780339
X-APPLE-STRUCTURED-LOCATION;VALUE=URI;X-ADDRESS=Mary Merrill Minneapolis Park & Recreation Board Headquarters 2117 West River Road N Minneapolis MN 55411 United States;X-APPLE-RADIUS=500;X-TITLE=2117 West River Road N:geo:-93.2780339,45.0008334
END:VEVENT
BEGIN:VEVENT
DTSTART;TZID=America/Chicago:20221207T183000
DTEND;TZID=America/Chicago:20221207T183000
DTSTAMP:20260420T024838
CREATED:20221116T152345Z
LAST-MODIFIED:20221116T152345Z
UID:61392-1670437800-1670437800@www.minneapolisparks.org
SUMMARY:Public Hearing for Concept Plan Approval for Powderhorn Park Improvements
DESCRIPTION:A public hearing will be held on Wednesday\, December 7\, 2022\, at 6:30pm in the Board Room of the Mary Merrill Minneapolis Park and Recreation Board Headquarters\, 2117 West River Road North\, to consider approval of the concept plan for Improvements at Powderhorn Park. The concept plan is available for review here.
URL:https://www.minneapolisparks.org/event-calendar/public-hearing-for-concept-plan-approval-for-powderhorn-park-improvements/
LOCATION:Mary Merrill Minneapolis Park & Recreation Board Headquarters\, 2117 West River Road N\, Minneapolis\, MN\, 55411\, United States
CATEGORIES:Public Meetings
GEO:45.0008334;-93.2780339
X-APPLE-STRUCTURED-LOCATION;VALUE=URI;X-ADDRESS=Mary Merrill Minneapolis Park & Recreation Board Headquarters 2117 West River Road N Minneapolis MN 55411 United States;X-APPLE-RADIUS=500;X-TITLE=2117 West River Road N:geo:-93.2780339,45.0008334
END:VEVENT
BEGIN:VEVENT
DTSTART;TZID=America/Chicago:20230103T170000
DTEND;TZID=America/Chicago:20230103T170000
DTSTAMP:20260420T024838
CREATED:20230104T152750Z
LAST-MODIFIED:20230104T152750Z
UID:62563-1672765200-1672765200@www.minneapolisparks.org
SUMMARY:Annual Meeting
DESCRIPTION:Meeting details
URL:https://www.minneapolisparks.org/event-calendar/annual-meeting-2/
LOCATION:Mary Merrill Minneapolis Park & Recreation Board Headquarters\, 2117 West River Road N\, Minneapolis\, MN\, 55411\, United States
CATEGORIES:Public Meetings
GEO:45.0008334;-93.2780339
X-APPLE-STRUCTURED-LOCATION;VALUE=URI;X-ADDRESS=Mary Merrill Minneapolis Park & Recreation Board Headquarters 2117 West River Road N Minneapolis MN 55411 United States;X-APPLE-RADIUS=500;X-TITLE=2117 West River Road N:geo:-93.2780339,45.0008334
END:VEVENT
END:VCALENDAR