BEGIN:VCALENDAR
VERSION:2.0
PRODID:-//Minneapolis Park &amp; Recreation Board - ECPv6.15.20//NONSGML v1.0//EN
CALSCALE:GREGORIAN
METHOD:PUBLISH
X-ORIGINAL-URL:https://www.minneapolisparks.org
X-WR-CALDESC:Events for Minneapolis Park &amp; Recreation Board
REFRESH-INTERVAL;VALUE=DURATION:PT1H
X-Robots-Tag:noindex
X-PUBLISHED-TTL:PT1H
BEGIN:VTIMEZONE
TZID:America/Chicago
BEGIN:DAYLIGHT
TZOFFSETFROM:-0600
TZOFFSETTO:-0500
TZNAME:CDT
DTSTART:20180311T080000
END:DAYLIGHT
BEGIN:STANDARD
TZOFFSETFROM:-0500
TZOFFSETTO:-0600
TZNAME:CST
DTSTART:20181104T070000
END:STANDARD
BEGIN:DAYLIGHT
TZOFFSETFROM:-0600
TZOFFSETTO:-0500
TZNAME:CDT
DTSTART:20190310T080000
END:DAYLIGHT
BEGIN:STANDARD
TZOFFSETFROM:-0500
TZOFFSETTO:-0600
TZNAME:CST
DTSTART:20191103T070000
END:STANDARD
BEGIN:DAYLIGHT
TZOFFSETFROM:-0600
TZOFFSETTO:-0500
TZNAME:CDT
DTSTART:20200308T080000
END:DAYLIGHT
BEGIN:STANDARD
TZOFFSETFROM:-0500
TZOFFSETTO:-0600
TZNAME:CST
DTSTART:20201101T070000
END:STANDARD
END:VTIMEZONE
BEGIN:VEVENT
DTSTART;TZID=America/Chicago:20190725T180000
DTEND;TZID=America/Chicago:20190725T200000
DTSTAMP:20260419T134618
CREATED:20191216T183546Z
LAST-MODIFIED:20191216T183546Z
UID:40124-1564077600-1564084800@www.minneapolisparks.org
SUMMARY:SW Service Area Master Plan CAC Meeting #12
DESCRIPTION:During this meeting\, Community Advisory Committee (CAC) members will review and discuss preferred park concept designs and provide recommendations to the project team for Board review. All CAC meetings are open to the public and include light refreshments and passive children’s activities. For more info\, please visit www.minneapolisparks.org/sw \nGet Directions
URL:https://www.minneapolisparks.org/event-calendar/sw-service-area-master-plan-cac-meeting-12/
LOCATION:Pershing Park Recreation Center\, 3523 W 48th St\, Minneapolis\, MN\, 55410\, United States
CATEGORIES:Public Meetings
GEO:44.9158567;-93.3243725
X-APPLE-STRUCTURED-LOCATION;VALUE=URI;X-ADDRESS=Pershing Park Recreation Center 3523 W 48th St Minneapolis MN 55410 United States;X-APPLE-RADIUS=500;X-TITLE=3523 W 48th St:geo:-93.3243725,44.9158567
END:VEVENT
BEGIN:VEVENT
DTSTART;TZID=America/Chicago:20190729T170000
DTEND;TZID=America/Chicago:20190729T190000
DTSTAMP:20260419T134618
CREATED:20191216T183555Z
LAST-MODIFIED:20191216T183555Z
UID:40148-1564419600-1564426800@www.minneapolisparks.org
SUMMARY:Pesticide Advisory Committee Meeting
DESCRIPTION:Get DirectionsMore Information
URL:https://www.minneapolisparks.org/event-calendar/pesticide-advisory-committee-meeting-10/
LOCATION:Mary Merrill Minneapolis Park & Recreation Board Headquarters\, 2117 West River Road N\, Minneapolis\, MN\, 55411\, United States
CATEGORIES:Public Meetings
GEO:45.0008334;-93.2780339
X-APPLE-STRUCTURED-LOCATION;VALUE=URI;X-ADDRESS=Mary Merrill Minneapolis Park & Recreation Board Headquarters 2117 West River Road N Minneapolis MN 55411 United States;X-APPLE-RADIUS=500;X-TITLE=2117 West River Road N:geo:-93.2780339,45.0008334
END:VEVENT
BEGIN:VEVENT
DTSTART;TZID=America/Chicago:20190807T170000
DTEND;TZID=America/Chicago:20190807T170000
DTSTAMP:20260419T134618
CREATED:20191216T183609Z
LAST-MODIFIED:20191216T183609Z
UID:40192-1565197200-1565197200@www.minneapolisparks.org
SUMMARY:Board Meeting
DESCRIPTION:
URL:https://www.minneapolisparks.org/event-calendar/board-meeting-69/
LOCATION:Mary Merrill Minneapolis Park & Recreation Board Headquarters\, 2117 West River Road N\, Minneapolis\, MN\, 55411\, United States
CATEGORIES:Public Meetings
GEO:45.0008334;-93.2780339
X-APPLE-STRUCTURED-LOCATION;VALUE=URI;X-ADDRESS=Mary Merrill Minneapolis Park & Recreation Board Headquarters 2117 West River Road N Minneapolis MN 55411 United States;X-APPLE-RADIUS=500;X-TITLE=2117 West River Road N:geo:-93.2780339,45.0008334
END:VEVENT
BEGIN:VEVENT
DTSTART;TZID=America/Chicago:20190807T180000
DTEND;TZID=America/Chicago:20190807T180000
DTSTAMP:20260419T134618
CREATED:20191216T183610Z
LAST-MODIFIED:20191216T183610Z
UID:40195-1565200800-1565200800@www.minneapolisparks.org
SUMMARY:Above the Falls Public Hearing
DESCRIPTION:The public hearing offers a chance for the general public to comment on the Above the Falls Master Plan\, an update to the Master Plan first adopted in 2000\, and again in 2013\, before the Minneapolis Park and Recreation Board Commissioners consider this plan approval.  The Above the Falls Regional Park surrounds and includes 2.8 miles of the Mississippi River in north and northeast Minneapolis. The Above the Falls Regional Park Master Plan can be considered a twenty-year investment framework to guide parkland assembly\, recreational programs\, design & development and operations and maintenance. More InformationGet Directions
URL:https://www.minneapolisparks.org/event-calendar/above-the-falls-public-hearing/
LOCATION:Mary Merrill Minneapolis Park & Recreation Board Headquarters\, 2117 West River Road N\, Minneapolis\, MN\, 55411\, United States
CATEGORIES:Public Meetings
GEO:45.0008334;-93.2780339
X-APPLE-STRUCTURED-LOCATION;VALUE=URI;X-ADDRESS=Mary Merrill Minneapolis Park & Recreation Board Headquarters 2117 West River Road N Minneapolis MN 55411 United States;X-APPLE-RADIUS=500;X-TITLE=2117 West River Road N:geo:-93.2780339,45.0008334
END:VEVENT
BEGIN:VEVENT
DTSTART;TZID=America/Chicago:20190808T180000
DTEND;TZID=America/Chicago:20190808T200000
DTSTAMP:20260419T134618
CREATED:20191216T183613Z
LAST-MODIFIED:20191216T183613Z
UID:40202-1565287200-1565294400@www.minneapolisparks.org
SUMMARY:SW Service Area Master Plan CAC Meeting #13
DESCRIPTION:During this meeting\, Community Advisory Committee (CAC) members will review and discuss preferred park concept designs and provide recommendations to the project team for Board review. All CAC meetings are open to the public and include light refreshments and passive children’s activities. \nMore InformationGet Directions
URL:https://www.minneapolisparks.org/event-calendar/sw-service-area-master-plan-cac-meeting-13/
LOCATION:Lynnhurst Recreation Center\, 1345 W Minnehaha Parkway\, Minneapolis\, MN\, 55419\, United States
CATEGORIES:Public Meetings
GEO:44.9118382;-93.2986289
X-APPLE-STRUCTURED-LOCATION;VALUE=URI;X-ADDRESS=Lynnhurst Recreation Center 1345 W Minnehaha Parkway Minneapolis MN 55419 United States;X-APPLE-RADIUS=500;X-TITLE=1345 W Minnehaha Parkway:geo:-93.2986289,44.9118382
END:VEVENT
BEGIN:VEVENT
DTSTART;TZID=America/Chicago:20190812T180000
DTEND;TZID=America/Chicago:20190812T200000
DTSTAMP:20260419T134618
CREATED:20191216T183623Z
LAST-MODIFIED:20191216T183623Z
UID:40227-1565632800-1565640000@www.minneapolisparks.org
SUMMARY:Park Police Advisory Council Meeting
DESCRIPTION:Park Police Advisory Council Meeting #2 \nGet Directions
URL:https://www.minneapolisparks.org/event-calendar/park-police-advisory-council-meeting/
LOCATION:Mary Merrill Minneapolis Park & Recreation Board Headquarters\, 2117 West River Road N\, Minneapolis\, MN\, 55411\, United States
CATEGORIES:Public Meetings
GEO:45.0008334;-93.2780339
X-APPLE-STRUCTURED-LOCATION;VALUE=URI;X-ADDRESS=Mary Merrill Minneapolis Park & Recreation Board Headquarters 2117 West River Road N Minneapolis MN 55411 United States;X-APPLE-RADIUS=500;X-TITLE=2117 West River Road N:geo:-93.2780339,45.0008334
END:VEVENT
BEGIN:VEVENT
DTSTART;TZID=America/Chicago:20190813T180000
DTEND;TZID=America/Chicago:20190813T200000
DTSTAMP:20260419T134618
CREATED:20191216T183625Z
LAST-MODIFIED:20191216T183625Z
UID:40233-1565719200-1565726400@www.minneapolisparks.org
SUMMARY:Parade Park Subcommittee Meeting
DESCRIPTION:CAC Subcommittee meetings are open to the public. Light refreshments and self-directed children’s activities will be available. \nMore InformationGet Directions
URL:https://www.minneapolisparks.org/event-calendar/parade-park-subcommittee-meeting/
LOCATION:Kenwood Park\, 2101 W Franklin Ave\, Minneapolis\, MN\, 55405\, United States
CATEGORIES:Public Meetings
GEO:44.9623941;-93.3072189
X-APPLE-STRUCTURED-LOCATION;VALUE=URI;X-ADDRESS=Kenwood Park 2101 W Franklin Ave Minneapolis MN 55405 United States;X-APPLE-RADIUS=500;X-TITLE=2101 W Franklin Ave:geo:-93.3072189,44.9623941
END:VEVENT
BEGIN:VEVENT
DTSTART;TZID=America/Chicago:20190814T180000
DTEND;TZID=America/Chicago:20190814T200000
DTSTAMP:20260419T134618
CREATED:20191216T183626Z
LAST-MODIFIED:20191216T183626Z
UID:40238-1565805600-1565812800@www.minneapolisparks.org
SUMMARY:CAC Subcommittee Meeting #2 on Fields and Diamonds at Armatage\, Kenny\, Linden Hills\, and Pershing
DESCRIPTION:During this meeting\, Community Advisory Committee (CAC) members who represent the areas where Armatage\, Kenny\, Linden Hills\, and Pershing are located\, along with city-wide representatives\, will review and discuss the fields and diamonds mix for Armatage\, Kenny\, Linden Hills\, and Pershing parks. The goal of this subcommittee is to provide design guidance to staff and bring recommendations back to the full CAC. All CAC meetings are open to the public and include light refreshments and passive children’s activities. \nMore InformationGet Directions
URL:https://www.minneapolisparks.org/event-calendar/cac-subcommittee-meeting-2-on-fields-and-diamonds-at-armatage-kenny-linden-hills-and-pershing/
LOCATION:Lynnhurst Recreation Center\, 1345 W Minnehaha Parkway\, Minneapolis\, MN\, 55419\, United States
CATEGORIES:Public Meetings
GEO:44.9118382;-93.2986289
X-APPLE-STRUCTURED-LOCATION;VALUE=URI;X-ADDRESS=Lynnhurst Recreation Center 1345 W Minnehaha Parkway Minneapolis MN 55419 United States;X-APPLE-RADIUS=500;X-TITLE=1345 W Minnehaha Parkway:geo:-93.2986289,44.9118382
END:VEVENT
BEGIN:VEVENT
DTSTART;TZID=America/Chicago:20190815T170000
DTEND;TZID=America/Chicago:20190815T170000
DTSTAMP:20260419T134618
CREATED:20191216T183628Z
LAST-MODIFIED:20191216T183628Z
UID:40243-1565888400-1565888400@www.minneapolisparks.org
SUMMARY:Committee of the Whole
DESCRIPTION:Joint meeting of the Minneapolis Park & Recreation Board and Minneapolis Public Schools – Minneapolis Board of Education \nAgenda
URL:https://www.minneapolisparks.org/event-calendar/committee-of-the-whole-6/
LOCATION:Location to be determined\, Minneapolis\, MN\, United States
CATEGORIES:Public Meetings
GEO:44.9706756;-93.331518
END:VEVENT
BEGIN:VEVENT
DTSTART;TZID=America/Chicago:20190819T170000
DTEND;TZID=America/Chicago:20190819T190000
DTSTAMP:20260419T134618
CREATED:20191216T183634Z
LAST-MODIFIED:20191216T183634Z
UID:40263-1566234000-1566241200@www.minneapolisparks.org
SUMMARY:Pesticide Advisory Committee Meeting
DESCRIPTION:Get Directions
URL:https://www.minneapolisparks.org/event-calendar/pesticide-advisory-committee-meeting-11/
LOCATION:Minneapolis City Hall (Minnehaha Conference Room)\, 350 S 5th Street\, Minneapolis\, MN\, 55415\, United States
CATEGORIES:Public Meetings
GEO:44.9772839;-93.2652365
X-APPLE-STRUCTURED-LOCATION;VALUE=URI;X-ADDRESS=Minneapolis City Hall (Minnehaha Conference Room) 350 S 5th Street Minneapolis MN 55415 United States;X-APPLE-RADIUS=500;X-TITLE=350 S 5th Street:geo:-93.2652365,44.9772839
END:VEVENT
BEGIN:VEVENT
DTSTART;TZID=America/Chicago:20190819T180000
DTEND;TZID=America/Chicago:20190819T200000
DTSTAMP:20260419T134618
CREATED:20191216T183634Z
LAST-MODIFIED:20191216T183634Z
UID:40264-1566237600-1566244800@www.minneapolisparks.org
SUMMARY:SW Service Area Master Plan CAC Meeting #14
DESCRIPTION:During this meeting\, Community Advisory Committee (CAC) members will review and discuss preferred park concept designs and provide recommendations to the project team for Board review. All CAC meetings are open to the public and include light refreshments and passive children’s activities. \nMore InformationGet Directions
URL:https://www.minneapolisparks.org/event-calendar/sw-service-area-master-plan-cac-meeting-14/
LOCATION:Kenwood Recreation Center\, Minneapolis\, MN\, United States
CATEGORIES:Public Meetings
GEO:44.9623941;-93.3072189
END:VEVENT
BEGIN:VEVENT
DTSTART;TZID=America/Chicago:20190821T170000
DTEND;TZID=America/Chicago:20190821T170000
DTSTAMP:20260419T134618
CREATED:20191216T183637Z
LAST-MODIFIED:20191216T183637Z
UID:40273-1566406800-1566406800@www.minneapolisparks.org
SUMMARY:Board Meeting
DESCRIPTION:
URL:https://www.minneapolisparks.org/event-calendar/board-meeting-70/
LOCATION:Mary Merrill Minneapolis Park & Recreation Board Headquarters\, 2117 West River Road N\, Minneapolis\, MN\, 55411\, United States
CATEGORIES:Public Meetings
GEO:45.0008334;-93.2780339
X-APPLE-STRUCTURED-LOCATION;VALUE=URI;X-ADDRESS=Mary Merrill Minneapolis Park & Recreation Board Headquarters 2117 West River Road N Minneapolis MN 55411 United States;X-APPLE-RADIUS=500;X-TITLE=2117 West River Road N:geo:-93.2780339,45.0008334
END:VEVENT
BEGIN:VEVENT
DTSTART;TZID=America/Chicago:20190826T180000
DTEND;TZID=America/Chicago:20190826T193000
DTSTAMP:20260419T134618
CREATED:20191216T183644Z
LAST-MODIFIED:20191216T183644Z
UID:40291-1566842400-1566847800@www.minneapolisparks.org
SUMMARY:Open House to Prioritize Improvements at Bassett's Creek Park
DESCRIPTION:The purpose of the meeting is to prioritize improvements described in the North Service Area Master Plan for construction in 2020.  \nMore InformationGet Directions
URL:https://www.minneapolisparks.org/event-calendar/open-house-to-prioritize-improvements-at-bassetts-creek-park/
LOCATION:Harrison Recreation Center\, 503 N Irving Ave\, Minneapolis\, MN\, 55405\, United States
CATEGORIES:Public Meetings
GEO:44.9829719;-93.3021412
X-APPLE-STRUCTURED-LOCATION;VALUE=URI;X-ADDRESS=Harrison Recreation Center 503 N Irving Ave Minneapolis MN 55405 United States;X-APPLE-RADIUS=500;X-TITLE=503 N Irving Ave:geo:-93.3021412,44.9829719
END:VEVENT
BEGIN:VEVENT
DTSTART;TZID=America/Chicago:20190904T170000
DTEND;TZID=America/Chicago:20190904T170000
DTSTAMP:20260419T134618
CREATED:20191216T183653Z
LAST-MODIFIED:20191216T183653Z
UID:40318-1567616400-1567616400@www.minneapolisparks.org
SUMMARY:Board Meeting
DESCRIPTION:
URL:https://www.minneapolisparks.org/event-calendar/board-meeting-71/
LOCATION:Mary Merrill Minneapolis Park & Recreation Board Headquarters\, 2117 West River Road N\, Minneapolis\, MN\, 55411\, United States
CATEGORIES:Public Meetings
GEO:45.0008334;-93.2780339
X-APPLE-STRUCTURED-LOCATION;VALUE=URI;X-ADDRESS=Mary Merrill Minneapolis Park & Recreation Board Headquarters 2117 West River Road N Minneapolis MN 55411 United States;X-APPLE-RADIUS=500;X-TITLE=2117 West River Road N:geo:-93.2780339,45.0008334
END:VEVENT
BEGIN:VEVENT
DTSTART;TZID=America/Chicago:20190910T180000
DTEND;TZID=America/Chicago:20190910T180000
DTSTAMP:20260419T134618
CREATED:20191216T183657Z
LAST-MODIFIED:20191216T183657Z
UID:40330-1568138400-1568138400@www.minneapolisparks.org
SUMMARY:Park Police Advisory Council Meeting
DESCRIPTION:Monthly Meeting \nMore InformationGet Directions
URL:https://www.minneapolisparks.org/event-calendar/park-police-advisory-council-meeting-2/
LOCATION:Mary Merrill Minneapolis Park & Recreation Board Headquarters\, 2117 West River Road N\, Minneapolis\, MN\, 55411\, United States
CATEGORIES:Public Meetings
GEO:45.0008334;-93.2780339
X-APPLE-STRUCTURED-LOCATION;VALUE=URI;X-ADDRESS=Mary Merrill Minneapolis Park & Recreation Board Headquarters 2117 West River Road N Minneapolis MN 55411 United States;X-APPLE-RADIUS=500;X-TITLE=2117 West River Road N:geo:-93.2780339,45.0008334
END:VEVENT
BEGIN:VEVENT
DTSTART;TZID=America/Chicago:20190911T180000
DTEND;TZID=America/Chicago:20190911T200000
DTSTAMP:20260419T134618
CREATED:20191216T183658Z
LAST-MODIFIED:20191216T183658Z
UID:40332-1568224800-1568232000@www.minneapolisparks.org
SUMMARY:The Parade Park Subcommittee Meeting #2
DESCRIPTION:Continue discussion of proposed elements and design for The Parade Park\, as part of the Southwest Service Area Master Plan process. \nMore InformationGet Directions
URL:https://www.minneapolisparks.org/event-calendar/the-parade-park-subcommittee-meeting-2/
LOCATION:Kenwood Community Center\, 2101 W Franklin Ave\, Minneapolis\, MN\, 55405\, United States
CATEGORIES:Public Meetings
GEO:44.9623941;-93.3072189
X-APPLE-STRUCTURED-LOCATION;VALUE=URI;X-ADDRESS=Kenwood Community Center 2101 W Franklin Ave Minneapolis MN 55405 United States;X-APPLE-RADIUS=500;X-TITLE=2101 W Franklin Ave:geo:-93.3072189,44.9623941
END:VEVENT
BEGIN:VEVENT
DTSTART;TZID=America/Chicago:20190917T173000
DTEND;TZID=America/Chicago:20190917T200000
DTSTAMP:20260419T134618
CREATED:20191216T183701Z
LAST-MODIFIED:20191216T183701Z
UID:40342-1568741400-1568750400@www.minneapolisparks.org
SUMMARY:Community Advisory Committee Meeting #2 - Cedar-Riverside Recreation Centers Predesign
DESCRIPTION:This will be the second meeting of the Community Advisory Committee for the Cedar-Riverside Recreation Centers Predesign project. All interested public are encouraged to attend. Kid activities and a light dinner will be provided.  \nGet Directions
URL:https://www.minneapolisparks.org/event-calendar/community-advisory-committee-meeting-2-cedar-riverside-recreation-centers-predesign/
LOCATION:Brian Coyle Community Center\, 420 S 15th Ave\, Minneapolis\, MN\, 55454\, United States
CATEGORIES:Public Meetings
GEO:44.9707032;-93.2506039
X-APPLE-STRUCTURED-LOCATION;VALUE=URI;X-ADDRESS=Brian Coyle Community Center 420 S 15th Ave Minneapolis MN 55454 United States;X-APPLE-RADIUS=500;X-TITLE=420 S 15th Ave:geo:-93.2506039,44.9707032
END:VEVENT
BEGIN:VEVENT
DTSTART;TZID=America/Chicago:20190917T173000
DTEND;TZID=America/Chicago:20190917T203000
DTSTAMP:20260419T134618
CREATED:20191216T183702Z
LAST-MODIFIED:20191216T183702Z
UID:40343-1568741400-1568752200@www.minneapolisparks.org
SUMMARY:SW Parks CAC Meeting #15
DESCRIPTION:CAC members will discuss remaining parks in “warrants more discussion” catagory with goal of finalizing a recommendation. Focus on Kenny\, Armatage\, Pershing\, Linden Hills\, The Mall. \nMore InformationGet Directions
URL:https://www.minneapolisparks.org/event-calendar/sw-parks-cac-meeting-15/
LOCATION:Whittier Recreation Center\, 425 W 26th St\, Minneapolis\, MN\, 55404\, United States
CATEGORIES:Public Meetings
GEO:44.9551265;-93.2845291
X-APPLE-STRUCTURED-LOCATION;VALUE=URI;X-ADDRESS=Whittier Recreation Center 425 W 26th St Minneapolis MN 55404 United States;X-APPLE-RADIUS=500;X-TITLE=425 W 26th St:geo:-93.2845291,44.9551265
END:VEVENT
BEGIN:VEVENT
DTSTART;TZID=America/Chicago:20190918T170000
DTEND;TZID=America/Chicago:20190918T170000
DTSTAMP:20260419T134618
CREATED:20191216T183702Z
LAST-MODIFIED:20191216T183702Z
UID:40344-1568826000-1568826000@www.minneapolisparks.org
SUMMARY:Board Meeting
DESCRIPTION:
URL:https://www.minneapolisparks.org/event-calendar/board-meeting-72/
LOCATION:Mary Merrill Minneapolis Park & Recreation Board Headquarters\, 2117 West River Road N\, Minneapolis\, MN\, 55411\, United States
CATEGORIES:Public Meetings
GEO:45.0008334;-93.2780339
X-APPLE-STRUCTURED-LOCATION;VALUE=URI;X-ADDRESS=Mary Merrill Minneapolis Park & Recreation Board Headquarters 2117 West River Road N Minneapolis MN 55411 United States;X-APPLE-RADIUS=500;X-TITLE=2117 West River Road N:geo:-93.2780339,45.0008334
END:VEVENT
BEGIN:VEVENT
DTSTART;TZID=America/Chicago:20190923T170000
DTEND;TZID=America/Chicago:20190923T190000
DTSTAMP:20260419T134618
CREATED:20191216T183706Z
LAST-MODIFIED:20191216T183706Z
UID:40360-1569258000-1569265200@www.minneapolisparks.org
SUMMARY:Pesticide Advisory Committee Meeting
DESCRIPTION:More InformationGet Directions
URL:https://www.minneapolisparks.org/event-calendar/pesticide-advisory-committee-meeting-12/
LOCATION:Mary Merrill Minneapolis Park & Recreation Board Headquarters\, Minnehaha Conference Room\, 2117 West River Road N\, Minneapolis\, MN\, 55411\, United States
CATEGORIES:Public Meetings
GEO:45.0008334;-93.2780339
X-APPLE-STRUCTURED-LOCATION;VALUE=URI;X-ADDRESS=Mary Merrill Minneapolis Park & Recreation Board Headquarters Minnehaha Conference Room 2117 West River Road N Minneapolis MN 55411 United States;X-APPLE-RADIUS=500;X-TITLE=2117 West River Road N:geo:-93.2780339,45.0008334
END:VEVENT
BEGIN:VEVENT
DTSTART;TZID=America/Chicago:20190923T173000
DTEND;TZID=America/Chicago:20190923T200000
DTSTAMP:20260419T134618
CREATED:20191216T183708Z
LAST-MODIFIED:20191216T183708Z
UID:40361-1569259800-1569268800@www.minneapolisparks.org
SUMMARY:Upper Harbor Terminal CAC Meeting #3
DESCRIPTION:Discuss the park portion of the Upper Harbor Terminal redevelopment. Dinner 5:30-6 pm; meeting 6-8 pm. \nGet Directions
URL:https://www.minneapolisparks.org/event-calendar/upper-harbor-terminal-cac-meeting-3/
LOCATION:Mary Merrill Minneapolis Park & Recreation Board Headquarters\, 2117 West River Road N\, Minneapolis\, MN\, 55411\, United States
CATEGORIES:Public Meetings
GEO:45.0008334;-93.2780339
X-APPLE-STRUCTURED-LOCATION;VALUE=URI;X-ADDRESS=Mary Merrill Minneapolis Park & Recreation Board Headquarters 2117 West River Road N Minneapolis MN 55411 United States;X-APPLE-RADIUS=500;X-TITLE=2117 West River Road N:geo:-93.2780339,45.0008334
END:VEVENT
BEGIN:VEVENT
DTSTART;TZID=America/Chicago:20190930T160000
DTEND;TZID=America/Chicago:20190930T160000
DTSTAMP:20260419T134618
CREATED:20191216T183710Z
LAST-MODIFIED:20191216T183710Z
UID:40367-1569859200-1569859200@www.minneapolisparks.org
SUMMARY:Currie Park Construction Information Session
DESCRIPTION:Meet MPRB project staff and get answers to your questions\nFind out about about MPRB park and recreation facilities in the area\n\nMore InformationGet Directions
URL:https://www.minneapolisparks.org/event-calendar/currie-park-construction-information-session/
LOCATION:Brian Coyle Community Center\, 420 S 15th Ave\, Minneapolis\, MN\, 55454\, United States
CATEGORIES:Public Meetings
GEO:44.9707032;-93.2506039
X-APPLE-STRUCTURED-LOCATION;VALUE=URI;X-ADDRESS=Brian Coyle Community Center 420 S 15th Ave Minneapolis MN 55454 United States;X-APPLE-RADIUS=500;X-TITLE=420 S 15th Ave:geo:-93.2506039,44.9707032
END:VEVENT
BEGIN:VEVENT
DTSTART;TZID=America/Chicago:20191001T170000
DTEND;TZID=America/Chicago:20191001T190000
DTSTAMP:20260419T134618
CREATED:20191216T183710Z
LAST-MODIFIED:20191216T183710Z
UID:40368-1569949200-1569956400@www.minneapolisparks.org
SUMMARY:Open House for: Northern Columbia Golf Course and Park Stormwater BMPs - Design Review
DESCRIPTION:After several months of project partners (MWMO\, MPRB\, and City of Minneapolis) and other stakeholders meeting with design consultants a 50% completed design plan is ready for review.   Please join us to learn\, review and comment on the design plan. \nMore InformationGet Directions
URL:https://www.minneapolisparks.org/event-calendar/open-house-for-northern-columbia-golf-course-and-park-stormwater-bmps-design-review/
LOCATION:Columbia Manor\, 3300 Central Ave NE\, Minneapolis\, MN\, 55418\, United States
CATEGORIES:Public Meetings
GEO:45.028132;-93.2484121
X-APPLE-STRUCTURED-LOCATION;VALUE=URI;X-ADDRESS=Columbia Manor 3300 Central Ave NE Minneapolis MN 55418 United States;X-APPLE-RADIUS=500;X-TITLE=3300 Central Ave NE:geo:-93.2484121,45.028132
END:VEVENT
BEGIN:VEVENT
DTSTART;TZID=America/Chicago:20191002T170000
DTEND;TZID=America/Chicago:20191002T170000
DTSTAMP:20260419T134618
CREATED:20191216T183711Z
LAST-MODIFIED:20191216T183711Z
UID:40369-1570035600-1570035600@www.minneapolisparks.org
SUMMARY:Board Meeting
DESCRIPTION:
URL:https://www.minneapolisparks.org/event-calendar/board-meeting-73/
LOCATION:Mary Merrill Minneapolis Park & Recreation Board Headquarters\, 2117 West River Road N\, Minneapolis\, MN\, 55411\, United States
CATEGORIES:Public Meetings
GEO:45.0008334;-93.2780339
X-APPLE-STRUCTURED-LOCATION;VALUE=URI;X-ADDRESS=Mary Merrill Minneapolis Park & Recreation Board Headquarters 2117 West River Road N Minneapolis MN 55411 United States;X-APPLE-RADIUS=500;X-TITLE=2117 West River Road N:geo:-93.2780339,45.0008334
END:VEVENT
BEGIN:VEVENT
DTSTART;TZID=America/Chicago:20191002T183000
DTEND;TZID=America/Chicago:20191002T183000
DTSTAMP:20260419T134618
CREATED:20191216T183711Z
LAST-MODIFIED:20191216T183711Z
UID:40370-1570041000-1570041000@www.minneapolisparks.org
SUMMARY:Public Hearing for Concept Approval for Holmes Park Playground Improvements
DESCRIPTION:The Minneapolis Park and Recreation Board (MPRB) is holding a public hearings for concept approval of playground at Holmes Park. The hearing is a culmination of a eight-month planning process.  To review the concept plans or provide feedback please visit the project page websites. \nMore InformationGet Directions
URL:https://www.minneapolisparks.org/event-calendar/public-hearing-for-concept-approval-for-holmes-park-playground-improvements/
LOCATION:Mary Merrill Minneapolis Park & Recreation Board Headquarters\, 2117 West River Road N\, Minneapolis\, MN\, 55411\, United States
CATEGORIES:Public Meetings
GEO:45.0008334;-93.2780339
X-APPLE-STRUCTURED-LOCATION;VALUE=URI;X-ADDRESS=Mary Merrill Minneapolis Park & Recreation Board Headquarters 2117 West River Road N Minneapolis MN 55411 United States;X-APPLE-RADIUS=500;X-TITLE=2117 West River Road N:geo:-93.2780339,45.0008334
END:VEVENT
BEGIN:VEVENT
DTSTART;TZID=America/Chicago:20191007T173000
DTEND;TZID=America/Chicago:20191007T203000
DTSTAMP:20260419T134618
CREATED:20191216T183714Z
LAST-MODIFIED:20191216T183714Z
UID:40376-1570469400-1570480200@www.minneapolisparks.org
SUMMARY:SW Parks CAC Meeting #16
DESCRIPTION:CAC members will discuss remaining parks in “warrants more discussion” catagory with goal of finalizing a recommendation. Focus on Kenwood\, The Parade. \nMore InformationGet Directions
URL:https://www.minneapolisparks.org/event-calendar/sw-parks-cac-meeting-16/
LOCATION:Rev. Dr. Martin Luther King Recreation Center\, 4055 Nicollet Ave S\, Minneapolis\, MN\, 55409\, United States
CATEGORIES:Public Meetings
GEO:44.9292348;-93.2773221
X-APPLE-STRUCTURED-LOCATION;VALUE=URI;X-ADDRESS=Rev. Dr. Martin Luther King Recreation Center 4055 Nicollet Ave S Minneapolis MN 55409 United States;X-APPLE-RADIUS=500;X-TITLE=4055 Nicollet Ave S:geo:-93.2773221,44.9292348
END:VEVENT
BEGIN:VEVENT
DTSTART;TZID=America/Chicago:20191008T170000
DTEND;TZID=America/Chicago:20191008T190000
DTSTAMP:20260419T134618
CREATED:20191216T183714Z
LAST-MODIFIED:20191216T183714Z
UID:40377-1570554000-1570561200@www.minneapolisparks.org
SUMMARY:Eloise Butler Wildflower Garden Improvements Open House
DESCRIPTION:MPRB staff will share community engagement results along with a proposed project concept design for a slate of improvements planned at the Eloise Butler Wildflower Garden. \nMore InformationGet Directions
URL:https://www.minneapolisparks.org/event-calendar/eloise-butler-wildflower-garden-improvements-open-house/
LOCATION:Theodore Wirth Pavilion\, 3275 Glenwood Ave\, Minneapolis\, MN\, 55405\, United States
CATEGORIES:Public Meetings
GEO:44.9789601;-93.3237886
X-APPLE-STRUCTURED-LOCATION;VALUE=URI;X-ADDRESS=Theodore Wirth Pavilion 3275 Glenwood Ave Minneapolis MN 55405 United States;X-APPLE-RADIUS=500;X-TITLE=3275 Glenwood Ave:geo:-93.3237886,44.9789601
END:VEVENT
BEGIN:VEVENT
DTSTART;TZID=America/Chicago:20191008T180000
DTEND;TZID=America/Chicago:20191008T180000
DTSTAMP:20260419T134618
CREATED:20191216T183714Z
LAST-MODIFIED:20191216T183714Z
UID:40378-1570557600-1570557600@www.minneapolisparks.org
SUMMARY:Park Police Advisory Council Meeting
DESCRIPTION:Monthly Meeting \nMore InformationGet Directions
URL:https://www.minneapolisparks.org/event-calendar/park-police-advisory-council-meeting-3/
LOCATION:Mary Merrill Minneapolis Park & Recreation Board Headquarters\, 2117 West River Road N\, Minneapolis\, MN\, 55411\, United States
CATEGORIES:Public Meetings
GEO:45.0008334;-93.2780339
X-APPLE-STRUCTURED-LOCATION;VALUE=URI;X-ADDRESS=Mary Merrill Minneapolis Park & Recreation Board Headquarters 2117 West River Road N Minneapolis MN 55411 United States;X-APPLE-RADIUS=500;X-TITLE=2117 West River Road N:geo:-93.2780339,45.0008334
END:VEVENT
BEGIN:VEVENT
DTSTART;TZID=America/Chicago:20191016T170000
DTEND;TZID=America/Chicago:20191016T170000
DTSTAMP:20260419T134618
CREATED:20191216T183716Z
LAST-MODIFIED:20191216T183716Z
UID:40385-1571245200-1571245200@www.minneapolisparks.org
SUMMARY:Board Meeting
DESCRIPTION:
URL:https://www.minneapolisparks.org/event-calendar/board-meeting-74/
LOCATION:Mary Merrill Minneapolis Park & Recreation Board Headquarters\, 2117 West River Road N\, Minneapolis\, MN\, 55411\, United States
CATEGORIES:Public Meetings
GEO:45.0008334;-93.2780339
X-APPLE-STRUCTURED-LOCATION;VALUE=URI;X-ADDRESS=Mary Merrill Minneapolis Park & Recreation Board Headquarters 2117 West River Road N Minneapolis MN 55411 United States;X-APPLE-RADIUS=500;X-TITLE=2117 West River Road N:geo:-93.2780339,45.0008334
END:VEVENT
BEGIN:VEVENT
DTSTART;TZID=America/Chicago:20191021T170000
DTEND;TZID=America/Chicago:20191021T190000
DTSTAMP:20260419T134618
CREATED:20191216T183718Z
LAST-MODIFIED:20191216T183718Z
UID:40390-1571677200-1571684400@www.minneapolisparks.org
SUMMARY:Pesticide Advisory Committee
DESCRIPTION:More InformationGet Directions
URL:https://www.minneapolisparks.org/event-calendar/pesticide-advisory-committee-3/
LOCATION:Mary Merrill Minneapolis Park & Recreation Board Headquarters Minnehaha Conference Room\, 2117 West River Road N\, Minneapolis\, MN\, 55411\, United States
CATEGORIES:Public Meetings
GEO:45.0008334;-93.2780339
X-APPLE-STRUCTURED-LOCATION;VALUE=URI;X-ADDRESS=Mary Merrill Minneapolis Park & Recreation Board Headquarters Minnehaha Conference Room 2117 West River Road N Minneapolis MN 55411 United States;X-APPLE-RADIUS=500;X-TITLE=2117 West River Road N:geo:-93.2780339,45.0008334
END:VEVENT
END:VCALENDAR