BEGIN:VCALENDAR
VERSION:2.0
PRODID:-//Minneapolis Park &amp; Recreation Board - ECPv6.15.20//NONSGML v1.0//EN
CALSCALE:GREGORIAN
METHOD:PUBLISH
X-ORIGINAL-URL:https://www.minneapolisparks.org
X-WR-CALDESC:Events for Minneapolis Park &amp; Recreation Board
REFRESH-INTERVAL;VALUE=DURATION:PT1H
X-Robots-Tag:noindex
X-PUBLISHED-TTL:PT1H
BEGIN:VTIMEZONE
TZID:America/Chicago
BEGIN:DAYLIGHT
TZOFFSETFROM:-0600
TZOFFSETTO:-0500
TZNAME:CDT
DTSTART:20250309T080000
END:DAYLIGHT
BEGIN:STANDARD
TZOFFSETFROM:-0500
TZOFFSETTO:-0600
TZNAME:CST
DTSTART:20251102T070000
END:STANDARD
BEGIN:DAYLIGHT
TZOFFSETFROM:-0600
TZOFFSETTO:-0500
TZNAME:CDT
DTSTART:20260308T080000
END:DAYLIGHT
BEGIN:STANDARD
TZOFFSETFROM:-0500
TZOFFSETTO:-0600
TZNAME:CST
DTSTART:20261101T070000
END:STANDARD
BEGIN:DAYLIGHT
TZOFFSETFROM:-0600
TZOFFSETTO:-0500
TZNAME:CDT
DTSTART:20270314T080000
END:DAYLIGHT
BEGIN:STANDARD
TZOFFSETFROM:-0500
TZOFFSETTO:-0600
TZNAME:CST
DTSTART:20271107T070000
END:STANDARD
END:VTIMEZONE
BEGIN:VEVENT
DTSTART;TZID=America/Chicago:20260318T170000
DTEND;TZID=America/Chicago:20260318T170000
DTSTAMP:20260421T175018
CREATED:20260115T164202Z
LAST-MODIFIED:20260115T164202Z
UID:87549-1773853200-1773853200@www.minneapolisparks.org
SUMMARY:Board Meeting
DESCRIPTION:Board Meeting Agendas and Minutes
URL:https://www.minneapolisparks.org/event-calendar/board-meeting-142/2026-03-18/
LOCATION:Mary Merrill Minneapolis Park & Recreation Board Headquarters\, 2117 West River Road N\, Minneapolis\, MN\, 55411\, United States
CATEGORIES:Public Meetings
GEO:45.0008334;-93.2780339
X-APPLE-STRUCTURED-LOCATION;VALUE=URI;X-ADDRESS=Mary Merrill Minneapolis Park & Recreation Board Headquarters 2117 West River Road N Minneapolis MN 55411 United States;X-APPLE-RADIUS=500;X-TITLE=2117 West River Road N:geo:-93.2780339,45.0008334
END:VEVENT
BEGIN:VEVENT
DTSTART;TZID=America/Chicago:20260318T173000
DTEND;TZID=America/Chicago:20260318T193000
DTSTAMP:20260421T175018
CREATED:20260303T155140Z
LAST-MODIFIED:20260303T155140Z
UID:88696-1773855000-1773862200@www.minneapolisparks.org
SUMMARY:Open House for Lake Nokomis Shoreline Enhancements Phase 2
DESCRIPTION:Open House #1 is intended to introduce the public to the project\, which expands on the work done in Phase 1. The project area is along the west side of the lake\, with project goals seeking to restore native and naturalized vegetation to Lake Nokomis as well as create turtle nesting habitats\, increase pollinator species and create dedicated water access points.
URL:https://www.minneapolisparks.org/event-calendar/open-house-for-lake-nokomis-shoreline-enhancements-phase-2/
LOCATION:Lake Nokomis Community Center\, 2401 E Minnehaha Parkway\, Minneapolis\, MN\, 55417\, United States
CATEGORIES:Public Meetings
GEO:44.9157107;-93.2366016
X-APPLE-STRUCTURED-LOCATION;VALUE=URI;X-ADDRESS=Lake Nokomis Community Center 2401 E Minnehaha Parkway Minneapolis MN 55417 United States;X-APPLE-RADIUS=500;X-TITLE=2401 E Minnehaha Parkway:geo:-93.2366016,44.9157107
END:VEVENT
END:VCALENDAR