BEGIN:VCALENDAR
VERSION:2.0
PRODID:-//Minneapolis Park &amp; Recreation Board - ECPv6.15.20//NONSGML v1.0//EN
CALSCALE:GREGORIAN
METHOD:PUBLISH
X-ORIGINAL-URL:https://www.minneapolisparks.org
X-WR-CALDESC:Events for Minneapolis Park &amp; Recreation Board
REFRESH-INTERVAL;VALUE=DURATION:PT1H
X-Robots-Tag:noindex
X-PUBLISHED-TTL:PT1H
BEGIN:VTIMEZONE
TZID:America/Chicago
BEGIN:DAYLIGHT
TZOFFSETFROM:-0600
TZOFFSETTO:-0500
TZNAME:CDT
DTSTART:20250309T080000
END:DAYLIGHT
BEGIN:STANDARD
TZOFFSETFROM:-0500
TZOFFSETTO:-0600
TZNAME:CST
DTSTART:20251102T070000
END:STANDARD
BEGIN:DAYLIGHT
TZOFFSETFROM:-0600
TZOFFSETTO:-0500
TZNAME:CDT
DTSTART:20260308T080000
END:DAYLIGHT
BEGIN:STANDARD
TZOFFSETFROM:-0500
TZOFFSETTO:-0600
TZNAME:CST
DTSTART:20261101T070000
END:STANDARD
BEGIN:DAYLIGHT
TZOFFSETFROM:-0600
TZOFFSETTO:-0500
TZNAME:CDT
DTSTART:20270314T080000
END:DAYLIGHT
BEGIN:STANDARD
TZOFFSETFROM:-0500
TZOFFSETTO:-0600
TZNAME:CST
DTSTART:20271107T070000
END:STANDARD
END:VTIMEZONE
BEGIN:VEVENT
DTSTART;TZID=America/Chicago:20260304T170000
DTEND;TZID=America/Chicago:20260304T170000
DTSTAMP:20260422T011710
CREATED:20260115T164202Z
LAST-MODIFIED:20260115T164202Z
UID:87548-1772643600-1772643600@www.minneapolisparks.org
SUMMARY:Board Meeting
DESCRIPTION:Board Meeting Agendas and Minutes
URL:https://www.minneapolisparks.org/event-calendar/board-meeting-142/2026-03-04/
LOCATION:Mary Merrill Minneapolis Park & Recreation Board Headquarters\, 2117 West River Road N\, Minneapolis\, MN\, 55411\, United States
CATEGORIES:Public Meetings
GEO:45.0008334;-93.2780339
X-APPLE-STRUCTURED-LOCATION;VALUE=URI;X-ADDRESS=Mary Merrill Minneapolis Park & Recreation Board Headquarters 2117 West River Road N Minneapolis MN 55411 United States;X-APPLE-RADIUS=500;X-TITLE=2117 West River Road N:geo:-93.2780339,45.0008334
END:VEVENT
BEGIN:VEVENT
DTSTART;TZID=America/Chicago:20260304T183000
DTEND;TZID=America/Chicago:20260304T183000
DTSTAMP:20260422T011710
CREATED:20260302T153227Z
LAST-MODIFIED:20260302T153227Z
UID:88667-1772649000-1772649000@www.minneapolisparks.org
SUMMARY:Willard Park Improvements Public Hearing
DESCRIPTION:Public Hearing Details\nWednesday\, March 4\, 2026 at 6:30pm\nMary Merrill Minneapolis Park and Recreation Board Headquarters Building\n2117 West River Road \nShare Comments in Person or by Email\nSpeak in person: \nCall 612-230-6400 before 3 pm on the day of the hearing (March 4)\nOR\nAdd your name to the sign-up sheet at the board room entrance before the hearing begins at 6:30pm \nEmail written comments: \nSend your comments to opentime@minneapolisparks.org by 3 pm on the day of the hearing (March 4) \nComments will be included in the public record of the hearing. \nNext Steps\nAfter the hearing\, Park Board commissioners will vote on whether to approve the plan. If approved\, construction contractors will then bid on a detailed version of the plan\, with construction anticipated to begin later in 2026 and continue through 2027.
URL:https://www.minneapolisparks.org/event-calendar/willard-park-improvements-public-hearing/
LOCATION:Mary Merrill Minneapolis Park & Recreation Board Headquarters\, 2117 West River Road N\, Minneapolis\, MN\, 55411\, United States
CATEGORIES:Public Meetings
GEO:45.0008334;-93.2780339
X-APPLE-STRUCTURED-LOCATION;VALUE=URI;X-ADDRESS=Mary Merrill Minneapolis Park & Recreation Board Headquarters 2117 West River Road N Minneapolis MN 55411 United States;X-APPLE-RADIUS=500;X-TITLE=2117 West River Road N:geo:-93.2780339,45.0008334
END:VEVENT
END:VCALENDAR