BEGIN:VCALENDAR
VERSION:2.0
PRODID:-//Minneapolis Park &amp; Recreation Board - ECPv6.15.20//NONSGML v1.0//EN
CALSCALE:GREGORIAN
METHOD:PUBLISH
X-WR-CALNAME:Minneapolis Park &amp; Recreation Board
X-ORIGINAL-URL:https://www.minneapolisparks.org
X-WR-CALDESC:Events for Minneapolis Park &amp; Recreation Board
REFRESH-INTERVAL;VALUE=DURATION:PT1H
X-Robots-Tag:noindex
X-PUBLISHED-TTL:PT1H
BEGIN:VTIMEZONE
TZID:America/Chicago
BEGIN:DAYLIGHT
TZOFFSETFROM:-0600
TZOFFSETTO:-0500
TZNAME:CDT
DTSTART:20250309T080000
END:DAYLIGHT
BEGIN:STANDARD
TZOFFSETFROM:-0500
TZOFFSETTO:-0600
TZNAME:CST
DTSTART:20251102T070000
END:STANDARD
BEGIN:DAYLIGHT
TZOFFSETFROM:-0600
TZOFFSETTO:-0500
TZNAME:CDT
DTSTART:20260308T080000
END:DAYLIGHT
BEGIN:STANDARD
TZOFFSETFROM:-0500
TZOFFSETTO:-0600
TZNAME:CST
DTSTART:20261101T070000
END:STANDARD
BEGIN:DAYLIGHT
TZOFFSETFROM:-0600
TZOFFSETTO:-0500
TZNAME:CDT
DTSTART:20270314T080000
END:DAYLIGHT
BEGIN:STANDARD
TZOFFSETFROM:-0500
TZOFFSETTO:-0600
TZNAME:CST
DTSTART:20271107T070000
END:STANDARD
END:VTIMEZONE
BEGIN:VEVENT
DTSTART;TZID=America/Chicago:20260418T090000
DTEND;TZID=America/Chicago:20260418T090000
DTSTAMP:20260421T054550
CREATED:20260205T163040Z
LAST-MODIFIED:20260205T163040Z
UID:87995-1776502800-1776502800@www.minneapolisparks.org
SUMMARY:Bee Run/Walk
DESCRIPTION:
URL:https://www.minneapolisparks.org/event-calendar/bee-run-walk/
LOCATION:Boom Island\, 724 Sibley St NE\, Minneapolis\, MN\, 55413\, United States
CATEGORIES:Events- All,Events- Non-MPRB
GEO:44.9920367;-93.3036741
X-APPLE-STRUCTURED-LOCATION;VALUE=URI;X-ADDRESS=Boom Island 724 Sibley St NE Minneapolis MN 55413 United States;X-APPLE-RADIUS=500;X-TITLE=724 Sibley St NE:geo:-93.3036741,44.9920367
END:VEVENT
END:VCALENDAR