BEGIN:VCALENDAR
VERSION:2.0
PRODID:-//Minneapolis Park &amp; Recreation Board - ECPv6.15.20//NONSGML v1.0//EN
CALSCALE:GREGORIAN
METHOD:PUBLISH
X-ORIGINAL-URL:https://www.minneapolisparks.org
X-WR-CALDESC:Events for Minneapolis Park &amp; Recreation Board
REFRESH-INTERVAL;VALUE=DURATION:PT1H
X-Robots-Tag:noindex
X-PUBLISHED-TTL:PT1H
BEGIN:VTIMEZONE
TZID:America/Chicago
BEGIN:DAYLIGHT
TZOFFSETFROM:-0600
TZOFFSETTO:-0500
TZNAME:CDT
DTSTART:20240310T080000
END:DAYLIGHT
BEGIN:STANDARD
TZOFFSETFROM:-0500
TZOFFSETTO:-0600
TZNAME:CST
DTSTART:20241103T070000
END:STANDARD
BEGIN:DAYLIGHT
TZOFFSETFROM:-0600
TZOFFSETTO:-0500
TZNAME:CDT
DTSTART:20250309T080000
END:DAYLIGHT
BEGIN:STANDARD
TZOFFSETFROM:-0500
TZOFFSETTO:-0600
TZNAME:CST
DTSTART:20251102T070000
END:STANDARD
BEGIN:DAYLIGHT
TZOFFSETFROM:-0600
TZOFFSETTO:-0500
TZNAME:CDT
DTSTART:20260308T080000
END:DAYLIGHT
BEGIN:STANDARD
TZOFFSETFROM:-0500
TZOFFSETTO:-0600
TZNAME:CST
DTSTART:20261101T070000
END:STANDARD
END:VTIMEZONE
BEGIN:VEVENT
DTSTART;TZID=America/Chicago:20250709T193000
DTEND;TZID=America/Chicago:20250709T193000
DTSTAMP:20260421T015307
CREATED:20250515T184641Z
LAST-MODIFIED:20250515T184641Z
UID:82333-1752089400-1752089400@www.minneapolisparks.org
SUMMARY:Beasley’s Big Band
DESCRIPTION:Classic Big Band
URL:https://www.minneapolisparks.org/event-calendar/beasleys-big-band/
LOCATION:Lake Harriet Bandshell\, Minneapolis\, MN\, United States
CATEGORIES:Music & Movies in the Parks,Music in the Parks
GEO:44.927901;-93.3082473
END:VEVENT
BEGIN:VEVENT
DTSTART;TZID=America/Chicago:20250709T210000
DTEND;TZID=America/Chicago:20250709T210000
DTSTAMP:20260421T015307
CREATED:20250519T195157Z
LAST-MODIFIED:20250519T195157Z
UID:82720-1752094800-1752094800@www.minneapolisparks.org
SUMMARY:10 Things I Hate About You
DESCRIPTION:PG-13
URL:https://www.minneapolisparks.org/event-calendar/10-things-i-hate-about-you/
LOCATION:The Commons\, 425 Portland Ave South\, Minneapolis\, MN\, 55488\, United States
CATEGORIES:Movies in the Parks,Music & Movies in the Parks
GEO:44.9766971;-93.2628904
X-APPLE-STRUCTURED-LOCATION;VALUE=URI;X-ADDRESS=The Commons 425 Portland Ave South Minneapolis MN 55488 United States;X-APPLE-RADIUS=500;X-TITLE=425 Portland Ave South:geo:-93.2628904,44.9766971
END:VEVENT
BEGIN:VEVENT
DTSTART;TZID=America/Chicago:20250710T190000
DTEND;TZID=America/Chicago:20250710T190000
DTSTAMP:20260421T015307
CREATED:20250515T205614Z
LAST-MODIFIED:20250515T205614Z
UID:82450-1752174000-1752174000@www.minneapolisparks.org
SUMMARY:Comes a Time
DESCRIPTION:Roots and Rock
URL:https://www.minneapolisparks.org/event-calendar/comes-a-time-2/
LOCATION:Minnehaha Bandstand\, Minneapolis\, MN\, United States
CATEGORIES:Music & Movies in the Parks,Music in the Parks
GEO:44.9161006;-93.2109865
END:VEVENT
BEGIN:VEVENT
DTSTART;TZID=America/Chicago:20250710T190000
DTEND;TZID=America/Chicago:20250710T190000
DTSTAMP:20260421T015307
CREATED:20250516T193032Z
LAST-MODIFIED:20250516T193032Z
UID:82645-1752174000-1752174000@www.minneapolisparks.org
SUMMARY:Nolen Sellwood
DESCRIPTION:Folk
URL:https://www.minneapolisparks.org/event-calendar/nolen-sellwood-2/
LOCATION:Bryant Square Park\, 3101 Bryant Ave S\, Minneapolis\, MN\, 55408\, United States
CATEGORIES:Music & Movies in the Parks,Music in the Parks
GEO:44.9461045;-93.2903539
X-APPLE-STRUCTURED-LOCATION;VALUE=URI;X-ADDRESS=Bryant Square Park 3101 Bryant Ave S Minneapolis MN 55408 United States;X-APPLE-RADIUS=500;X-TITLE=3101 Bryant Ave S:geo:-93.2903539,44.9461045
END:VEVENT
BEGIN:VEVENT
DTSTART;TZID=America/Chicago:20250710T190000
DTEND;TZID=America/Chicago:20250710T190000
DTSTAMP:20260421T015307
CREATED:20250516T195448Z
LAST-MODIFIED:20250516T195528Z
UID:82665-1752174000-1752174000@www.minneapolisparks.org
SUMMARY:The C Notes
DESCRIPTION:Rock Blues Funk Soul
URL:https://www.minneapolisparks.org/event-calendar/the-c-notes-2/
LOCATION:The Commons\, 425 Portland Ave South\, Minneapolis\, MN\, 55488\, United States
CATEGORIES:Music & Movies in the Parks,Music in the Parks
GEO:44.9766971;-93.2628904
X-APPLE-STRUCTURED-LOCATION;VALUE=URI;X-ADDRESS=The Commons 425 Portland Ave South Minneapolis MN 55488 United States;X-APPLE-RADIUS=500;X-TITLE=425 Portland Ave South:geo:-93.2628904,44.9766971
END:VEVENT
BEGIN:VEVENT
DTSTART;TZID=America/Chicago:20250710T210000
DTEND;TZID=America/Chicago:20250710T210000
DTSTAMP:20260421T015307
CREATED:20250519T195336Z
LAST-MODIFIED:20250519T195336Z
UID:82722-1752181200-1752181200@www.minneapolisparks.org
SUMMARY:The Fall Guy
DESCRIPTION:Live on the Northside Presents: The Fall Guy (PG-13)
URL:https://www.minneapolisparks.org/event-calendar/the-fall-guy/
LOCATION:Victory Park\, 4414 Upton Ave N\, Minneapolis\, MN\, 55412\, United States
CATEGORIES:Movies in the Parks,Music & Movies in the Parks
GEO:45.0359721;-93.3147565
X-APPLE-STRUCTURED-LOCATION;VALUE=URI;X-ADDRESS=Victory Park 4414 Upton Ave N Minneapolis MN 55412 United States;X-APPLE-RADIUS=500;X-TITLE=4414 Upton Ave N:geo:-93.3147565,45.0359721
END:VEVENT
BEGIN:VEVENT
DTSTART;TZID=America/Chicago:20250711T190000
DTEND;TZID=America/Chicago:20250711T190000
DTSTAMP:20260421T015307
CREATED:20250515T205715Z
LAST-MODIFIED:20250515T205715Z
UID:82452-1752260400-1752260400@www.minneapolisparks.org
SUMMARY:The Jazz Standards
DESCRIPTION:Great American Song Book
URL:https://www.minneapolisparks.org/event-calendar/the-jazz-standards-2/
LOCATION:Minnehaha Bandstand\, Minneapolis\, MN\, United States
CATEGORIES:Music & Movies in the Parks,Music in the Parks
GEO:44.9161006;-93.2109865
END:VEVENT
BEGIN:VEVENT
DTSTART;TZID=America/Chicago:20250711T193000
DTEND;TZID=America/Chicago:20250711T193000
DTSTAMP:20260421T015307
CREATED:20250515T184810Z
LAST-MODIFIED:20250515T184810Z
UID:82335-1752262200-1752262200@www.minneapolisparks.org
SUMMARY:Zorongo Flamenco Dance Theatre
DESCRIPTION:Flamenco Dance
URL:https://www.minneapolisparks.org/event-calendar/zorongo-flamenco-dance-theatre-2/
LOCATION:Lake Harriet Bandshell\, Minneapolis\, MN\, United States
CATEGORIES:Music & Movies in the Parks,Music in the Parks
GEO:44.927901;-93.3082473
END:VEVENT
BEGIN:VEVENT
DTSTART;TZID=America/Chicago:20250711T210000
DTEND;TZID=America/Chicago:20250711T210000
DTSTAMP:20260421T015307
CREATED:20250519T195453Z
LAST-MODIFIED:20250519T195453Z
UID:82724-1752267600-1752267600@www.minneapolisparks.org
SUMMARY:Wicked
DESCRIPTION:PG
URL:https://www.minneapolisparks.org/event-calendar/wicked/
LOCATION:Armatage Park\, 2500 W 57th St\, Minneapolis\, MN\, 55410\, United States
CATEGORIES:Movies in the Parks,Music & Movies in the Parks
GEO:44.9007399;-93.3112736
X-APPLE-STRUCTURED-LOCATION;VALUE=URI;X-ADDRESS=Armatage Park 2500 W 57th St Minneapolis MN 55410 United States;X-APPLE-RADIUS=500;X-TITLE=2500 W 57th St:geo:-93.3112736,44.9007399
END:VEVENT
BEGIN:VEVENT
DTSTART;TZID=America/Chicago:20250712T160000
DTEND;TZID=America/Chicago:20250712T200000
DTSTAMP:20260421T015307
CREATED:20250516T185650Z
LAST-MODIFIED:20250516T185650Z
UID:82613-1752336000-1752350400@www.minneapolisparks.org
SUMMARY:DJ in the Park (4-8pm)
DESCRIPTION:DJ Music
URL:https://www.minneapolisparks.org/event-calendar/dj-in-the-park-4-8pm-2/
LOCATION:Loring Park\, Loring Park\, Minneapolis\, MN\, 55403\, United States
CATEGORIES:Music & Movies in the Parks,Music in the Parks
GEO:44.9649915;-93.2854596
X-APPLE-STRUCTURED-LOCATION;VALUE=URI;X-ADDRESS=Loring Park Loring Park Minneapolis MN 55403 United States;X-APPLE-RADIUS=500;X-TITLE=Loring Park:geo:-93.2854596,44.9649915
END:VEVENT
BEGIN:VEVENT
DTSTART;TZID=America/Chicago:20250712T190000
DTEND;TZID=America/Chicago:20250712T190000
DTSTAMP:20260421T015307
CREATED:20250515T214429Z
LAST-MODIFIED:20250515T214429Z
UID:82538-1752346800-1752346800@www.minneapolisparks.org
SUMMARY:Midlife Crisis
DESCRIPTION:Popular Hits
URL:https://www.minneapolisparks.org/event-calendar/midlife-crisis/
LOCATION:Water Works at Mill Ruins Park\, 425 West River Parkway\, Minneapolis\, MN\, 55401\, United States
CATEGORIES:Music & Movies in the Parks,Music in the Parks
GEO:44.9811921;-93.2620982
X-APPLE-STRUCTURED-LOCATION;VALUE=URI;X-ADDRESS=Water Works at Mill Ruins Park 425 West River Parkway Minneapolis MN 55401 United States;X-APPLE-RADIUS=500;X-TITLE=425 West River Parkway:geo:-93.2620982,44.9811921
END:VEVENT
BEGIN:VEVENT
DTSTART;TZID=America/Chicago:20250712T193000
DTEND;TZID=America/Chicago:20250712T193000
DTSTAMP:20260421T015307
CREATED:20250515T184929Z
LAST-MODIFIED:20250515T184929Z
UID:82337-1752348600-1752348600@www.minneapolisparks.org
SUMMARY:Minneapolis POPs
DESCRIPTION:Big Band
URL:https://www.minneapolisparks.org/event-calendar/minneapolis-pops-17/
LOCATION:Lake Harriet Bandshell\, Minneapolis\, MN\, United States
CATEGORIES:Music & Movies in the Parks,Music in the Parks
GEO:44.927901;-93.3082473
END:VEVENT
BEGIN:VEVENT
DTSTART;TZID=America/Chicago:20250712T210000
DTEND;TZID=America/Chicago:20250712T210000
DTSTAMP:20260421T015307
CREATED:20250519T195551Z
LAST-MODIFIED:20250519T195551Z
UID:82726-1752354000-1752354000@www.minneapolisparks.org
SUMMARY:Angels in the Outfield
DESCRIPTION:PG
URL:https://www.minneapolisparks.org/event-calendar/angels-in-the-outfield/
LOCATION:McRae Park\, 906 E 47th St\, Minneapolis\, MN\, 55407\, United States
CATEGORIES:Movies in the Parks,Music & Movies in the Parks
GEO:44.9184044;-93.2611522
X-APPLE-STRUCTURED-LOCATION;VALUE=URI;X-ADDRESS=McRae Park 906 E 47th St Minneapolis MN 55407 United States;X-APPLE-RADIUS=500;X-TITLE=906 E 47th St:geo:-93.2611522,44.9184044
END:VEVENT
BEGIN:VEVENT
DTSTART;TZID=America/Chicago:20250713T140000
DTEND;TZID=America/Chicago:20250713T140000
DTSTAMP:20260421T015307
CREATED:20250515T185041Z
LAST-MODIFIED:20250515T185041Z
UID:82339-1752415200-1752415200@www.minneapolisparks.org
SUMMARY:Minnesota Pipes and Drums
DESCRIPTION:Scottish Highland Traditional
URL:https://www.minneapolisparks.org/event-calendar/minnesota-pipes-and-drums/
LOCATION:Lake Harriet Bandshell\, Minneapolis\, MN\, United States
CATEGORIES:Music & Movies in the Parks,Music in the Parks
GEO:44.927901;-93.3082473
END:VEVENT
BEGIN:VEVENT
DTSTART;TZID=America/Chicago:20250713T173000
DTEND;TZID=America/Chicago:20250713T173000
DTSTAMP:20260421T015307
CREATED:20250515T185158Z
LAST-MODIFIED:20250515T185158Z
UID:82341-1752427800-1752427800@www.minneapolisparks.org
SUMMARY:Minneapolis POPs
DESCRIPTION:Big Band
URL:https://www.minneapolisparks.org/event-calendar/minneapolis-pops-18/
LOCATION:Lake Harriet Bandshell\, Minneapolis\, MN\, United States
CATEGORIES:Music & Movies in the Parks,Music in the Parks
GEO:44.927901;-93.3082473
END:VEVENT
BEGIN:VEVENT
DTSTART;TZID=America/Chicago:20250714T193000
DTEND;TZID=America/Chicago:20250714T193000
DTSTAMP:20260421T015307
CREATED:20250515T185259Z
LAST-MODIFIED:20250515T185259Z
UID:82343-1752521400-1752521400@www.minneapolisparks.org
SUMMARY:Saltydog
DESCRIPTION:Rock
URL:https://www.minneapolisparks.org/event-calendar/saltydog/
LOCATION:Lake Harriet Bandshell\, Minneapolis\, MN\, United States
CATEGORIES:Music & Movies in the Parks,Music in the Parks
GEO:44.927901;-93.3082473
END:VEVENT
BEGIN:VEVENT
DTSTART;TZID=America/Chicago:20250714T210000
DTEND;TZID=America/Chicago:20250714T210000
DTSTAMP:20260421T015307
CREATED:20250519T195714Z
LAST-MODIFIED:20250519T195714Z
UID:82728-1752526800-1752526800@www.minneapolisparks.org
SUMMARY:Despicable Me 4
DESCRIPTION:PG
URL:https://www.minneapolisparks.org/event-calendar/despicable-me-4/
LOCATION:Waite Park\, 1810 34th Ave NE\, Minneapolis\, MN\, 55418\, United States
CATEGORIES:Movies in the Parks,Music & Movies in the Parks
GEO:45.0301093;-93.23428
X-APPLE-STRUCTURED-LOCATION;VALUE=URI;X-ADDRESS=Waite Park 1810 34th Ave NE Minneapolis MN 55418 United States;X-APPLE-RADIUS=500;X-TITLE=1810 34th Ave NE:geo:-93.23428,45.0301093
END:VEVENT
BEGIN:VEVENT
DTSTART;TZID=America/Chicago:20250715T190000
DTEND;TZID=America/Chicago:20250715T190000
DTSTAMP:20260421T015307
CREATED:20250515T213213Z
LAST-MODIFIED:20250515T213213Z
UID:82516-1752606000-1752606000@www.minneapolisparks.org
SUMMARY:Matt Hannah
DESCRIPTION:Folk Americana
URL:https://www.minneapolisparks.org/event-calendar/matt-hannah-5/
LOCATION:Father Hennepin\, Minneapolis\, MN\, United States
CATEGORIES:Music & Movies in the Parks,Music in the Parks
GEO:44.9826582;-93.2513335
END:VEVENT
BEGIN:VEVENT
DTSTART;TZID=America/Chicago:20250715T190000
DTEND;TZID=America/Chicago:20250715T190000
DTSTAMP:20260421T015307
CREATED:20250516T193133Z
LAST-MODIFIED:20250516T193133Z
UID:82647-1752606000-1752606000@www.minneapolisparks.org
SUMMARY:Honey Please
DESCRIPTION:Rock
URL:https://www.minneapolisparks.org/event-calendar/honey-please-2/
LOCATION:Bryant Square Park\, 3101 Bryant Ave S\, Minneapolis\, MN\, 55408\, United States
CATEGORIES:Music & Movies in the Parks,Music in the Parks
GEO:44.9461045;-93.2903539
X-APPLE-STRUCTURED-LOCATION;VALUE=URI;X-ADDRESS=Bryant Square Park 3101 Bryant Ave S Minneapolis MN 55408 United States;X-APPLE-RADIUS=500;X-TITLE=3101 Bryant Ave S:geo:-93.2903539,44.9461045
END:VEVENT
BEGIN:VEVENT
DTSTART;TZID=America/Chicago:20250715T210000
DTEND;TZID=America/Chicago:20250715T210000
DTSTAMP:20260421T015307
CREATED:20250519T195810Z
LAST-MODIFIED:20250519T195810Z
UID:82730-1752613200-1752613200@www.minneapolisparks.org
SUMMARY:Moana 2
DESCRIPTION:PG
URL:https://www.minneapolisparks.org/event-calendar/moana-2-3/
LOCATION:Windom Northeast Park\, 2251 NE Hayes St\, Minneapolis\, MN\, 55418\, United States
CATEGORIES:Movies in the Parks,Music & Movies in the Parks
GEO:45.0112229;-93.2342613
X-APPLE-STRUCTURED-LOCATION;VALUE=URI;X-ADDRESS=Windom Northeast Park 2251 NE Hayes St Minneapolis MN 55418 United States;X-APPLE-RADIUS=500;X-TITLE=2251 NE Hayes St:geo:-93.2342613,45.0112229
END:VEVENT
BEGIN:VEVENT
DTSTART;TZID=America/Chicago:20250716T120000
DTEND;TZID=America/Chicago:20250716T120000
DTSTAMP:20260421T015307
CREATED:20250516T183253Z
LAST-MODIFIED:20250516T183253Z
UID:82575-1752667200-1752667200@www.minneapolisparks.org
SUMMARY:Backman
DESCRIPTION:Alternative
URL:https://www.minneapolisparks.org/event-calendar/backman-2/
LOCATION:The Commons\, 425 Portland Ave South\, Minneapolis\, MN\, 55488\, United States
CATEGORIES:Music & Movies in the Parks,Music in the Parks
GEO:44.9766971;-93.2628904
X-APPLE-STRUCTURED-LOCATION;VALUE=URI;X-ADDRESS=The Commons 425 Portland Ave South Minneapolis MN 55488 United States;X-APPLE-RADIUS=500;X-TITLE=425 Portland Ave South:geo:-93.2628904,44.9766971
END:VEVENT
BEGIN:VEVENT
DTSTART;TZID=America/Chicago:20250716T193000
DTEND;TZID=America/Chicago:20250716T193000
DTSTAMP:20260421T015307
CREATED:20250515T185407Z
LAST-MODIFIED:20250515T185407Z
UID:82345-1752694200-1752694200@www.minneapolisparks.org
SUMMARY:Atomic Beat
DESCRIPTION:New Wave
URL:https://www.minneapolisparks.org/event-calendar/atomic-beat-3/
LOCATION:Lake Harriet Bandshell\, Minneapolis\, MN\, United States
CATEGORIES:Music & Movies in the Parks,Music in the Parks
GEO:44.927901;-93.3082473
END:VEVENT
BEGIN:VEVENT
DTSTART;TZID=America/Chicago:20250716T205500
DTEND;TZID=America/Chicago:20250716T205500
DTSTAMP:20260421T015307
CREATED:20250519T195923Z
LAST-MODIFIED:20250519T200003Z
UID:82732-1752699300-1752699300@www.minneapolisparks.org
SUMMARY:The Fifth Element
DESCRIPTION:PG-13
URL:https://www.minneapolisparks.org/event-calendar/the-fifth-element/
LOCATION:The Commons\, 425 Portland Ave South\, Minneapolis\, MN\, 55488\, United States
CATEGORIES:Movies in the Parks,Music & Movies in the Parks
GEO:44.9766971;-93.2628904
X-APPLE-STRUCTURED-LOCATION;VALUE=URI;X-ADDRESS=The Commons 425 Portland Ave South Minneapolis MN 55488 United States;X-APPLE-RADIUS=500;X-TITLE=425 Portland Ave South:geo:-93.2628904,44.9766971
END:VEVENT
BEGIN:VEVENT
DTSTART;TZID=America/Chicago:20250717T190000
DTEND;TZID=America/Chicago:20250717T190000
DTSTAMP:20260421T015307
CREATED:20250515T205813Z
LAST-MODIFIED:20250515T205813Z
UID:82454-1752778800-1752778800@www.minneapolisparks.org
SUMMARY:Jessie Street Band
DESCRIPTION:Jazz / Pop
URL:https://www.minneapolisparks.org/event-calendar/jessie-street-band/
LOCATION:Minnehaha Bandstand\, Minneapolis\, MN\, United States
CATEGORIES:Music & Movies in the Parks,Music in the Parks
GEO:44.9161006;-93.2109865
END:VEVENT
BEGIN:VEVENT
DTSTART;TZID=America/Chicago:20250717T190000
DTEND;TZID=America/Chicago:20250717T190000
DTSTAMP:20260421T015307
CREATED:20250516T184050Z
LAST-MODIFIED:20250516T184050Z
UID:82589-1752778800-1752778800@www.minneapolisparks.org
SUMMARY:ROBOS
DESCRIPTION:Rock
URL:https://www.minneapolisparks.org/event-calendar/robos/
LOCATION:The Commons\, 425 Portland Ave South\, Minneapolis\, MN\, 55488\, United States
CATEGORIES:Music & Movies in the Parks,Music in the Parks
GEO:44.9766971;-93.2628904
X-APPLE-STRUCTURED-LOCATION;VALUE=URI;X-ADDRESS=The Commons 425 Portland Ave South Minneapolis MN 55488 United States;X-APPLE-RADIUS=500;X-TITLE=425 Portland Ave South:geo:-93.2628904,44.9766971
END:VEVENT
BEGIN:VEVENT
DTSTART;TZID=America/Chicago:20250717T190000
DTEND;TZID=America/Chicago:20250717T190000
DTSTAMP:20260421T015307
CREATED:20250516T193234Z
LAST-MODIFIED:20250516T193234Z
UID:82649-1752778800-1752778800@www.minneapolisparks.org
SUMMARY:Echo Trail
DESCRIPTION:Americana / Bluegrass
URL:https://www.minneapolisparks.org/event-calendar/echo-trail-3/
LOCATION:Bryant Square Park\, 3101 Bryant Ave S\, Minneapolis\, MN\, 55408\, United States
CATEGORIES:Music & Movies in the Parks,Music in the Parks
GEO:44.9461045;-93.2903539
X-APPLE-STRUCTURED-LOCATION;VALUE=URI;X-ADDRESS=Bryant Square Park 3101 Bryant Ave S Minneapolis MN 55408 United States;X-APPLE-RADIUS=500;X-TITLE=3101 Bryant Ave S:geo:-93.2903539,44.9461045
END:VEVENT
BEGIN:VEVENT
DTSTART;TZID=America/Chicago:20250717T205500
DTEND;TZID=America/Chicago:20250717T205500
DTSTAMP:20260421T015307
CREATED:20250519T200126Z
LAST-MODIFIED:20250519T211138Z
UID:82734-1752785700-1752785700@www.minneapolisparks.org
SUMMARY:Mufasa: The Lion Ling
DESCRIPTION:PG \nSpanish subtitles
URL:https://www.minneapolisparks.org/event-calendar/mufasa-the-lion-ling/
LOCATION:East Phillips Park\, 2399 S 17th Ave\, Minneapolis\, MN\, 55404\, United States
CATEGORIES:Movies in the Parks,Music & Movies in the Parks
GEO:44.9592105;-93.2497216
X-APPLE-STRUCTURED-LOCATION;VALUE=URI;X-ADDRESS=East Phillips Park 2399 S 17th Ave Minneapolis MN 55404 United States;X-APPLE-RADIUS=500;X-TITLE=2399 S 17th Ave:geo:-93.2497216,44.9592105
END:VEVENT
BEGIN:VEVENT
DTSTART;TZID=America/Chicago:20250718T190000
DTEND;TZID=America/Chicago:20250718T190000
DTSTAMP:20260421T015307
CREATED:20250515T205917Z
LAST-MODIFIED:20250515T205917Z
UID:82456-1752865200-1752865200@www.minneapolisparks.org
SUMMARY:Fat Chance Jug Band
DESCRIPTION:Jug Band Classics
URL:https://www.minneapolisparks.org/event-calendar/fat-chance-jug-band-3/
LOCATION:Minnehaha Bandstand\, Minneapolis\, MN\, United States
CATEGORIES:Music & Movies in the Parks,Music in the Parks
GEO:44.9161006;-93.2109865
END:VEVENT
BEGIN:VEVENT
DTSTART;TZID=America/Chicago:20250718T193000
DTEND;TZID=America/Chicago:20250718T193000
DTSTAMP:20260421T015307
CREATED:20250515T185605Z
LAST-MODIFIED:20250515T185605Z
UID:82347-1752867000-1752867000@www.minneapolisparks.org
SUMMARY:The Court Revelers
DESCRIPTION:Sea Shanty Pub Songs
URL:https://www.minneapolisparks.org/event-calendar/the-court-revelers/
LOCATION:Lake Harriet Bandshell\, Minneapolis\, MN\, United States
CATEGORIES:Music & Movies in the Parks,Music in the Parks
GEO:44.927901;-93.3082473
END:VEVENT
BEGIN:VEVENT
DTSTART;TZID=America/Chicago:20250718T205500
DTEND;TZID=America/Chicago:20250718T205500
DTSTAMP:20260421T015307
CREATED:20250519T200231Z
LAST-MODIFIED:20250519T200231Z
UID:82736-1752872100-1752872100@www.minneapolisparks.org
SUMMARY:Wild Robot
DESCRIPTION:PG
URL:https://www.minneapolisparks.org/event-calendar/wild-robot-2/
LOCATION:Lynnhurst Park\, 1345 W Minnehaha Parkway\, Minneapolis\, MN\, 55419\, United States
CATEGORIES:Movies in the Parks,Music & Movies in the Parks
GEO:44.9118382;-93.2986289
X-APPLE-STRUCTURED-LOCATION;VALUE=URI;X-ADDRESS=Lynnhurst Park 1345 W Minnehaha Parkway Minneapolis MN 55419 United States;X-APPLE-RADIUS=500;X-TITLE=1345 W Minnehaha Parkway:geo:-93.2986289,44.9118382
END:VEVENT
END:VCALENDAR