BEGIN:VCALENDAR
VERSION:2.0
PRODID:-//Minneapolis Park &amp; Recreation Board - ECPv6.15.20//NONSGML v1.0//EN
CALSCALE:GREGORIAN
METHOD:PUBLISH
X-WR-CALNAME:Minneapolis Park &amp; Recreation Board
X-ORIGINAL-URL:https://www.minneapolisparks.org
X-WR-CALDESC:Events for Minneapolis Park &amp; Recreation Board
REFRESH-INTERVAL;VALUE=DURATION:PT1H
X-Robots-Tag:noindex
X-PUBLISHED-TTL:PT1H
BEGIN:VTIMEZONE
TZID:America/Chicago
BEGIN:DAYLIGHT
TZOFFSETFROM:-0600
TZOFFSETTO:-0500
TZNAME:CDT
DTSTART:20220313T080000
END:DAYLIGHT
BEGIN:STANDARD
TZOFFSETFROM:-0500
TZOFFSETTO:-0600
TZNAME:CST
DTSTART:20221106T070000
END:STANDARD
BEGIN:DAYLIGHT
TZOFFSETFROM:-0600
TZOFFSETTO:-0500
TZNAME:CDT
DTSTART:20230312T080000
END:DAYLIGHT
BEGIN:STANDARD
TZOFFSETFROM:-0500
TZOFFSETTO:-0600
TZNAME:CST
DTSTART:20231105T070000
END:STANDARD
BEGIN:DAYLIGHT
TZOFFSETFROM:-0600
TZOFFSETTO:-0500
TZNAME:CDT
DTSTART:20240310T080000
END:DAYLIGHT
BEGIN:STANDARD
TZOFFSETFROM:-0500
TZOFFSETTO:-0600
TZNAME:CST
DTSTART:20241103T070000
END:STANDARD
END:VTIMEZONE
BEGIN:VEVENT
DTSTART;TZID=America/Chicago:20230817T203000
DTEND;TZID=America/Chicago:20230817T203000
DTSTAMP:20260421T015336
CREATED:20230517T184158Z
LAST-MODIFIED:20230816T192448Z
UID:65859-1692304200-1692304200@www.minneapolisparks.org
SUMMARY:Lightyear
DESCRIPTION:PG. Audio & Subtitles: Eng/Span
URL:https://www.minneapolisparks.org/event-calendar/lightyear/
LOCATION:Logan Park\, 690 13th Ave NE\, Minneapolis\, MN\, 55413\, United States
CATEGORIES:Movies in the Parks,Music & Movies in the Parks
GEO:45.0006735;-93.2568797
X-APPLE-STRUCTURED-LOCATION;VALUE=URI;X-ADDRESS=Logan Park 690 13th Ave NE Minneapolis MN 55413 United States;X-APPLE-RADIUS=500;X-TITLE=690 13th Ave NE:geo:-93.2568797,45.0006735
END:VEVENT
BEGIN:VEVENT
DTSTART;TZID=America/Chicago:20230818T120000
DTEND;TZID=America/Chicago:20230818T120000
DTSTAMP:20260421T015336
CREATED:20230424T174501Z
LAST-MODIFIED:20230612T173354Z
UID:65051-1692360000-1692360000@www.minneapolisparks.org
SUMMARY:Demolition Means Progress
DESCRIPTION:Jangly indie rock with violin and lots of harmonies.
URL:https://www.minneapolisparks.org/event-calendar/demolition-means-progress-6/
LOCATION:Water Works at Mill Ruins Park\, 425 West River Parkway\, Minneapolis\, MN\, 55401\, United States
CATEGORIES:Music & Movies in the Parks,Music in the Parks
GEO:44.9811921;-93.2620982
X-APPLE-STRUCTURED-LOCATION;VALUE=URI;X-ADDRESS=Water Works at Mill Ruins Park 425 West River Parkway Minneapolis MN 55401 United States;X-APPLE-RADIUS=500;X-TITLE=425 West River Parkway:geo:-93.2620982,44.9811921
END:VEVENT
BEGIN:VEVENT
DTSTART;TZID=America/Chicago:20230818T190000
DTEND;TZID=America/Chicago:20230818T190000
DTSTAMP:20260421T015336
CREATED:20230420T192547Z
LAST-MODIFIED:20230612T173357Z
UID:64895-1692385200-1692385200@www.minneapolisparks.org
SUMMARY:James Eugene Russell
DESCRIPTION:Country Mid-Western Music
URL:https://www.minneapolisparks.org/event-calendar/james-eugene-russell/
LOCATION:Loring Park\, Loring Park\, Minneapolis\, MN\, 55403\, United States
CATEGORIES:Music & Movies in the Parks,Music in the Parks
GEO:44.9649915;-93.2854596
X-APPLE-STRUCTURED-LOCATION;VALUE=URI;X-ADDRESS=Loring Park Loring Park Minneapolis MN 55403 United States;X-APPLE-RADIUS=500;X-TITLE=Loring Park:geo:-93.2854596,44.9649915
END:VEVENT
BEGIN:VEVENT
DTSTART;TZID=America/Chicago:20230818T190000
DTEND;TZID=America/Chicago:20230818T190000
DTSTAMP:20260421T015336
CREATED:20230504T192128Z
LAST-MODIFIED:20230612T173457Z
UID:65339-1692385200-1692385200@www.minneapolisparks.org
SUMMARY:The Bad Companions
DESCRIPTION:Dance friendly original roots rock
URL:https://www.minneapolisparks.org/event-calendar/the-bad-companions-3/
LOCATION:Minnehaha Bandstand\, Minneapolis\, MN\, United States
CATEGORIES:Music & Movies in the Parks,Music in the Parks
GEO:44.9161006;-93.2109865
END:VEVENT
BEGIN:VEVENT
DTSTART;TZID=America/Chicago:20230818T193000
DTEND;TZID=America/Chicago:20230818T193000
DTSTAMP:20260421T015336
CREATED:20230510T180254Z
LAST-MODIFIED:20230612T173501Z
UID:65613-1692387000-1692387000@www.minneapolisparks.org
SUMMARY:Nunnabove
DESCRIPTION:presented by Star Tribune
URL:https://www.minneapolisparks.org/event-calendar/nunnabove/
LOCATION:Lake Harriet Bandshell\, Minneapolis\, MN\, United States
CATEGORIES:Music & Movies in the Parks,Music in the Parks
GEO:44.927901;-93.3082473
END:VEVENT
BEGIN:VEVENT
DTSTART;TZID=America/Chicago:20230818T211500
DTEND;TZID=America/Chicago:20230818T211500
DTSTAMP:20260421T015336
CREATED:20230517T184238Z
LAST-MODIFIED:20230816T204425Z
UID:65861-1692393300-1692393300@www.minneapolisparks.org
SUMMARY:Mulan (1998)
DESCRIPTION:
URL:https://www.minneapolisparks.org/event-calendar/mulan-1998/
LOCATION:Lake Harriet\, Minneapolis\, MN\, United States
CATEGORIES:Movies in the Parks,Music & Movies in the Parks
GEO:44.927901;-93.3082473
END:VEVENT
BEGIN:VEVENT
DTSTART;TZID=America/Chicago:20230819T193000
DTEND;TZID=America/Chicago:20230819T193000
DTSTAMP:20260421T015336
CREATED:20230510T180343Z
LAST-MODIFIED:20230612T173559Z
UID:65615-1692473400-1692473400@www.minneapolisparks.org
SUMMARY:Civic Orchestra of Minneapolis
DESCRIPTION:Orchestral classics by the lake.
URL:https://www.minneapolisparks.org/event-calendar/civic-orchestra-of-minneapolis-4/
LOCATION:Lake Harriet Bandshell\, Minneapolis\, MN\, United States
CATEGORIES:Music & Movies in the Parks,Music in the Parks
GEO:44.927901;-93.3082473
END:VEVENT
BEGIN:VEVENT
DTSTART;TZID=America/Chicago:20230819T211500
DTEND;TZID=America/Chicago:20230819T211500
DTSTAMP:20260421T015336
CREATED:20230517T184310Z
LAST-MODIFIED:20230816T192831Z
UID:65864-1692479700-1692479700@www.minneapolisparks.org
SUMMARY:Bohemian Rhapsody
DESCRIPTION:PG-13
URL:https://www.minneapolisparks.org/event-calendar/bohemian-rhapsody-2/
LOCATION:Lake Harriet\, Minneapolis\, MN\, United States
CATEGORIES:Movies in the Parks,Music & Movies in the Parks
GEO:44.927901;-93.3082473
END:VEVENT
BEGIN:VEVENT
DTSTART;TZID=America/Chicago:20230820T140000
DTEND;TZID=America/Chicago:20230820T140000
DTSTAMP:20260421T015336
CREATED:20230510T180426Z
LAST-MODIFIED:20230612T173606Z
UID:65617-1692540000-1692540000@www.minneapolisparks.org
SUMMARY:Not Quite Dead
DESCRIPTION:Grateful Dead Tribute Band
URL:https://www.minneapolisparks.org/event-calendar/not-quite-dead-3/
LOCATION:Lake Harriet Bandshell\, Minneapolis\, MN\, United States
CATEGORIES:Music & Movies in the Parks,Music in the Parks
GEO:44.927901;-93.3082473
END:VEVENT
BEGIN:VEVENT
DTSTART;TZID=America/Chicago:20230820T173000
DTEND;TZID=America/Chicago:20230820T173000
DTSTAMP:20260421T015336
CREATED:20230510T180512Z
LAST-MODIFIED:20230612T173749Z
UID:65619-1692552600-1692552600@www.minneapolisparks.org
SUMMARY:Gypsy Mania Hot Club Quartet
DESCRIPTION:Gypsy Hot Club Swing Jazz
URL:https://www.minneapolisparks.org/event-calendar/gypsy-mania-hot-club-quartet-4/
LOCATION:Lake Harriet Bandshell\, Minneapolis\, MN\, United States
CATEGORIES:Music & Movies in the Parks,Music in the Parks
GEO:44.927901;-93.3082473
END:VEVENT
BEGIN:VEVENT
DTSTART;TZID=America/Chicago:20230821T190000
DTEND;TZID=America/Chicago:20230821T190000
DTSTAMP:20260421T015336
CREATED:20230424T174541Z
LAST-MODIFIED:20230612T173754Z
UID:65053-1692644400-1692644400@www.minneapolisparks.org
SUMMARY:Brian Allen
DESCRIPTION:Rockin’ sing-along piano favorites
URL:https://www.minneapolisparks.org/event-calendar/brian-allen/
LOCATION:Water Works at Mill Ruins Park\, 425 West River Parkway\, Minneapolis\, MN\, 55401\, United States
CATEGORIES:Music & Movies in the Parks,Music in the Parks
GEO:44.9811921;-93.2620982
X-APPLE-STRUCTURED-LOCATION;VALUE=URI;X-ADDRESS=Water Works at Mill Ruins Park 425 West River Parkway Minneapolis MN 55401 United States;X-APPLE-RADIUS=500;X-TITLE=425 West River Parkway:geo:-93.2620982,44.9811921
END:VEVENT
BEGIN:VEVENT
DTSTART;TZID=America/Chicago:20230821T190000
DTEND;TZID=America/Chicago:20230821T190000
DTSTAMP:20260421T015336
CREATED:20230504T185211Z
LAST-MODIFIED:20230612T173758Z
UID:65265-1692644400-1692644400@www.minneapolisparks.org
SUMMARY:Rare Form
DESCRIPTION:Country
URL:https://www.minneapolisparks.org/event-calendar/rare-form/
LOCATION:Nicollet Island\, Nicollet Island\, Minneapolis\, MN\, 55401\, United States
CATEGORIES:Music & Movies in the Parks,Music in the Parks
GEO:44.9874602;-93.2648511
X-APPLE-STRUCTURED-LOCATION;VALUE=URI;X-ADDRESS=Nicollet Island Nicollet Island Minneapolis MN 55401 United States;X-APPLE-RADIUS=500;X-TITLE=Nicollet Island:geo:-93.2648511,44.9874602
END:VEVENT
BEGIN:VEVENT
DTSTART;TZID=America/Chicago:20230821T193000
DTEND;TZID=America/Chicago:20230821T193000
DTSTAMP:20260421T015336
CREATED:20230510T180553Z
LAST-MODIFIED:20230612T173804Z
UID:65621-1692646200-1692646200@www.minneapolisparks.org
SUMMARY:Jumping Jehosafats
DESCRIPTION:Dixieland and all that Jazz!
URL:https://www.minneapolisparks.org/event-calendar/jumping-jehosafats/
LOCATION:Lake Harriet Bandshell\, Minneapolis\, MN\, United States
CATEGORIES:Music & Movies in the Parks,Music in the Parks
GEO:44.927901;-93.3082473
END:VEVENT
BEGIN:VEVENT
DTSTART;TZID=America/Chicago:20230821T201500
DTEND;TZID=America/Chicago:20230821T201500
DTSTAMP:20260421T015336
CREATED:20230517T184402Z
LAST-MODIFIED:20230816T193225Z
UID:65866-1692648900-1692648900@www.minneapolisparks.org
SUMMARY:Best in Show
DESCRIPTION:PG-13
URL:https://www.minneapolisparks.org/event-calendar/best-in-show-4/
LOCATION:Stevens Square Park\, 1801 Stevens Ave\, Minneapolis\, MN\, 55403\, United States
CATEGORIES:Movies in the Parks,Music & Movies in the Parks
GEO:44.9645836;-93.274683
X-APPLE-STRUCTURED-LOCATION;VALUE=URI;X-ADDRESS=Stevens Square Park 1801 Stevens Ave Minneapolis MN 55403 United States;X-APPLE-RADIUS=500;X-TITLE=1801 Stevens Ave:geo:-93.274683,44.9645836
END:VEVENT
BEGIN:VEVENT
DTSTART;TZID=America/Chicago:20230822T120000
DTEND;TZID=America/Chicago:20230822T120000
DTSTAMP:20260421T015336
CREATED:20230420T192719Z
LAST-MODIFIED:20230612T173933Z
UID:64897-1692705600-1692705600@www.minneapolisparks.org
SUMMARY:RayCabaet
DESCRIPTION:Organic Serenade Classy-Jazz
URL:https://www.minneapolisparks.org/event-calendar/raycabaet/
LOCATION:Loring Park\, Loring Park\, Minneapolis\, MN\, 55403\, United States
CATEGORIES:Music & Movies in the Parks,Music in the Parks
GEO:44.9649915;-93.2854596
X-APPLE-STRUCTURED-LOCATION;VALUE=URI;X-ADDRESS=Loring Park Loring Park Minneapolis MN 55403 United States;X-APPLE-RADIUS=500;X-TITLE=Loring Park:geo:-93.2854596,44.9649915
END:VEVENT
BEGIN:VEVENT
DTSTART;TZID=America/Chicago:20230822T190000
DTEND;TZID=America/Chicago:20230822T190000
DTSTAMP:20260421T015336
CREATED:20230420T201840Z
LAST-MODIFIED:20230801T204457Z
UID:64967-1692730800-1692730800@www.minneapolisparks.org
SUMMARY:Smell My Pillow
DESCRIPTION:Original Hard Rock Band
URL:https://www.minneapolisparks.org/event-calendar/smell-my-pillow/
LOCATION:Father Hennepin Bluff Park\, Minneapolis\, MN\, United States
CATEGORIES:Music & Movies in the Parks,Music in the Parks
GEO:44.9826582;-93.2513335
END:VEVENT
BEGIN:VEVENT
DTSTART;TZID=America/Chicago:20230822T211500
DTEND;TZID=America/Chicago:20230822T211500
DTSTAMP:20260421T015336
CREATED:20230517T184457Z
LAST-MODIFIED:20230816T192853Z
UID:65867-1692738900-1692738900@www.minneapolisparks.org
SUMMARY:Mr. Right
DESCRIPTION:
URL:https://www.minneapolisparks.org/event-calendar/mr-right/
LOCATION:Father Hennepin Bluff Park\, Minneapolis\, MN\, United States
CATEGORIES:Movies in the Parks,Music & Movies in the Parks
GEO:44.9826582;-93.2513335
END:VEVENT
BEGIN:VEVENT
DTSTART;TZID=America/Chicago:20230823T120000
DTEND;TZID=America/Chicago:20230823T120000
DTSTAMP:20260421T015336
CREATED:20230420T202246Z
LAST-MODIFIED:20230612T173941Z
UID:64976-1692792000-1692792000@www.minneapolisparks.org
SUMMARY:The Paper Clips Trombone Quartet
DESCRIPTION:Motown Sound Meets Trombone Quartet
URL:https://www.minneapolisparks.org/event-calendar/the-paper-clips-trombone-quartet-2/
LOCATION:The Commons\, 425 Portland Ave South\, Minneapolis\, MN\, 55488\, United States
CATEGORIES:Music & Movies in the Parks,Music in the Parks
GEO:44.9766971;-93.2628904
X-APPLE-STRUCTURED-LOCATION;VALUE=URI;X-ADDRESS=The Commons 425 Portland Ave South Minneapolis MN 55488 United States;X-APPLE-RADIUS=500;X-TITLE=425 Portland Ave South:geo:-93.2628904,44.9766971
END:VEVENT
BEGIN:VEVENT
DTSTART;TZID=America/Chicago:20230823T193000
DTEND;TZID=America/Chicago:20230823T193000
DTSTAMP:20260421T015336
CREATED:20230510T180635Z
LAST-MODIFIED:20230612T173945Z
UID:65623-1692819000-1692819000@www.minneapolisparks.org
SUMMARY:Papa Bleu
DESCRIPTION:Music gumbo for the people.
URL:https://www.minneapolisparks.org/event-calendar/papa-bleu-2/
LOCATION:Lake Harriet Bandshell\, Minneapolis\, MN\, United States
CATEGORIES:Music & Movies in the Parks,Music in the Parks
GEO:44.927901;-93.3082473
END:VEVENT
BEGIN:VEVENT
DTSTART;TZID=America/Chicago:20230823T201500
DTEND;TZID=America/Chicago:20230823T201500
DTSTAMP:20260421T015336
CREATED:20230420T194527Z
LAST-MODIFIED:20230816T193649Z
UID:64924-1692821700-1692821700@www.minneapolisparks.org
SUMMARY:Till
DESCRIPTION:PG-13. Movies start 15 minutes after sunset.
URL:https://www.minneapolisparks.org/event-calendar/till/
LOCATION:The Commons\, 425 Portland Ave South\, Minneapolis\, MN\, 55488\, United States
CATEGORIES:Movies in the Parks,Music & Movies in the Parks
GEO:44.9766971;-93.2628904
X-APPLE-STRUCTURED-LOCATION;VALUE=URI;X-ADDRESS=The Commons 425 Portland Ave South Minneapolis MN 55488 United States;X-APPLE-RADIUS=500;X-TITLE=425 Portland Ave South:geo:-93.2628904,44.9766971
END:VEVENT
BEGIN:VEVENT
DTSTART;TZID=America/Chicago:20230824T190000
DTEND;TZID=America/Chicago:20230824T190000
DTSTAMP:20260421T015336
CREATED:20230420T202342Z
LAST-MODIFIED:20230612T174144Z
UID:64979-1692903600-1692903600@www.minneapolisparks.org
SUMMARY:Kodj
DESCRIPTION:Alternative\, vibey\, energetic\, fun\, relatable
URL:https://www.minneapolisparks.org/event-calendar/kodj-2/
LOCATION:The Commons\, 425 Portland Ave South\, Minneapolis\, MN\, 55488\, United States
CATEGORIES:Music & Movies in the Parks,Music in the Parks
GEO:44.9766971;-93.2628904
X-APPLE-STRUCTURED-LOCATION;VALUE=URI;X-ADDRESS=The Commons 425 Portland Ave South Minneapolis MN 55488 United States;X-APPLE-RADIUS=500;X-TITLE=425 Portland Ave South:geo:-93.2628904,44.9766971
END:VEVENT
BEGIN:VEVENT
DTSTART;TZID=America/Chicago:20230824T190000
DTEND;TZID=America/Chicago:20230824T190000
DTSTAMP:20260421T015336
CREATED:20230504T192215Z
LAST-MODIFIED:20230612T174148Z
UID:65341-1692903600-1692903600@www.minneapolisparks.org
SUMMARY:Chickaboom and Troglodyte
DESCRIPTION:K-tel Pop of the 70’s
URL:https://www.minneapolisparks.org/event-calendar/chickaboom-and-troglodyte/
LOCATION:Minnehaha Bandstand\, Minneapolis\, MN\, United States
CATEGORIES:Music & Movies in the Parks,Music in the Parks
GEO:44.9161006;-93.2109865
END:VEVENT
BEGIN:VEVENT
DTSTART;TZID=America/Chicago:20230824T201500
DTEND;TZID=America/Chicago:20230824T201500
DTSTAMP:20260421T015336
CREATED:20230517T184528Z
LAST-MODIFIED:20230816T193711Z
UID:65870-1692908100-1692908100@www.minneapolisparks.org
SUMMARY:Frankenweenie
DESCRIPTION:PG
URL:https://www.minneapolisparks.org/event-calendar/frankenweenie/
LOCATION:Powderhorn Park\, 3400 15th Ave S\, Minneapolis\, MN\, 554107\, United States
CATEGORIES:Movies in the Parks,Music & Movies in the Parks
GEO:44.9413282;-93.2547875
X-APPLE-STRUCTURED-LOCATION;VALUE=URI;X-ADDRESS=Powderhorn Park 3400 15th Ave S Minneapolis MN 554107 United States;X-APPLE-RADIUS=500;X-TITLE=3400 15th Ave S:geo:-93.2547875,44.9413282
END:VEVENT
BEGIN:VEVENT
DTSTART;TZID=America/Chicago:20230825T120000
DTEND;TZID=America/Chicago:20230825T120000
DTSTAMP:20260421T015336
CREATED:20230424T174627Z
LAST-MODIFIED:20230612T174315Z
UID:65055-1692964800-1692964800@www.minneapolisparks.org
SUMMARY:Alex Sandberg
DESCRIPTION:Dylan\, Beatles\, and classic instrumentals
URL:https://www.minneapolisparks.org/event-calendar/alex-sandberg/
LOCATION:Water Works at Mill Ruins Park\, 425 West River Parkway\, Minneapolis\, MN\, 55401\, United States
CATEGORIES:Music & Movies in the Parks,Music in the Parks
GEO:44.9811921;-93.2620982
X-APPLE-STRUCTURED-LOCATION;VALUE=URI;X-ADDRESS=Water Works at Mill Ruins Park 425 West River Parkway Minneapolis MN 55401 United States;X-APPLE-RADIUS=500;X-TITLE=425 West River Parkway:geo:-93.2620982,44.9811921
END:VEVENT
BEGIN:VEVENT
DTSTART;TZID=America/Chicago:20230825T190000
DTEND;TZID=America/Chicago:20230825T190000
DTSTAMP:20260421T015336
CREATED:20230420T192803Z
LAST-MODIFIED:20230612T174318Z
UID:64899-1692990000-1692990000@www.minneapolisparks.org
SUMMARY:Bluedog
DESCRIPTION:Original Native blues and rock
URL:https://www.minneapolisparks.org/event-calendar/bluedog-6/
LOCATION:Loring Park\, Loring Park\, Minneapolis\, MN\, 55403\, United States
CATEGORIES:Music & Movies in the Parks,Music in the Parks
GEO:44.9649915;-93.2854596
X-APPLE-STRUCTURED-LOCATION;VALUE=URI;X-ADDRESS=Loring Park Loring Park Minneapolis MN 55403 United States;X-APPLE-RADIUS=500;X-TITLE=Loring Park:geo:-93.2854596,44.9649915
END:VEVENT
BEGIN:VEVENT
DTSTART;TZID=America/Chicago:20230825T190000
DTEND;TZID=America/Chicago:20230825T190000
DTSTAMP:20260421T015336
CREATED:20230504T192253Z
LAST-MODIFIED:20230612T174323Z
UID:65343-1692990000-1692990000@www.minneapolisparks.org
SUMMARY:Harlow
DESCRIPTION:Nostalgic Folk Rock outta MPLS.
URL:https://www.minneapolisparks.org/event-calendar/harlow/
LOCATION:Minnehaha Bandstand\, Minneapolis\, MN\, United States
CATEGORIES:Music & Movies in the Parks,Music in the Parks
GEO:44.9161006;-93.2109865
END:VEVENT
BEGIN:VEVENT
DTSTART;TZID=America/Chicago:20230825T193000
DTEND;TZID=America/Chicago:20230825T193000
DTSTAMP:20260421T015336
CREATED:20230510T180730Z
LAST-MODIFIED:20230612T174327Z
UID:65625-1692991800-1692991800@www.minneapolisparks.org
SUMMARY:Ka Lia Universe
DESCRIPTION:presented by Star Tribune
URL:https://www.minneapolisparks.org/event-calendar/ka-lia-universe/
LOCATION:Lake Harriet Bandshell\, Minneapolis\, MN\, United States
CATEGORIES:Music & Movies in the Parks,Music in the Parks
GEO:44.927901;-93.3082473
END:VEVENT
BEGIN:VEVENT
DTSTART;TZID=America/Chicago:20230825T211500
DTEND;TZID=America/Chicago:20230825T211500
DTSTAMP:20260421T015336
CREATED:20230517T184618Z
LAST-MODIFIED:20230816T192903Z
UID:65872-1692998100-1692998100@www.minneapolisparks.org
SUMMARY:Grease
DESCRIPTION:PG
URL:https://www.minneapolisparks.org/event-calendar/grease/
LOCATION:Lake Harriet\, Minneapolis\, MN\, United States
CATEGORIES:Movies in the Parks,Music & Movies in the Parks
GEO:44.927901;-93.3082473
END:VEVENT
BEGIN:VEVENT
DTSTART;TZID=America/Chicago:20230826T200000
DTEND;TZID=America/Chicago:20230826T200000
DTSTAMP:20260421T015336
CREATED:20230517T184655Z
LAST-MODIFIED:20230612T174447Z
UID:65874-1693080000-1693080000@www.minneapolisparks.org
SUMMARY:Black Adam
DESCRIPTION:PG-13
URL:https://www.minneapolisparks.org/event-calendar/black-adam-3/
LOCATION:Morris Park\, 5531 39th Ave S\, Minneapolis\, MN\, 55417\, United States
CATEGORIES:Movies in the Parks,Music & Movies in the Parks
GEO:44.9027659;-93.2159101
X-APPLE-STRUCTURED-LOCATION;VALUE=URI;X-ADDRESS=Morris Park 5531 39th Ave S Minneapolis MN 55417 United States;X-APPLE-RADIUS=500;X-TITLE=5531 39th Ave S:geo:-93.2159101,44.9027659
END:VEVENT
BEGIN:VEVENT
DTSTART;TZID=America/Chicago:20230827T140000
DTEND;TZID=America/Chicago:20230827T140000
DTSTAMP:20260421T015336
CREATED:20230510T180811Z
LAST-MODIFIED:20230612T174451Z
UID:65627-1693144800-1693144800@www.minneapolisparks.org
SUMMARY:Cole Diamond
DESCRIPTION:Classic Country covers and originals.
URL:https://www.minneapolisparks.org/event-calendar/cole-diamond/
LOCATION:Lake Harriet Bandshell\, Minneapolis\, MN\, United States
CATEGORIES:Music & Movies in the Parks,Music in the Parks
GEO:44.927901;-93.3082473
END:VEVENT
END:VCALENDAR