BEGIN:VCALENDAR
VERSION:2.0
PRODID:-//Minneapolis Park &amp; Recreation Board - ECPv6.15.20//NONSGML v1.0//EN
CALSCALE:GREGORIAN
METHOD:PUBLISH
X-ORIGINAL-URL:https://www.minneapolisparks.org
X-WR-CALDESC:Events for Minneapolis Park &amp; Recreation Board
REFRESH-INTERVAL;VALUE=DURATION:PT1H
X-Robots-Tag:noindex
X-PUBLISHED-TTL:PT1H
BEGIN:VTIMEZONE
TZID:America/Chicago
BEGIN:DAYLIGHT
TZOFFSETFROM:-0600
TZOFFSETTO:-0500
TZNAME:CDT
DTSTART:20240310T080000
END:DAYLIGHT
BEGIN:STANDARD
TZOFFSETFROM:-0500
TZOFFSETTO:-0600
TZNAME:CST
DTSTART:20241103T070000
END:STANDARD
BEGIN:DAYLIGHT
TZOFFSETFROM:-0600
TZOFFSETTO:-0500
TZNAME:CDT
DTSTART:20250309T080000
END:DAYLIGHT
BEGIN:STANDARD
TZOFFSETFROM:-0500
TZOFFSETTO:-0600
TZNAME:CST
DTSTART:20251102T070000
END:STANDARD
BEGIN:DAYLIGHT
TZOFFSETFROM:-0600
TZOFFSETTO:-0500
TZNAME:CDT
DTSTART:20260308T080000
END:DAYLIGHT
BEGIN:STANDARD
TZOFFSETFROM:-0500
TZOFFSETTO:-0600
TZNAME:CST
DTSTART:20261101T070000
END:STANDARD
END:VTIMEZONE
BEGIN:VEVENT
DTSTART;TZID=America/Chicago:20250626T190000
DTEND;TZID=America/Chicago:20250626T190000
DTSTAMP:20260421T001025
CREATED:20250515T205421Z
LAST-MODIFIED:20250515T205421Z
UID:82446-1750964400-1750964400@www.minneapolisparks.org
SUMMARY:Olsen-Gillman Band
DESCRIPTION:Rock
URL:https://www.minneapolisparks.org/event-calendar/olsen-gillman-band/
LOCATION:Minnehaha Bandstand\, Minneapolis\, MN\, United States
CATEGORIES:Music & Movies in the Parks,Music in the Parks
GEO:44.9161006;-93.2109865
END:VEVENT
BEGIN:VEVENT
DTSTART;TZID=America/Chicago:20250626T190000
DTEND;TZID=America/Chicago:20250626T190000
DTSTAMP:20260421T001025
CREATED:20250516T183846Z
LAST-MODIFIED:20250516T183846Z
UID:82585-1750964400-1750964400@www.minneapolisparks.org
SUMMARY:Jack Werner
DESCRIPTION:Rock
URL:https://www.minneapolisparks.org/event-calendar/jack-werner-2/
LOCATION:The Commons\, 425 Portland Ave South\, Minneapolis\, MN\, 55488\, United States
CATEGORIES:Music & Movies in the Parks,Music in the Parks
GEO:44.9766971;-93.2628904
X-APPLE-STRUCTURED-LOCATION;VALUE=URI;X-ADDRESS=The Commons 425 Portland Ave South Minneapolis MN 55488 United States;X-APPLE-RADIUS=500;X-TITLE=425 Portland Ave South:geo:-93.2628904,44.9766971
END:VEVENT
BEGIN:VEVENT
DTSTART;TZID=America/Chicago:20250626T190000
DTEND;TZID=America/Chicago:20250626T190000
DTSTAMP:20260421T001025
CREATED:20250516T192829Z
LAST-MODIFIED:20250613T180200Z
UID:82641-1750964400-1750964400@www.minneapolisparks.org
SUMMARY:Mary Strand & the Garage
DESCRIPTION:Indie Rock
URL:https://www.minneapolisparks.org/event-calendar/listen-to-girls-2/
LOCATION:Bryant Square Park\, 3101 Bryant Ave S\, Minneapolis\, MN\, 55408\, United States
CATEGORIES:Music & Movies in the Parks,Music in the Parks
GEO:44.9461045;-93.2903539
X-APPLE-STRUCTURED-LOCATION;VALUE=URI;X-ADDRESS=Bryant Square Park 3101 Bryant Ave S Minneapolis MN 55408 United States;X-APPLE-RADIUS=500;X-TITLE=3101 Bryant Ave S:geo:-93.2903539,44.9461045
END:VEVENT
BEGIN:VEVENT
DTSTART;TZID=America/Chicago:20250626T210500
DTEND;TZID=America/Chicago:20250626T210500
DTSTAMP:20260421T001025
CREATED:20250519T194309Z
LAST-MODIFIED:20250519T194309Z
UID:82708-1750971900-1750971900@www.minneapolisparks.org
SUMMARY:Kung Fu Panda 4
DESCRIPTION:PG
URL:https://www.minneapolisparks.org/event-calendar/kung-fu-panda-4-4/
LOCATION:Beltrami Park\, 1111 Summer St NE\, Minneapolis\, MN\, 55413\, United States
CATEGORIES:Movies in the Parks,Music & Movies in the Parks
GEO:44.9971364;-93.2433279
X-APPLE-STRUCTURED-LOCATION;VALUE=URI;X-ADDRESS=Beltrami Park 1111 Summer St NE Minneapolis MN 55413 United States;X-APPLE-RADIUS=500;X-TITLE=1111 Summer St NE:geo:-93.2433279,44.9971364
END:VEVENT
BEGIN:VEVENT
DTSTART;TZID=America/Chicago:20250627T190000
DTEND;TZID=America/Chicago:20250627T190000
DTSTAMP:20260421T001025
CREATED:20250515T205509Z
LAST-MODIFIED:20250515T205509Z
UID:82448-1751050800-1751050800@www.minneapolisparks.org
SUMMARY:Southern Resident Killer Whales
DESCRIPTION:Rock
URL:https://www.minneapolisparks.org/event-calendar/southern-resident-killer-whales-2/
LOCATION:Minnehaha Bandstand\, Minneapolis\, MN\, United States
CATEGORIES:Music & Movies in the Parks,Music in the Parks
GEO:44.9161006;-93.2109865
END:VEVENT
BEGIN:VEVENT
DTSTART;TZID=America/Chicago:20250627T193000
DTEND;TZID=America/Chicago:20250627T193000
DTSTAMP:20260421T001025
CREATED:20250515T183146Z
LAST-MODIFIED:20250515T183146Z
UID:82313-1751052600-1751052600@www.minneapolisparks.org
SUMMARY:Nobody From Nowhere
DESCRIPTION:Rock
URL:https://www.minneapolisparks.org/event-calendar/nobody-from-nowhere/
LOCATION:Lake Harriet Bandshell\, Minneapolis\, MN\, United States
CATEGORIES:Music & Movies in the Parks,Music in the Parks
GEO:44.927901;-93.3082473
END:VEVENT
BEGIN:VEVENT
DTSTART;TZID=America/Chicago:20250627T210500
DTEND;TZID=America/Chicago:20250627T210500
DTSTAMP:20260421T001025
CREATED:20250519T194428Z
LAST-MODIFIED:20250519T194428Z
UID:82710-1751058300-1751058300@www.minneapolisparks.org
SUMMARY:Wild Robot
DESCRIPTION:PG
URL:https://www.minneapolisparks.org/event-calendar/wild-robot/
LOCATION:Audubon Park\, 1320 29th Ave NE\, Minneapolis\, MN\, 55418\, United States
CATEGORIES:Movies in the Parks,Music & Movies in the Parks
GEO:45.0200505;-93.2397463
X-APPLE-STRUCTURED-LOCATION;VALUE=URI;X-ADDRESS=Audubon Park 1320 29th Ave NE Minneapolis MN 55418 United States;X-APPLE-RADIUS=500;X-TITLE=1320 29th Ave NE:geo:-93.2397463,45.0200505
END:VEVENT
BEGIN:VEVENT
DTSTART;TZID=America/Chicago:20250628T190000
DTEND;TZID=America/Chicago:20250628T190000
DTSTAMP:20260421T001025
CREATED:20250515T214224Z
LAST-MODIFIED:20250515T214224Z
UID:82534-1751137200-1751137200@www.minneapolisparks.org
SUMMARY:Niny Salem
DESCRIPTION:Jazz
URL:https://www.minneapolisparks.org/event-calendar/niny-salem/
LOCATION:Water Works at Mill Ruins Park\, 425 West River Parkway\, Minneapolis\, MN\, 55401\, United States
CATEGORIES:Music & Movies in the Parks,Music in the Parks
GEO:44.9811921;-93.2620982
X-APPLE-STRUCTURED-LOCATION;VALUE=URI;X-ADDRESS=Water Works at Mill Ruins Park 425 West River Parkway Minneapolis MN 55401 United States;X-APPLE-RADIUS=500;X-TITLE=425 West River Parkway:geo:-93.2620982,44.9811921
END:VEVENT
BEGIN:VEVENT
DTSTART;TZID=America/Chicago:20250628T193000
DTEND;TZID=America/Chicago:20250628T193000
DTSTAMP:20260421T001025
CREATED:20250515T183259Z
LAST-MODIFIED:20250606T203218Z
UID:82315-1751139000-1751139000@www.minneapolisparks.org
SUMMARY:Minneapolis POPs - June 28
DESCRIPTION:Big Band
URL:https://www.minneapolisparks.org/event-calendar/minneapolis-pops-12/
LOCATION:Lake Harriet Bandshell\, Minneapolis\, MN\, United States
CATEGORIES:Music & Movies in the Parks,Music in the Parks
GEO:44.927901;-93.3082473
END:VEVENT
BEGIN:VEVENT
DTSTART;TZID=America/Chicago:20250629T140000
DTEND;TZID=America/Chicago:20250629T140000
DTSTAMP:20260421T001025
CREATED:20250515T183423Z
LAST-MODIFIED:20250515T183423Z
UID:82317-1751205600-1751205600@www.minneapolisparks.org
SUMMARY:Katy Tessman
DESCRIPTION:Americana
URL:https://www.minneapolisparks.org/event-calendar/katy-tessman/
LOCATION:Lake Harriet Bandshell\, Minneapolis\, MN\, United States
CATEGORIES:Music & Movies in the Parks,Music in the Parks
GEO:44.927901;-93.3082473
END:VEVENT
BEGIN:VEVENT
DTSTART;TZID=America/Chicago:20250629T173000
DTEND;TZID=America/Chicago:20250629T173000
DTSTAMP:20260421T001025
CREATED:20250515T183546Z
LAST-MODIFIED:20250606T203216Z
UID:82319-1751218200-1751218200@www.minneapolisparks.org
SUMMARY:Minneapolis POPs - June 29
DESCRIPTION:Big Band
URL:https://www.minneapolisparks.org/event-calendar/minneapolis-pops-13/
LOCATION:Lake Harriet Bandshell\, Minneapolis\, MN\, United States
CATEGORIES:Music & Movies in the Parks,Music in the Parks
GEO:44.927901;-93.3082473
END:VEVENT
BEGIN:VEVENT
DTSTART;TZID=America/Chicago:20250630T193000
DTEND;TZID=America/Chicago:20250630T193000
DTSTAMP:20260421T001025
CREATED:20250515T183722Z
LAST-MODIFIED:20250515T183722Z
UID:82321-1751311800-1751311800@www.minneapolisparks.org
SUMMARY:Roseville Community Band
DESCRIPTION:Concert Band
URL:https://www.minneapolisparks.org/event-calendar/roseville-community-band-3/
LOCATION:Lake Harriet Bandshell\, Minneapolis\, MN\, United States
CATEGORIES:Music & Movies in the Parks,Music in the Parks
GEO:44.927901;-93.3082473
END:VEVENT
BEGIN:VEVENT
DTSTART;TZID=America/Chicago:20250701T120000
DTEND;TZID=America/Chicago:20250701T120000
DTSTAMP:20260421T001025
CREATED:20250515T211904Z
LAST-MODIFIED:20250515T211904Z
UID:82490-1751371200-1751371200@www.minneapolisparks.org
SUMMARY:Panza
DESCRIPTION:International Music
URL:https://www.minneapolisparks.org/event-calendar/panza-2/
LOCATION:Minnehaha Bandstand\, Minneapolis\, MN\, United States
CATEGORIES:Music & Movies in the Parks,Music in the Parks
GEO:44.9161006;-93.2109865
END:VEVENT
BEGIN:VEVENT
DTSTART;TZID=America/Chicago:20250701T190000
DTEND;TZID=America/Chicago:20250701T190000
DTSTAMP:20260421T001025
CREATED:20250515T213003Z
LAST-MODIFIED:20250515T213003Z
UID:82510-1751396400-1751396400@www.minneapolisparks.org
SUMMARY:Phil Berbig
DESCRIPTION:Acoustic Rock
URL:https://www.minneapolisparks.org/event-calendar/phil-berbig-3/
LOCATION:Father Hennepin\, Minneapolis\, MN\, United States
CATEGORIES:Music & Movies in the Parks,Music in the Parks
GEO:44.9826582;-93.2513335
END:VEVENT
BEGIN:VEVENT
DTSTART;TZID=America/Chicago:20250701T210500
DTEND;TZID=America/Chicago:20250701T210500
DTSTAMP:20260421T001025
CREATED:20250519T194649Z
LAST-MODIFIED:20250519T194649Z
UID:82712-1751403900-1751403900@www.minneapolisparks.org
SUMMARY:Captain America: Brave New World
DESCRIPTION:PG-13 \nSpanish subtitles
URL:https://www.minneapolisparks.org/event-calendar/captain-america-brave-new-world/
LOCATION:Powderhorn Park\, 3400 15th Ave S\, Minneapolis\, MN\, 554107\, United States
CATEGORIES:Movies in the Parks,Music & Movies in the Parks
GEO:44.9413282;-93.2547875
X-APPLE-STRUCTURED-LOCATION;VALUE=URI;X-ADDRESS=Powderhorn Park 3400 15th Ave S Minneapolis MN 554107 United States;X-APPLE-RADIUS=500;X-TITLE=3400 15th Ave S:geo:-93.2547875,44.9413282
END:VEVENT
BEGIN:VEVENT
DTSTART;TZID=America/Chicago:20250702T160000
DTEND;TZID=America/Chicago:20250702T190000
DTSTAMP:20260421T001025
CREATED:20250616T213002Z
LAST-MODIFIED:20250616T213002Z
UID:83516-1751472000-1751482800@www.minneapolisparks.org
SUMMARY:Twin Cities Mobile Jazz Project - Logan Park
DESCRIPTION:
URL:https://www.minneapolisparks.org/event-calendar/twin-cities-mobile-jazz-project-logan-park/
LOCATION:Logan Park\, 690 13th Ave NE\, Minneapolis\, MN\, 55413\, United States
CATEGORIES:Music & Movies in the Parks,Music in the Parks
GEO:45.0006735;-93.2568797
X-APPLE-STRUCTURED-LOCATION;VALUE=URI;X-ADDRESS=Logan Park 690 13th Ave NE Minneapolis MN 55413 United States;X-APPLE-RADIUS=500;X-TITLE=690 13th Ave NE:geo:-93.2568797,45.0006735
END:VEVENT
BEGIN:VEVENT
DTSTART;TZID=America/Chicago:20250702T193000
DTEND;TZID=America/Chicago:20250702T193000
DTSTAMP:20260421T001025
CREATED:20250515T183905Z
LAST-MODIFIED:20250515T183905Z
UID:82323-1751484600-1751484600@www.minneapolisparks.org
SUMMARY:Janelle and The Simply Fusion Trio
DESCRIPTION:Rhythm & Blues
URL:https://www.minneapolisparks.org/event-calendar/janelle-and-the-simply-fusion-trio/
LOCATION:Lake Harriet Bandshell\, Minneapolis\, MN\, United States
CATEGORIES:Music & Movies in the Parks,Music in the Parks
GEO:44.927901;-93.3082473
END:VEVENT
BEGIN:VEVENT
DTSTART;TZID=America/Chicago:20250702T210500
DTEND;TZID=America/Chicago:20250702T210500
DTSTAMP:20260421T001025
CREATED:20250519T194802Z
LAST-MODIFIED:20250519T194802Z
UID:82714-1751490300-1751490300@www.minneapolisparks.org
SUMMARY:A League of Their Own
DESCRIPTION:PG-13
URL:https://www.minneapolisparks.org/event-calendar/a-league-of-their-own-2/
LOCATION:The Commons\, 425 Portland Ave South\, Minneapolis\, MN\, 55488\, United States
CATEGORIES:Movies in the Parks,Music & Movies in the Parks
GEO:44.9766971;-93.2628904
X-APPLE-STRUCTURED-LOCATION;VALUE=URI;X-ADDRESS=The Commons 425 Portland Ave South Minneapolis MN 55488 United States;X-APPLE-RADIUS=500;X-TITLE=425 Portland Ave South:geo:-93.2628904,44.9766971
END:VEVENT
BEGIN:VEVENT
DTSTART;TZID=America/Chicago:20250703T190000
DTEND;TZID=America/Chicago:20250703T190000
DTSTAMP:20260421T001025
CREATED:20250516T183951Z
LAST-MODIFIED:20250516T183951Z
UID:82587-1751569200-1751569200@www.minneapolisparks.org
SUMMARY:Echo Trail
DESCRIPTION:Bluegrass
URL:https://www.minneapolisparks.org/event-calendar/echo-trail-2/
LOCATION:The Commons\, 425 Portland Ave South\, Minneapolis\, MN\, 55488\, United States
CATEGORIES:Music & Movies in the Parks,Music in the Parks
GEO:44.9766971;-93.2628904
X-APPLE-STRUCTURED-LOCATION;VALUE=URI;X-ADDRESS=The Commons 425 Portland Ave South Minneapolis MN 55488 United States;X-APPLE-RADIUS=500;X-TITLE=425 Portland Ave South:geo:-93.2628904,44.9766971
END:VEVENT
BEGIN:VEVENT
DTSTART;TZID=America/Chicago:20250705T190000
DTEND;TZID=America/Chicago:20250705T190000
DTSTAMP:20260421T001025
CREATED:20250515T214352Z
LAST-MODIFIED:20250515T214352Z
UID:82537-1751742000-1751742000@www.minneapolisparks.org
SUMMARY:The Strum Brothers
DESCRIPTION:Ukulele-Powered Family Fun
URL:https://www.minneapolisparks.org/event-calendar/the-strum-brothers-2/
LOCATION:Water Works at Mill Ruins Park\, 425 West River Parkway\, Minneapolis\, MN\, 55401\, United States
CATEGORIES:Music & Movies in the Parks,Music in the Parks
GEO:44.9811921;-93.2620982
X-APPLE-STRUCTURED-LOCATION;VALUE=URI;X-ADDRESS=Water Works at Mill Ruins Park 425 West River Parkway Minneapolis MN 55401 United States;X-APPLE-RADIUS=500;X-TITLE=425 West River Parkway:geo:-93.2620982,44.9811921
END:VEVENT
BEGIN:VEVENT
DTSTART;TZID=America/Chicago:20250705T193000
DTEND;TZID=America/Chicago:20250705T193000
DTSTAMP:20260421T001025
CREATED:20250515T184024Z
LAST-MODIFIED:20250515T184024Z
UID:82325-1751743800-1751743800@www.minneapolisparks.org
SUMMARY:Minneapolis POPs
DESCRIPTION:Big Band
URL:https://www.minneapolisparks.org/event-calendar/minneapolis-pops-14/
LOCATION:Lake Harriet Bandshell\, Minneapolis\, MN\, United States
CATEGORIES:Music & Movies in the Parks,Music in the Parks
GEO:44.927901;-93.3082473
END:VEVENT
BEGIN:VEVENT
DTSTART;TZID=America/Chicago:20250706T140000
DTEND;TZID=America/Chicago:20250706T140000
DTSTAMP:20260421T001025
CREATED:20250515T184241Z
LAST-MODIFIED:20250515T184241Z
UID:82327-1751810400-1751810400@www.minneapolisparks.org
SUMMARY:Anda Flamenco
DESCRIPTION:Dance
URL:https://www.minneapolisparks.org/event-calendar/anda-flamenco-3/
LOCATION:Lake Harriet Bandshell\, Minneapolis\, MN\, United States
CATEGORIES:Music & Movies in the Parks,Music in the Parks
GEO:44.927901;-93.3082473
END:VEVENT
BEGIN:VEVENT
DTSTART;TZID=America/Chicago:20250706T173000
DTEND;TZID=America/Chicago:20250706T173000
DTSTAMP:20260421T001025
CREATED:20250515T184406Z
LAST-MODIFIED:20250515T184406Z
UID:82329-1751823000-1751823000@www.minneapolisparks.org
SUMMARY:Minneapolis POPs
DESCRIPTION:Big Band
URL:https://www.minneapolisparks.org/event-calendar/minneapolis-pops-16/
LOCATION:Lake Harriet Bandshell\, Minneapolis\, MN\, United States
CATEGORIES:Music & Movies in the Parks,Music in the Parks
GEO:44.927901;-93.3082473
END:VEVENT
BEGIN:VEVENT
DTSTART;TZID=America/Chicago:20250707T193000
DTEND;TZID=America/Chicago:20250707T193000
DTSTAMP:20260421T001025
CREATED:20250515T184522Z
LAST-MODIFIED:20250515T184522Z
UID:82331-1751916600-1751916600@www.minneapolisparks.org
SUMMARY:Junior and The Jukes
DESCRIPTION:Rhythm & Blues
URL:https://www.minneapolisparks.org/event-calendar/junior-and-the-jukes/
LOCATION:Lake Harriet Bandshell\, Minneapolis\, MN\, United States
CATEGORIES:Music & Movies in the Parks,Music in the Parks
GEO:44.927901;-93.3082473
END:VEVENT
BEGIN:VEVENT
DTSTART;TZID=America/Chicago:20250707T210500
DTEND;TZID=America/Chicago:20250707T210500
DTSTAMP:20260421T001025
CREATED:20250519T194924Z
LAST-MODIFIED:20250519T194924Z
UID:82716-1751922300-1751922300@www.minneapolisparks.org
SUMMARY:Mufasa: The Lion King
DESCRIPTION:PG \nSpanish subtitles
URL:https://www.minneapolisparks.org/event-calendar/mufasa-the-lion-king-2/
LOCATION:Painter Park\, 620 W 34th St\, Minneapolis\, MN\, 55408\, United States
CATEGORIES:Movies in the Parks,Music & Movies in the Parks
GEO:44.9416634;-93.2876806
X-APPLE-STRUCTURED-LOCATION;VALUE=URI;X-ADDRESS=Painter Park 620 W 34th St Minneapolis MN 55408 United States;X-APPLE-RADIUS=500;X-TITLE=620 W 34th St:geo:-93.2876806,44.9416634
END:VEVENT
BEGIN:VEVENT
DTSTART;TZID=America/Chicago:20250708T120000
DTEND;TZID=America/Chicago:20250708T120000
DTSTAMP:20260421T001025
CREATED:20250515T211958Z
LAST-MODIFIED:20250515T211958Z
UID:82492-1751976000-1751976000@www.minneapolisparks.org
SUMMARY:Rare Form
DESCRIPTION:Rock
URL:https://www.minneapolisparks.org/event-calendar/rare-form-3/
LOCATION:Minnehaha Bandstand\, Minneapolis\, MN\, United States
CATEGORIES:Music & Movies in the Parks,Music in the Parks
GEO:44.9161006;-93.2109865
END:VEVENT
BEGIN:VEVENT
DTSTART;TZID=America/Chicago:20250708T190000
DTEND;TZID=America/Chicago:20250708T190000
DTSTAMP:20260421T001025
CREATED:20250515T213059Z
LAST-MODIFIED:20250515T213059Z
UID:82515-1752001200-1752001200@www.minneapolisparks.org
SUMMARY:Jazz on the Prairie Big Band
DESCRIPTION:Big Band
URL:https://www.minneapolisparks.org/event-calendar/jazz-on-the-prairie-big-band-2/
LOCATION:Father Hennepin\, Minneapolis\, MN\, United States
CATEGORIES:Music & Movies in the Parks,Music in the Parks
GEO:44.9826582;-93.2513335
END:VEVENT
BEGIN:VEVENT
DTSTART;TZID=America/Chicago:20250708T190000
DTEND;TZID=America/Chicago:20250708T190000
DTSTAMP:20260421T001025
CREATED:20250516T185542Z
LAST-MODIFIED:20250516T185542Z
UID:82611-1752001200-1752001200@www.minneapolisparks.org
SUMMARY:Illwin
DESCRIPTION:Hip Hop. Versatile\, soulful\, innovative\, raw\, and authentic.
URL:https://www.minneapolisparks.org/event-calendar/illwin-2/
LOCATION:Loring Park\, Loring Park\, Minneapolis\, MN\, 55403\, United States
CATEGORIES:Music & Movies in the Parks,Music in the Parks
GEO:44.9649915;-93.2854596
X-APPLE-STRUCTURED-LOCATION;VALUE=URI;X-ADDRESS=Loring Park Loring Park Minneapolis MN 55403 United States;X-APPLE-RADIUS=500;X-TITLE=Loring Park:geo:-93.2854596,44.9649915
END:VEVENT
BEGIN:VEVENT
DTSTART;TZID=America/Chicago:20250708T190000
DTEND;TZID=America/Chicago:20250708T190000
DTSTAMP:20260421T001025
CREATED:20250516T192945Z
LAST-MODIFIED:20250516T192945Z
UID:82643-1752001200-1752001200@www.minneapolisparks.org
SUMMARY:Kodj
DESCRIPTION:Alternative / Pop Folk
URL:https://www.minneapolisparks.org/event-calendar/kodj-6/
LOCATION:Bryant Square Park\, 3101 Bryant Ave S\, Minneapolis\, MN\, 55408\, United States
CATEGORIES:Music & Movies in the Parks,Music in the Parks
GEO:44.9461045;-93.2903539
X-APPLE-STRUCTURED-LOCATION;VALUE=URI;X-ADDRESS=Bryant Square Park 3101 Bryant Ave S Minneapolis MN 55408 United States;X-APPLE-RADIUS=500;X-TITLE=3101 Bryant Ave S:geo:-93.2903539,44.9461045
END:VEVENT
BEGIN:VEVENT
DTSTART;TZID=America/Chicago:20250708T210000
DTEND;TZID=America/Chicago:20250708T210000
DTSTAMP:20260421T001025
CREATED:20250519T195035Z
LAST-MODIFIED:20250519T195035Z
UID:82718-1752008400-1752008400@www.minneapolisparks.org
SUMMARY:Moana 2
DESCRIPTION:PG
URL:https://www.minneapolisparks.org/event-calendar/moana-2-2/
LOCATION:Hiawatha School Park\, 4305 E 42nd St\, Minneapolis\, MN\, 55406\, United States
CATEGORIES:Movies in the Parks,Music & Movies in the Parks
GEO:44.9264488;-93.2112783
X-APPLE-STRUCTURED-LOCATION;VALUE=URI;X-ADDRESS=Hiawatha School Park 4305 E 42nd St Minneapolis MN 55406 United States;X-APPLE-RADIUS=500;X-TITLE=4305 E 42nd St:geo:-93.2112783,44.9264488
END:VEVENT
END:VCALENDAR