BEGIN:VCALENDAR
VERSION:2.0
PRODID:-//Minneapolis Park &amp; Recreation Board - ECPv6.15.20//NONSGML v1.0//EN
CALSCALE:GREGORIAN
METHOD:PUBLISH
X-ORIGINAL-URL:https://www.minneapolisparks.org
X-WR-CALDESC:Events for Minneapolis Park &amp; Recreation Board
REFRESH-INTERVAL;VALUE=DURATION:PT1H
X-Robots-Tag:noindex
X-PUBLISHED-TTL:PT1H
BEGIN:VTIMEZONE
TZID:America/Chicago
BEGIN:DAYLIGHT
TZOFFSETFROM:-0600
TZOFFSETTO:-0500
TZNAME:CDT
DTSTART:20220313T080000
END:DAYLIGHT
BEGIN:STANDARD
TZOFFSETFROM:-0500
TZOFFSETTO:-0600
TZNAME:CST
DTSTART:20221106T070000
END:STANDARD
BEGIN:DAYLIGHT
TZOFFSETFROM:-0600
TZOFFSETTO:-0500
TZNAME:CDT
DTSTART:20230312T080000
END:DAYLIGHT
BEGIN:STANDARD
TZOFFSETFROM:-0500
TZOFFSETTO:-0600
TZNAME:CST
DTSTART:20231105T070000
END:STANDARD
BEGIN:DAYLIGHT
TZOFFSETFROM:-0600
TZOFFSETTO:-0500
TZNAME:CDT
DTSTART:20240310T080000
END:DAYLIGHT
BEGIN:STANDARD
TZOFFSETFROM:-0500
TZOFFSETTO:-0600
TZNAME:CST
DTSTART:20241103T070000
END:STANDARD
END:VTIMEZONE
BEGIN:VEVENT
DTSTART;TZID=America/Chicago:20230709T140000
DTEND;TZID=America/Chicago:20230709T140000
DTSTAMP:20260420T191409
CREATED:20230510T164740Z
LAST-MODIFIED:20230609T195214Z
UID:65545-1688911200-1688911200@www.minneapolisparks.org
SUMMARY:Saddle Sores
DESCRIPTION:Classic country from the 50s\, 60s\, and 70s
URL:https://www.minneapolisparks.org/event-calendar/saddle-sores-5/
LOCATION:Lake Harriet Bandshell\, Minneapolis\, MN\, United States
CATEGORIES:Music & Movies in the Parks,Music in the Parks
GEO:44.927901;-93.3082473
END:VEVENT
BEGIN:VEVENT
DTSTART;TZID=America/Chicago:20230709T173000
DTEND;TZID=America/Chicago:20230709T173000
DTSTAMP:20260420T191409
CREATED:20230510T164916Z
LAST-MODIFIED:20230609T203741Z
UID:65547-1688923800-1688923800@www.minneapolisparks.org
SUMMARY:Minneapolis POPs
DESCRIPTION:The Minneapolis Pops Orchestra
URL:https://www.minneapolisparks.org/event-calendar/minneapolis-pops-4/2023-07-09/
LOCATION:Lake Harriet Bandshell\, Minneapolis\, MN\, United States
CATEGORIES:Music & Movies in the Parks,Music in the Parks
GEO:44.927901;-93.3082473
END:VEVENT
BEGIN:VEVENT
DTSTART;TZID=America/Chicago:20230710T190000
DTEND;TZID=America/Chicago:20230710T190000
DTSTAMP:20260420T191409
CREATED:20230424T173658Z
LAST-MODIFIED:20230609T195222Z
UID:65029-1689015600-1689015600@www.minneapolisparks.org
SUMMARY:My Cousin Dallas
DESCRIPTION:Adult contemporary originals and covers
URL:https://www.minneapolisparks.org/event-calendar/my-cousin-dallas/
LOCATION:Water Works at Mill Ruins Park\, 425 West River Parkway\, Minneapolis\, MN\, 55401\, United States
CATEGORIES:Music & Movies in the Parks,Music in the Parks
GEO:44.9811921;-93.2620982
X-APPLE-STRUCTURED-LOCATION;VALUE=URI;X-ADDRESS=Water Works at Mill Ruins Park 425 West River Parkway Minneapolis MN 55401 United States;X-APPLE-RADIUS=500;X-TITLE=425 West River Parkway:geo:-93.2620982,44.9811921
END:VEVENT
BEGIN:VEVENT
DTSTART;TZID=America/Chicago:20230710T193000
DTEND;TZID=America/Chicago:20230710T193000
DTSTAMP:20260420T191409
CREATED:20230510T165025Z
LAST-MODIFIED:20230609T195225Z
UID:65552-1689017400-1689017400@www.minneapolisparks.org
SUMMARY:Roseville Community Band
DESCRIPTION:Community band plays fan favorites
URL:https://www.minneapolisparks.org/event-calendar/roseville-community-band-2/
LOCATION:Lake Harriet Bandshell\, Minneapolis\, MN\, United States
CATEGORIES:Music & Movies in the Parks,Music in the Parks
GEO:44.927901;-93.3082473
END:VEVENT
BEGIN:VEVENT
DTSTART;TZID=America/Chicago:20230710T210000
DTEND;TZID=America/Chicago:20230710T210000
DTSTAMP:20260420T191409
CREATED:20230517T182009Z
LAST-MODIFIED:20230609T195343Z
UID:65803-1689022800-1689022800@www.minneapolisparks.org
SUMMARY:School of Rock
DESCRIPTION:PG-13
URL:https://www.minneapolisparks.org/event-calendar/school-of-rock-3/
LOCATION:Painter Park\, 620 W 34th St\, Minneapolis\, MN\, 55408\, United States
CATEGORIES:Movies in the Parks,Music & Movies in the Parks
GEO:44.9416634;-93.2876806
X-APPLE-STRUCTURED-LOCATION;VALUE=URI;X-ADDRESS=Painter Park 620 W 34th St Minneapolis MN 55408 United States;X-APPLE-RADIUS=500;X-TITLE=620 W 34th St:geo:-93.2876806,44.9416634
END:VEVENT
BEGIN:VEVENT
DTSTART;TZID=America/Chicago:20230711T120000
DTEND;TZID=America/Chicago:20230711T120000
DTSTAMP:20260420T191409
CREATED:20230420T191756Z
LAST-MODIFIED:20230609T195348Z
UID:64875-1689076800-1689076800@www.minneapolisparks.org
SUMMARY:Phil Berbig
DESCRIPTION:Acoustic music for everyone
URL:https://www.minneapolisparks.org/event-calendar/phil-berbig/
LOCATION:Loring Park\, Loring Park\, Minneapolis\, MN\, 55403\, United States
CATEGORIES:Music & Movies in the Parks,Music in the Parks
GEO:44.9649915;-93.2854596
X-APPLE-STRUCTURED-LOCATION;VALUE=URI;X-ADDRESS=Loring Park Loring Park Minneapolis MN 55403 United States;X-APPLE-RADIUS=500;X-TITLE=Loring Park:geo:-93.2854596,44.9649915
END:VEVENT
BEGIN:VEVENT
DTSTART;TZID=America/Chicago:20230711T183000
DTEND;TZID=America/Chicago:20230711T200000
DTSTAMP:20260420T191409
CREATED:20230504T185725Z
LAST-MODIFIED:20230609T195352Z
UID:65277-1689100200-1689105600@www.minneapolisparks.org
SUMMARY:The Jazz Standards
DESCRIPTION:Jazz
URL:https://www.minneapolisparks.org/event-calendar/the-jazz-standards/
LOCATION:Bryant Square Park\, 3101 Bryant Ave S\, Minneapolis\, MN\, 55408\, United States
CATEGORIES:Music & Movies in the Parks,Music in the Parks
GEO:44.9461045;-93.2903539
X-APPLE-STRUCTURED-LOCATION;VALUE=URI;X-ADDRESS=Bryant Square Park 3101 Bryant Ave S Minneapolis MN 55408 United States;X-APPLE-RADIUS=500;X-TITLE=3101 Bryant Ave S:geo:-93.2903539,44.9461045
END:VEVENT
BEGIN:VEVENT
DTSTART;TZID=America/Chicago:20230711T190000
DTEND;TZID=America/Chicago:20230711T190000
DTSTAMP:20260420T191409
CREATED:20230504T184609Z
LAST-MODIFIED:20230609T195356Z
UID:65251-1689102000-1689102000@www.minneapolisparks.org
SUMMARY:Barlow
DESCRIPTION:Rhythm & Blues (R&B)
URL:https://www.minneapolisparks.org/event-calendar/barlow/
LOCATION:Father Hennepin Bluff Park\, Minneapolis\, MN\, United States
CATEGORIES:Music & Movies in the Parks,Music in the Parks
GEO:44.9826582;-93.2513335
END:VEVENT
BEGIN:VEVENT
DTSTART;TZID=America/Chicago:20230711T204500
DTEND;TZID=America/Chicago:20230711T204500
DTSTAMP:20260420T191409
CREATED:20230517T182111Z
LAST-MODIFIED:20230609T195539Z
UID:65805-1689108300-1689108300@www.minneapolisparks.org
SUMMARY:The Upside
DESCRIPTION:PG-13
URL:https://www.minneapolisparks.org/event-calendar/the-upside/
LOCATION:Father Hennepin Bluff Park\, Minneapolis\, MN\, United States
CATEGORIES:Movies in the Parks,Music & Movies in the Parks
GEO:44.9826582;-93.2513335
END:VEVENT
BEGIN:VEVENT
DTSTART;TZID=America/Chicago:20230712T120000
DTEND;TZID=America/Chicago:20230712T120000
DTSTAMP:20260420T191409
CREATED:20230420T195633Z
LAST-MODIFIED:20230609T195542Z
UID:64953-1689163200-1689163200@www.minneapolisparks.org
SUMMARY:Band of Praise
DESCRIPTION:Jazz from 1900 to 1930
URL:https://www.minneapolisparks.org/event-calendar/band-of-praise-2/
LOCATION:The Commons\, 425 Portland Ave South\, Minneapolis\, MN\, 55488\, United States
CATEGORIES:Music & Movies in the Parks,Music in the Parks
GEO:44.9766971;-93.2628904
X-APPLE-STRUCTURED-LOCATION;VALUE=URI;X-ADDRESS=The Commons 425 Portland Ave South Minneapolis MN 55488 United States;X-APPLE-RADIUS=500;X-TITLE=425 Portland Ave South:geo:-93.2628904,44.9766971
END:VEVENT
BEGIN:VEVENT
DTSTART;TZID=America/Chicago:20230712T193000
DTEND;TZID=America/Chicago:20230712T193000
DTSTAMP:20260420T191409
CREATED:20230510T165156Z
LAST-MODIFIED:20230609T195545Z
UID:65553-1689190200-1689190200@www.minneapolisparks.org
SUMMARY:Homeward Bound
DESCRIPTION:Upper Midwestern Roots and Americana
URL:https://www.minneapolisparks.org/event-calendar/homeward-bound-3/
LOCATION:Lake Harriet Bandshell\, Minneapolis\, MN\, United States
CATEGORIES:Music & Movies in the Parks,Music in the Parks
GEO:44.927901;-93.3082473
END:VEVENT
BEGIN:VEVENT
DTSTART;TZID=America/Chicago:20230712T210000
DTEND;TZID=America/Chicago:20230712T210000
DTSTAMP:20260420T191409
CREATED:20230420T193729Z
LAST-MODIFIED:20230609T195549Z
UID:64913-1689195600-1689195600@www.minneapolisparks.org
SUMMARY:Black Adam
DESCRIPTION:PG-13. Movies start 15 minutes after sunset.
URL:https://www.minneapolisparks.org/event-calendar/black-adam/
LOCATION:The Commons\, 425 Portland Ave South\, Minneapolis\, MN\, 55488\, United States
CATEGORIES:Movies in the Parks,Music & Movies in the Parks
GEO:44.9766971;-93.2628904
X-APPLE-STRUCTURED-LOCATION;VALUE=URI;X-ADDRESS=The Commons 425 Portland Ave South Minneapolis MN 55488 United States;X-APPLE-RADIUS=500;X-TITLE=425 Portland Ave South:geo:-93.2628904,44.9766971
END:VEVENT
BEGIN:VEVENT
DTSTART;TZID=America/Chicago:20230713T183000
DTEND;TZID=America/Chicago:20230713T200000
DTSTAMP:20260420T191409
CREATED:20230504T185806Z
LAST-MODIFIED:20230609T195708Z
UID:65279-1689273000-1689278400@www.minneapolisparks.org
SUMMARY:Purple Queen
DESCRIPTION:Hip Hop Pop Rap
URL:https://www.minneapolisparks.org/event-calendar/purple-queen-2/
LOCATION:Bryant Square Park\, 3101 Bryant Ave S\, Minneapolis\, MN\, 55408\, United States
CATEGORIES:Music & Movies in the Parks,Music in the Parks
GEO:44.9461045;-93.2903539
X-APPLE-STRUCTURED-LOCATION;VALUE=URI;X-ADDRESS=Bryant Square Park 3101 Bryant Ave S Minneapolis MN 55408 United States;X-APPLE-RADIUS=500;X-TITLE=3101 Bryant Ave S:geo:-93.2903539,44.9461045
END:VEVENT
BEGIN:VEVENT
DTSTART;TZID=America/Chicago:20230713T190000
DTEND;TZID=America/Chicago:20230713T190000
DTSTAMP:20260420T191409
CREATED:20230420T195726Z
LAST-MODIFIED:20230609T195705Z
UID:64955-1689274800-1689274800@www.minneapolisparks.org
SUMMARY:Brian Naughton Band
DESCRIPTION:Blues\, Rock\, Funk and Soul
URL:https://www.minneapolisparks.org/event-calendar/brian-naughton-band/
LOCATION:The Commons\, 425 Portland Ave South\, Minneapolis\, MN\, 55488\, United States
CATEGORIES:Music & Movies in the Parks,Music in the Parks
GEO:44.9766971;-93.2628904
X-APPLE-STRUCTURED-LOCATION;VALUE=URI;X-ADDRESS=The Commons 425 Portland Ave South Minneapolis MN 55488 United States;X-APPLE-RADIUS=500;X-TITLE=425 Portland Ave South:geo:-93.2628904,44.9766971
END:VEVENT
BEGIN:VEVENT
DTSTART;TZID=America/Chicago:20230713T190000
DTEND;TZID=America/Chicago:20230713T190000
DTSTAMP:20260420T191409
CREATED:20230504T191427Z
LAST-MODIFIED:20230609T195703Z
UID:65317-1689274800-1689274800@www.minneapolisparks.org
SUMMARY:Fat Chance Jug Band
DESCRIPTION:Classic jug band tunes and more
URL:https://www.minneapolisparks.org/event-calendar/fat-chance-jug-band/
LOCATION:Minnehaha Bandstand\, Minneapolis\, MN\, United States
CATEGORIES:Music & Movies in the Parks,Music in the Parks
GEO:44.9161006;-93.2109865
END:VEVENT
BEGIN:VEVENT
DTSTART;TZID=America/Chicago:20230713T204500
DTEND;TZID=America/Chicago:20230713T204500
DTSTAMP:20260420T191409
CREATED:20230517T182155Z
LAST-MODIFIED:20230609T195658Z
UID:65808-1689281100-1689281100@www.minneapolisparks.org
SUMMARY:Space Jam: A New Legacy
DESCRIPTION:PG
URL:https://www.minneapolisparks.org/event-calendar/space-jam-a-new-legacy/
LOCATION:Victory Memorial Drive\, Victory Memorial Drive\, Minneapolis\, MN\, United States
CATEGORIES:Movies in the Parks,Music & Movies in the Parks
GEO:45.0311986;-93.3193329
X-APPLE-STRUCTURED-LOCATION;VALUE=URI;X-ADDRESS=Victory Memorial Drive Victory Memorial Drive Minneapolis MN United States;X-APPLE-RADIUS=500;X-TITLE=Victory Memorial Drive:geo:-93.3193329,45.0311986
END:VEVENT
BEGIN:VEVENT
DTSTART;TZID=America/Chicago:20230714T120000
DTEND;TZID=America/Chicago:20230714T120000
DTSTAMP:20260420T191409
CREATED:20230424T173800Z
LAST-MODIFIED:20230609T195655Z
UID:65030-1689336000-1689336000@www.minneapolisparks.org
SUMMARY:10th Wave Chamber Collective
DESCRIPTION:Chamber music of our generation
URL:https://www.minneapolisparks.org/event-calendar/10th-wave-chamber-collective/
LOCATION:Water Works at Mill Ruins Park\, 425 West River Parkway\, Minneapolis\, MN\, 55401\, United States
CATEGORIES:Music & Movies in the Parks,Music in the Parks
GEO:44.9811921;-93.2620982
X-APPLE-STRUCTURED-LOCATION;VALUE=URI;X-ADDRESS=Water Works at Mill Ruins Park 425 West River Parkway Minneapolis MN 55401 United States;X-APPLE-RADIUS=500;X-TITLE=425 West River Parkway:geo:-93.2620982,44.9811921
END:VEVENT
BEGIN:VEVENT
DTSTART;TZID=America/Chicago:20230714T190000
DTEND;TZID=America/Chicago:20230714T190000
DTSTAMP:20260420T191409
CREATED:20230420T191841Z
LAST-MODIFIED:20230609T195835Z
UID:64877-1689361200-1689361200@www.minneapolisparks.org
SUMMARY:The Gated Community
DESCRIPTION:Americana band for the 99%
URL:https://www.minneapolisparks.org/event-calendar/the-gated-community/
LOCATION:Loring Park\, Loring Park\, Minneapolis\, MN\, 55403\, United States
CATEGORIES:Music & Movies in the Parks,Music in the Parks
GEO:44.9649915;-93.2854596
X-APPLE-STRUCTURED-LOCATION;VALUE=URI;X-ADDRESS=Loring Park Loring Park Minneapolis MN 55403 United States;X-APPLE-RADIUS=500;X-TITLE=Loring Park:geo:-93.2854596,44.9649915
END:VEVENT
BEGIN:VEVENT
DTSTART;TZID=America/Chicago:20230714T190000
DTEND;TZID=America/Chicago:20230714T190000
DTSTAMP:20260420T191409
CREATED:20230504T191508Z
LAST-MODIFIED:20230609T195833Z
UID:65319-1689361200-1689361200@www.minneapolisparks.org
SUMMARY:Westwind Big Band
DESCRIPTION:Big band music from yesterday and today
URL:https://www.minneapolisparks.org/event-calendar/westwind-big-band-3/
LOCATION:Minnehaha Bandstand\, Minneapolis\, MN\, United States
CATEGORIES:Music & Movies in the Parks,Music in the Parks
GEO:44.9161006;-93.2109865
END:VEVENT
BEGIN:VEVENT
DTSTART;TZID=America/Chicago:20230714T193000
DTEND;TZID=America/Chicago:20230714T193000
DTSTAMP:20260420T191409
CREATED:20230510T165248Z
LAST-MODIFIED:20230609T195830Z
UID:65556-1689363000-1689363000@www.minneapolisparks.org
SUMMARY:MN Sinfonia
DESCRIPTION:Classical pops Children’s Concert
URL:https://www.minneapolisparks.org/event-calendar/mn-sinfonia-5/
LOCATION:Lake Harriet Bandshell\, Minneapolis\, MN\, United States
CATEGORIES:Music & Movies in the Parks,Music in the Parks
GEO:44.927901;-93.3082473
END:VEVENT
BEGIN:VEVENT
DTSTART;TZID=America/Chicago:20230714T204500
DTEND;TZID=America/Chicago:20230714T204500
DTSTAMP:20260420T191409
CREATED:20230517T182235Z
LAST-MODIFIED:20230609T195826Z
UID:65810-1689367500-1689367500@www.minneapolisparks.org
SUMMARY:Jurassic World Dominion
DESCRIPTION:PG-13
URL:https://www.minneapolisparks.org/event-calendar/jurassic-world-dominion-2/
LOCATION:Longfellow Park\, 3435 36th Ave S\, Minneapolis\, MN\, 55406\, United States
CATEGORIES:Movies in the Parks,Music & Movies in the Parks
GEO:44.9400906;-93.2199535
X-APPLE-STRUCTURED-LOCATION;VALUE=URI;X-ADDRESS=Longfellow Park 3435 36th Ave S Minneapolis MN 55406 United States;X-APPLE-RADIUS=500;X-TITLE=3435 36th Ave S:geo:-93.2199535,44.9400906
END:VEVENT
BEGIN:VEVENT
DTSTART;TZID=America/Chicago:20230715T193000
DTEND;TZID=America/Chicago:20230715T193000
DTSTAMP:20260420T191409
CREATED:20230510T165358Z
LAST-MODIFIED:20230609T202012Z
UID:65558-1689449400-1689449400@www.minneapolisparks.org
SUMMARY:Minneapolis POPs
DESCRIPTION:The Minneapolis Pops Orchestra
URL:https://www.minneapolisparks.org/event-calendar/minneapolis-pops-5/2023-07-15/
LOCATION:Lake Harriet Bandshell\, Minneapolis\, MN\, United States
CATEGORIES:Music & Movies in the Parks,Music in the Parks
GEO:44.927901;-93.3082473
END:VEVENT
BEGIN:VEVENT
DTSTART;TZID=America/Chicago:20230715T204500
DTEND;TZID=America/Chicago:20230715T204500
DTSTAMP:20260420T191409
CREATED:20230517T182320Z
LAST-MODIFIED:20230609T200042Z
UID:65812-1689453900-1689453900@www.minneapolisparks.org
SUMMARY:Ferris Bueller's Day Off
DESCRIPTION:PG-13
URL:https://www.minneapolisparks.org/event-calendar/ferris-buellers-day-off-5/
LOCATION:Lake Harriet\, Minneapolis\, MN\, United States
CATEGORIES:Movies in the Parks,Music & Movies in the Parks
GEO:44.927901;-93.3082473
END:VEVENT
BEGIN:VEVENT
DTSTART;TZID=America/Chicago:20230716T140000
DTEND;TZID=America/Chicago:20230716T140000
DTSTAMP:20260420T191409
CREATED:20230510T165436Z
LAST-MODIFIED:20230609T200038Z
UID:65560-1689516000-1689516000@www.minneapolisparks.org
SUMMARY:Tzofim Friendship Caravan
DESCRIPTION:Family Friendly Dance and Sing-along
URL:https://www.minneapolisparks.org/event-calendar/tzofim-friendship-caravan/
LOCATION:Lake Harriet Bandshell\, Minneapolis\, MN\, United States
CATEGORIES:Music & Movies in the Parks,Music in the Parks
GEO:44.927901;-93.3082473
END:VEVENT
BEGIN:VEVENT
DTSTART;TZID=America/Chicago:20230717T190000
DTEND;TZID=America/Chicago:20230717T190000
DTSTAMP:20260420T191409
CREATED:20230424T173837Z
LAST-MODIFIED:20230609T200024Z
UID:65033-1689620400-1689620400@www.minneapolisparks.org
SUMMARY:Opera on the Lake
DESCRIPTION:The name says it all!
URL:https://www.minneapolisparks.org/event-calendar/opera-on-the-lake-4/
LOCATION:Water Works at Mill Ruins Park\, 425 West River Parkway\, Minneapolis\, MN\, 55401\, United States
CATEGORIES:Music & Movies in the Parks,Music in the Parks
GEO:44.9811921;-93.2620982
X-APPLE-STRUCTURED-LOCATION;VALUE=URI;X-ADDRESS=Water Works at Mill Ruins Park 425 West River Parkway Minneapolis MN 55401 United States;X-APPLE-RADIUS=500;X-TITLE=425 West River Parkway:geo:-93.2620982,44.9811921
END:VEVENT
BEGIN:VEVENT
DTSTART;TZID=America/Chicago:20230717T190000
DTEND;TZID=America/Chicago:20230717T190000
DTSTAMP:20260420T191409
CREATED:20230504T184656Z
LAST-MODIFIED:20230609T200209Z
UID:65253-1689620400-1689620400@www.minneapolisparks.org
SUMMARY:Old Guys Play the Blues
DESCRIPTION:Folk blues
URL:https://www.minneapolisparks.org/event-calendar/old-guys-play-the-blues-3/
LOCATION:Nicollet Island\, Nicollet Island\, Minneapolis\, MN\, 55401\, United States
CATEGORIES:Music & Movies in the Parks,Music in the Parks
GEO:44.9874602;-93.2648511
X-APPLE-STRUCTURED-LOCATION;VALUE=URI;X-ADDRESS=Nicollet Island Nicollet Island Minneapolis MN 55401 United States;X-APPLE-RADIUS=500;X-TITLE=Nicollet Island:geo:-93.2648511,44.9874602
END:VEVENT
BEGIN:VEVENT
DTSTART;TZID=America/Chicago:20230717T193000
DTEND;TZID=America/Chicago:20230717T193000
DTSTAMP:20260420T191409
CREATED:20230510T165520Z
LAST-MODIFIED:20230609T200205Z
UID:65564-1689622200-1689622200@www.minneapolisparks.org
SUMMARY:Shoreview Northern Lights Variety Band
DESCRIPTION:Concert band performing musical variety
URL:https://www.minneapolisparks.org/event-calendar/shoreview-northern-lights-variety-band/
LOCATION:Lake Harriet Bandshell\, Minneapolis\, MN\, United States
CATEGORIES:Music & Movies in the Parks,Music in the Parks
GEO:44.927901;-93.3082473
END:VEVENT
BEGIN:VEVENT
DTSTART;TZID=America/Chicago:20230717T204500
DTEND;TZID=America/Chicago:20230717T204500
DTSTAMP:20260420T191409
CREATED:20230517T182402Z
LAST-MODIFIED:20230609T200201Z
UID:65814-1689626700-1689626700@www.minneapolisparks.org
SUMMARY:Minnesota Twins: 1991 World Series-Game 6
DESCRIPTION:NR
URL:https://www.minneapolisparks.org/event-calendar/minnesota-twins-1991-world-series-game-6/
LOCATION:Northeast Park\, 1530 Johnson St NE\, Minneapolis\, MN\, 55413\, United States
CATEGORIES:Movies in the Parks,Music & Movies in the Parks
GEO:45.0039194;-93.2379239
X-APPLE-STRUCTURED-LOCATION;VALUE=URI;X-ADDRESS=Northeast Park 1530 Johnson St NE Minneapolis MN 55413 United States;X-APPLE-RADIUS=500;X-TITLE=1530 Johnson St NE:geo:-93.2379239,45.0039194
END:VEVENT
BEGIN:VEVENT
DTSTART;TZID=America/Chicago:20230718T120000
DTEND;TZID=America/Chicago:20230718T120000
DTSTAMP:20260420T191409
CREATED:20230420T191944Z
LAST-MODIFIED:20230609T200149Z
UID:64879-1689681600-1689681600@www.minneapolisparks.org
SUMMARY:Matt Jennings Electric Trio
DESCRIPTION:International Fusion – Flamenco Surf Rock
URL:https://www.minneapolisparks.org/event-calendar/matt-jennings-electric-trio/
LOCATION:Loring Park\, Loring Park\, Minneapolis\, MN\, 55403\, United States
CATEGORIES:Music & Movies in the Parks,Music in the Parks
GEO:44.9649915;-93.2854596
X-APPLE-STRUCTURED-LOCATION;VALUE=URI;X-ADDRESS=Loring Park Loring Park Minneapolis MN 55403 United States;X-APPLE-RADIUS=500;X-TITLE=Loring Park:geo:-93.2854596,44.9649915
END:VEVENT
BEGIN:VEVENT
DTSTART;TZID=America/Chicago:20230718T183000
DTEND;TZID=America/Chicago:20230718T200000
DTSTAMP:20260420T191409
CREATED:20230504T185848Z
LAST-MODIFIED:20230609T200704Z
UID:65281-1689705000-1689710400@www.minneapolisparks.org
SUMMARY:Spells and Curses
DESCRIPTION:Indie Rock
URL:https://www.minneapolisparks.org/event-calendar/spells-and-curses/
LOCATION:Bryant Square Park\, 3101 Bryant Ave S\, Minneapolis\, MN\, 55408\, United States
CATEGORIES:Music & Movies in the Parks,Music in the Parks
GEO:44.9461045;-93.2903539
X-APPLE-STRUCTURED-LOCATION;VALUE=URI;X-ADDRESS=Bryant Square Park 3101 Bryant Ave S Minneapolis MN 55408 United States;X-APPLE-RADIUS=500;X-TITLE=3101 Bryant Ave S:geo:-93.2903539,44.9461045
END:VEVENT
END:VCALENDAR