BEGIN:VCALENDAR
VERSION:2.0
PRODID:-//Minneapolis Park &amp; Recreation Board - ECPv6.15.20//NONSGML v1.0//EN
CALSCALE:GREGORIAN
METHOD:PUBLISH
X-WR-CALNAME:Minneapolis Park &amp; Recreation Board
X-ORIGINAL-URL:https://www.minneapolisparks.org
X-WR-CALDESC:Events for Minneapolis Park &amp; Recreation Board
REFRESH-INTERVAL;VALUE=DURATION:PT1H
X-Robots-Tag:noindex
X-PUBLISHED-TTL:PT1H
BEGIN:VTIMEZONE
TZID:America/Chicago
BEGIN:DAYLIGHT
TZOFFSETFROM:-0600
TZOFFSETTO:-0500
TZNAME:CDT
DTSTART:20230312T080000
END:DAYLIGHT
BEGIN:STANDARD
TZOFFSETFROM:-0500
TZOFFSETTO:-0600
TZNAME:CST
DTSTART:20231105T070000
END:STANDARD
BEGIN:DAYLIGHT
TZOFFSETFROM:-0600
TZOFFSETTO:-0500
TZNAME:CDT
DTSTART:20240310T080000
END:DAYLIGHT
BEGIN:STANDARD
TZOFFSETFROM:-0500
TZOFFSETTO:-0600
TZNAME:CST
DTSTART:20241103T070000
END:STANDARD
BEGIN:DAYLIGHT
TZOFFSETFROM:-0600
TZOFFSETTO:-0500
TZNAME:CDT
DTSTART:20250309T080000
END:DAYLIGHT
BEGIN:STANDARD
TZOFFSETFROM:-0500
TZOFFSETTO:-0600
TZNAME:CST
DTSTART:20251102T070000
END:STANDARD
BEGIN:DAYLIGHT
TZOFFSETFROM:-0600
TZOFFSETTO:-0500
TZNAME:CDT
DTSTART:20260308T080000
END:DAYLIGHT
BEGIN:STANDARD
TZOFFSETFROM:-0500
TZOFFSETTO:-0600
TZNAME:CST
DTSTART:20261101T070000
END:STANDARD
END:VTIMEZONE
BEGIN:VEVENT
DTSTART;TZID=America/Chicago:20240831T195000
DTEND;TZID=America/Chicago:20240831T195000
DTSTAMP:20260420T191402
CREATED:20240523T190103Z
LAST-MODIFIED:20240523T190103Z
UID:74426-1725133800-1725133800@www.minneapolisparks.org
SUMMARY:Godzilla x Kong: The New Empire
DESCRIPTION:PG-13
URL:https://www.minneapolisparks.org/event-calendar/godzilla-x-kong-the-new-empire/
LOCATION:Bryant Square Park\, 3101 Bryant Ave S\, Minneapolis\, MN\, 55408\, United States
CATEGORIES:Movies in the Parks,Music & Movies in the Parks
GEO:44.9461045;-93.2903539
X-APPLE-STRUCTURED-LOCATION;VALUE=URI;X-ADDRESS=Bryant Square Park 3101 Bryant Ave S Minneapolis MN 55408 United States;X-APPLE-RADIUS=500;X-TITLE=3101 Bryant Ave S:geo:-93.2903539,44.9461045
END:VEVENT
BEGIN:VEVENT
DTSTART;TZID=America/Chicago:20240901T140000
DTEND;TZID=America/Chicago:20240901T140000
DTSTAMP:20260420T191402
CREATED:20240523T162825Z
LAST-MODIFIED:20240523T162825Z
UID:74314-1725199200-1725199200@www.minneapolisparks.org
SUMMARY:The Jolly Pops
DESCRIPTION:Happy Dads playing music for kids and families
URL:https://www.minneapolisparks.org/event-calendar/the-jolly-pops-3/
LOCATION:Lake Harriet Bandshell\, Minneapolis\, MN\, United States
CATEGORIES:Music & Movies in the Parks,Music in the Parks
GEO:44.927901;-93.3082473
END:VEVENT
BEGIN:VEVENT
DTSTART;TZID=America/Chicago:20240901T173000
DTEND;TZID=America/Chicago:20240901T173000
DTSTAMP:20260420T191402
CREATED:20240523T163324Z
LAST-MODIFIED:20240523T163324Z
UID:74320-1725211800-1725211800@www.minneapolisparks.org
SUMMARY:SESAY
DESCRIPTION:Acoustic afro pop\, unique\, singer-songwriter\, storytelling\, and ear candy
URL:https://www.minneapolisparks.org/event-calendar/sesay-5/
LOCATION:Lake Harriet Bandshell\, Minneapolis\, MN\, United States
CATEGORIES:Music & Movies in the Parks,Music in the Parks
GEO:44.927901;-93.3082473
END:VEVENT
BEGIN:VEVENT
DTSTART;TZID=America/Chicago:20240902T173000
DTEND;TZID=America/Chicago:20240902T173000
DTSTAMP:20260420T191402
CREATED:20240523T162940Z
LAST-MODIFIED:20240830T194203Z
UID:74316-1725298200-1725298200@www.minneapolisparks.org
SUMMARY:BATO BATO! Breck School Marimba Ensemble
DESCRIPTION:Danceable upbeat music
URL:https://www.minneapolisparks.org/event-calendar/bato-bato-breck-school-marimba-ensemble-3/
LOCATION:Lake Harriet Bandshell\, Minneapolis\, MN\, United States
CATEGORIES:Music & Movies in the Parks,Music in the Parks
GEO:44.927901;-93.3082473
END:VEVENT
BEGIN:VEVENT
DTSTART;TZID=America/Chicago:20240902T190000
DTEND;TZID=America/Chicago:20240902T190000
DTSTAMP:20260420T191402
CREATED:20240522T212813Z
LAST-MODIFIED:20240522T212813Z
UID:74151-1725303600-1725303600@www.minneapolisparks.org
SUMMARY:Overdressed Duo
DESCRIPTION:An opera and musical extravaganza
URL:https://www.minneapolisparks.org/event-calendar/overdressed-duo-4/
LOCATION:Water Works at Mill Ruins Park\, 425 West River Parkway\, Minneapolis\, MN\, 55401\, United States
CATEGORIES:Music & Movies in the Parks,Music in the Parks
GEO:44.9811921;-93.2620982
X-APPLE-STRUCTURED-LOCATION;VALUE=URI;X-ADDRESS=Water Works at Mill Ruins Park 425 West River Parkway Minneapolis MN 55401 United States;X-APPLE-RADIUS=500;X-TITLE=425 West River Parkway:geo:-93.2620982,44.9811921
END:VEVENT
BEGIN:VEVENT
DTSTART;TZID=America/Chicago:20240902T193000
DTEND;TZID=America/Chicago:20240902T193000
DTSTAMP:20260420T191402
CREATED:20240523T163424Z
LAST-MODIFIED:20240523T163424Z
UID:74322-1725305400-1725305400@www.minneapolisparks.org
SUMMARY:Socaholix
DESCRIPTION:High energy Caribbean dance band
URL:https://www.minneapolisparks.org/event-calendar/socaholix-4/
LOCATION:Lake Harriet Bandshell\, Minneapolis\, MN\, United States
CATEGORIES:Music & Movies in the Parks,Music in the Parks
GEO:44.927901;-93.3082473
END:VEVENT
BEGIN:VEVENT
DTSTART;TZID=America/Chicago:20240921T170000
DTEND;TZID=America/Chicago:20240921T210000
DTSTAMP:20260420T191402
CREATED:20240920T175539Z
LAST-MODIFIED:20240920T175539Z
UID:77442-1726938000-1726952400@www.minneapolisparks.org
SUMMARY:K-pop in the Sunset
DESCRIPTION:Featuring DJ Chen\, MNKpopConnect\, a dance party\, and a makers market.
URL:https://www.minneapolisparks.org/event-calendar/k-pop-in-the-sunset-3/
LOCATION:The Commons\, 425 Portland Ave South\, Minneapolis\, MN\, 55488\, United States
CATEGORIES:Music & Movies in the Parks
GEO:44.9766971;-93.2628904
X-APPLE-STRUCTURED-LOCATION;VALUE=URI;X-ADDRESS=The Commons 425 Portland Ave South Minneapolis MN 55488 United States;X-APPLE-RADIUS=500;X-TITLE=425 Portland Ave South:geo:-93.2628904,44.9766971
END:VEVENT
BEGIN:VEVENT
DTSTART;TZID=America/Chicago:20250119T150000
DTEND;TZID=America/Chicago:20250119T180000
DTSTAMP:20260420T191402
CREATED:20250102T214345Z
LAST-MODIFIED:20250103T150944Z
UID:79484-1737298800-1737309600@www.minneapolisparks.org
SUMMARY:Movies Made (right) Here the Untamed Heart
DESCRIPTION:Untamed Heart: A love letter to Minneapolis! \nGet ready to cozy up for a heartwarming Minneapolis love story! Join us on Sunday\, January 19\, 3 pm inside the Nicollet Island Pavilion for a special screening of Untamed Heart—a movie filmed right here in the neighborhoods surrounding the Pavilion. This 1993 romantic drama stars Christian Slater and Marisa Tomei as two unlikely lovers whose story unfolds amidst some of Minneapolis’ most iconic spots. You’ll spot Jim’s Coffee Shop\, Our Lady of Lourdes Church\, Jefferson Street NE\, Florence Court Apartments on University Avenue SE\, and even the old Met Center in this local classic. \nBundle up\, grab some popcorn\, and relive the magic of a film that’s as much about love as it is about our beautiful city. Admission is free\, so bring your friends\, your date\, or your love for Minneapolis-made movies. We’ll see you there!
URL:https://www.minneapolisparks.org/event-calendar/movies-made-right-here-the-untamed-heart/
LOCATION:Nicollet Island Pavilion\, 40 Power St\, Minneapolis\, MN\, 55401\, United States
CATEGORIES:Events- All,Events- MPRB,Music & Movies in the Parks,Music in the Parks
GEO:44.9847316;-93.2600873
X-APPLE-STRUCTURED-LOCATION;VALUE=URI;X-ADDRESS=Nicollet Island Pavilion 40 Power St Minneapolis MN 55401 United States;X-APPLE-RADIUS=500;X-TITLE=40 Power St:geo:-93.2600873,44.9847316
END:VEVENT
BEGIN:VEVENT
DTSTART;TZID=America/Chicago:20250126T150000
DTEND;TZID=America/Chicago:20250126T180000
DTSTAMP:20260420T191402
CREATED:20250102T213853Z
LAST-MODIFIED:20250103T150919Z
UID:79481-1737903600-1737914400@www.minneapolisparks.org
SUMMARY:Dancing at the Pavilion: Line Dance with Billie
DESCRIPTION:Kick up your heels and join us for an afternoon of fun\, movement\, and music at Dancing in the Pavilion! Led by Billie from the Back Road Kickers\, this event is perfect for all ages and abilities. Whether you’re a seasoned dancer or a complete beginner\, Billie will guide you through easy-to-follow steps that will have you movin’ and groovin’ in no time. \nDoors open at 2:45 PM—come early to grab your spot! Lessons kick off at 3:00 PM\, and starting at 5:00 PM\, enjoy an open dance session to practice your new moves and enjoy the music. \nThis event is free to attend with free parking available. Bring your friends\, family\, or come solo—everyone’s welcome in this fun\, friendly environment! \nDon’t miss the chance to make new memories and enjoy a lively afternoon of line dancing. Lace up your dancing shoes and join us at the Nicollet Island Pavilion on Sunday\, January 26. See you on the dance floor!
URL:https://www.minneapolisparks.org/event-calendar/dancing-at-the-pavilion-line-dance-with-billie/
LOCATION:Nicollet Island Pavilion\, 40 Power St\, Minneapolis\, MN\, 55401\, United States
CATEGORIES:Events- All,Events- MPRB,Music & Movies in the Parks,Music in the Parks
GEO:44.9847316;-93.2600873
X-APPLE-STRUCTURED-LOCATION;VALUE=URI;X-ADDRESS=Nicollet Island Pavilion 40 Power St Minneapolis MN 55401 United States;X-APPLE-RADIUS=500;X-TITLE=40 Power St:geo:-93.2600873,44.9847316
END:VEVENT
BEGIN:VEVENT
DTSTART;TZID=America/Chicago:20250216T150000
DTEND;TZID=America/Chicago:20250216T150000
DTSTAMP:20260420T191402
CREATED:20250109T222306Z
LAST-MODIFIED:20250109T222848Z
UID:79632-1739718000-1739718000@www.minneapolisparks.org
SUMMARY:Movies Made (right) Here the Grumpy Old Men edition
DESCRIPTION:Grumpy Old Men: A Minnesota Classic on the Big Screen! \nGet ready to laugh along with this cold-weather comedy classic! Join us on Sunday\, February 19\, at 3:30 pm inside the Nicollet Island Pavilion for a special screening of Grumpy Old Men—a beloved movie that showcases the quirks\, charm\, and snow-filled adventures of life in Minnesota. \nThis 1993 comedy stars Jack Lemmon and Walter Matthau as feuding neighbors whose antics keep us laughing while celebrating the warmth of friendship and family in the midst of winter. You’ll spot plenty of local filming locations\, including Grumpy’s NE—the iconic local bar where humor unfolds—along with charming houses and frozen lakes that feel oh-so-familiar. \nDoors open at 3:00 pm\, and our venue partner\, Mintahoe\, will have movie snacks and an open bar for you to shop from. \nAdmission is free\, and so is parking—so round up your friends\, grab your winter gear\, and come enjoy a Minnesota movie afternoon done right!
URL:https://www.minneapolisparks.org/event-calendar/movies-made-right-here-the-grumpy-old-men-edition/
LOCATION:Nicollet Island Pavilion\, 40 Power St\, Minneapolis\, MN\, 55401\, United States
CATEGORIES:Events- All,Events- MPRB,Music & Movies in the Parks
GEO:44.9847316;-93.2600873
X-APPLE-STRUCTURED-LOCATION;VALUE=URI;X-ADDRESS=Nicollet Island Pavilion 40 Power St Minneapolis MN 55401 United States;X-APPLE-RADIUS=500;X-TITLE=40 Power St:geo:-93.2600873,44.9847316
END:VEVENT
BEGIN:VEVENT
DTSTART;TZID=America/Chicago:20250309T140000
DTEND;TZID=America/Chicago:20250309T180000
DTSTAMP:20260420T191402
CREATED:20250109T222800Z
LAST-MODIFIED:20250211T221908Z
UID:79634-1741528800-1741543200@www.minneapolisparks.org
SUMMARY:Movies Made (right) Here: Mighty Ducks Double Header
DESCRIPTION:Get ready for a slap shot of local pride at Movies Made (right) Here\, a series by Minneapolis Downtown Parks that celebrates films shot just minutes away from Nicollet Island Pavilion! \nJoin us for a quack-tastic double feature of The Mighty Ducks and D2: The Mighty Ducks 2\, where you’ll relive the magic of these Minnesota hockey classics. Not only will you enjoy the thrilling action\, but you’ll also see our city’s iconic landmarks—like Parade Ice Arena\, Stone Arch Bridge\, Peavey Fountain\, and more—shine on the big screen! \nEvent Highlights:\nFree admission and parking\nCozy indoor seating with stunning river views\nRefreshments and snacks available for purchase\nThe fun wraps up just in time to catch the Boys AA State Hockey Championship game—be sure to get home in time to cheer on the next generation of hockey stars! ?? \nCome celebrate the State of Hockey through the lens of film and the spirit of Minneapolis. You don’t want to miss this! See you there!
URL:https://www.minneapolisparks.org/event-calendar/movies-made-right-here-mighty-ducks-double-header/
LOCATION:Nicollet Island Pavilion\, 40 Power St\, Minneapolis\, MN\, 55401\, United States
CATEGORIES:Events- All,Events- MPRB,Movies in the Parks,Music & Movies in the Parks
GEO:44.9847316;-93.2600873
X-APPLE-STRUCTURED-LOCATION;VALUE=URI;X-ADDRESS=Nicollet Island Pavilion 40 Power St Minneapolis MN 55401 United States;X-APPLE-RADIUS=500;X-TITLE=40 Power St:geo:-93.2600873,44.9847316
END:VEVENT
BEGIN:VEVENT
DTSTART;TZID=America/Chicago:20250406T150000
DTEND;TZID=America/Chicago:20250406T180000
DTSTAMP:20260420T191402
CREATED:20250109T223240Z
LAST-MODIFIED:20250109T223415Z
UID:79636-1743951600-1743962400@www.minneapolisparks.org
SUMMARY:Movies Made (right) Here: Little Big League
DESCRIPTION:Step up to the plate for a nostalgic afternoon of baseball with Little Big League\, a classic film shot right here in Minneapolis! \nWhen: Sunday\, April 6\, 3-6 pm\nWhere: Nicollet Island Pavilion\, 40 Power Street\, Minneapolis\nCost: Free entry and free parking! \nLittle Big League tells the story of a young boy who unexpectedly becomes the owner of the Minnesota Twins\, bringing humor\, heart\, and plenty of Minnesota pride to the screen. \nWhy you’ll love it: \n\nRelive the excitement of the Minnesota Twins’ legacy\, filmed inside the iconic Hubert H. Humphrey Metrodome\, the former home of the Twins before Target Field was built and later replaced by U.S. Bank Stadium (just 1.7 miles away!).\nThis film was shot in Minneapolis in 1993 and released in 1994\, showcasing our city’s unique charm.\nEnjoy snacks and drinks available for purchase from our venue partner Mintahoe.\nCheer on Minnesota baseball during the weekend opener for the Twins!\n\nMovies Made (right) Here is a special series celebrating films with deep connections to our local neighborhoods\, featuring beloved movies that were either filmed within two miles of the Nicollet Island Pavilion.
URL:https://www.minneapolisparks.org/event-calendar/movies-made-right-here-little-big-league/
LOCATION:Nicollet Island Pavilion\, 40 Power St\, Minneapolis\, MN\, 55401\, United States
CATEGORIES:Events- All,Events- MPRB,Movies in the Parks,Music & Movies in the Parks
GEO:44.9847316;-93.2600873
X-APPLE-STRUCTURED-LOCATION;VALUE=URI;X-ADDRESS=Nicollet Island Pavilion 40 Power St Minneapolis MN 55401 United States;X-APPLE-RADIUS=500;X-TITLE=40 Power St:geo:-93.2600873,44.9847316
END:VEVENT
BEGIN:VEVENT
DTSTART;TZID=America/Chicago:20250504T080000
DTEND;TZID=America/Chicago:20250504T170000
DTSTAMP:20260420T191402
CREATED:20250109T223720Z
LAST-MODIFIED:20250109T223720Z
UID:79640-1746345600-1746378000@www.minneapolisparks.org
SUMMARY:Movies Made (right) Here: The Heartbreak Kid
DESCRIPTION:As we close out our 2025 Movies Made (right) Here series\, we’re bringing you a classic comedy with a local twist—The Heartbreak Kid (1972)\, written by the legendary Neil Simon. Filmed at the University of Minnesota and in Orono and Minnetonka\, the movie is filled with unforgettable scenes and quirky moments set just down the road from Nicollet Island Pavilion. \nCharles Grodin stars as Lenny Cantrow\, a man who falls head over heels for another woman on his honeymoon. What follows is a comedy of errors\, half-baked lies\, and awkward interactions\, all set against Minnesota’s scenic charm. From Lenny’s disastrous marriage to his pursuit of the beautiful Kelly\, played by a young Cybill Shepherd\, this film brings both laughs and cringeworthy moments in a way only Neil Simon can deliver. \nThis film features standout performances by Jeannie Berlin (Lenny’s first wife\, Lila) and Eddie Albert (Kelly’s overprotective father)\, both of whom were nominated for Best Supporting Actress and Best Supporting Actor at the 45th Academy Awards. The Heartbreak Kid was also ranked #91 on AFI’s 100 Years… 100 Laughs\, a prestigious list of the funniest American films ever made. \nJoin us for a hilarious afternoon celebrating this timeless comedy and its deep Minnesota roots. It’s the perfect way to wrap up the series—packed with laughs\, great local scenery\, and a perfect dose of Neil Simon wit. \nFree admission. Free parking. We’ll see you at the Pavilion!
URL:https://www.minneapolisparks.org/event-calendar/movies-made-right-here-the-heartbreak-kid/
LOCATION:Nicollet Island Pavilion\, 40 Power St\, Minneapolis\, MN\, 55401\, United States
CATEGORIES:Events- All,Events- MPRB,Music & Movies in the Parks
GEO:44.9847316;-93.2600873
X-APPLE-STRUCTURED-LOCATION;VALUE=URI;X-ADDRESS=Nicollet Island Pavilion 40 Power St Minneapolis MN 55401 United States;X-APPLE-RADIUS=500;X-TITLE=40 Power St:geo:-93.2600873,44.9847316
END:VEVENT
BEGIN:VEVENT
DTSTART;TZID=America/Chicago:20250515T193000
DTEND;TZID=America/Chicago:20250515T193000
DTSTAMP:20260420T191402
CREATED:20250515T194218Z
LAST-MODIFIED:20250515T194218Z
UID:82403-1747337400-1747337400@www.minneapolisparks.org
SUMMARY:La Danse Fatale Ballet Company
DESCRIPTION:Dance
URL:https://www.minneapolisparks.org/event-calendar/la-danse-fatale-ballet-company-3/
LOCATION:Lake Harriet Bandshell\, Minneapolis\, MN\, United States
CATEGORIES:Music & Movies in the Parks,Music in the Parks
GEO:44.927901;-93.3082473
END:VEVENT
BEGIN:VEVENT
DTSTART;TZID=America/Chicago:20250522T180000
DTEND;TZID=America/Chicago:20250522T180000
DTSTAMP:20260420T191402
CREATED:20250515T215238Z
LAST-MODIFIED:20250515T215238Z
UID:82556-1747936800-1747936800@www.minneapolisparks.org
SUMMARY:Big Mike and the Time Machine
DESCRIPTION:70’s and Motown Show
URL:https://www.minneapolisparks.org/event-calendar/big-mike-and-the-time-machine/
LOCATION:North Commons Community Center\, 1801 James Ave N\, Minneapolis\, MN\, 55411\, United States
CATEGORIES:Music & Movies in the Parks,Music in the Parks
GEO:44.9972515;-93.3011657
X-APPLE-STRUCTURED-LOCATION;VALUE=URI;X-ADDRESS=North Commons Community Center 1801 James Ave N Minneapolis MN 55411 United States;X-APPLE-RADIUS=500;X-TITLE=1801 James Ave N:geo:-93.3011657,44.9972515
END:VEVENT
BEGIN:VEVENT
DTSTART;TZID=America/Chicago:20250526T173000
DTEND;TZID=America/Chicago:20250526T173000
DTSTAMP:20260420T191402
CREATED:20250515T152348Z
LAST-MODIFIED:20250515T152348Z
UID:82259-1748280600-1748280600@www.minneapolisparks.org
SUMMARY:Bluedog
DESCRIPTION:Blues\Rock
URL:https://www.minneapolisparks.org/event-calendar/bluedog-8/
LOCATION:Lake Harriet Bandshell\, Minneapolis\, MN\, United States
CATEGORIES:Music & Movies in the Parks,Music in the Parks
GEO:44.927901;-93.3082473
END:VEVENT
BEGIN:VEVENT
DTSTART;TZID=America/Chicago:20250526T193000
DTEND;TZID=America/Chicago:20250526T193000
DTSTAMP:20260420T191402
CREATED:20250515T152538Z
LAST-MODIFIED:20250515T152538Z
UID:82261-1748287800-1748287800@www.minneapolisparks.org
SUMMARY:Pretendians
DESCRIPTION:Rock
URL:https://www.minneapolisparks.org/event-calendar/pretendians/
LOCATION:Lake Harriet Bandshell\, Minneapolis\, MN\, United States
CATEGORIES:Music & Movies in the Parks,Music in the Parks
GEO:44.927901;-93.3082473
END:VEVENT
BEGIN:VEVENT
DTSTART;TZID=America/Chicago:20250528T193000
DTEND;TZID=America/Chicago:20250528T193000
DTSTAMP:20260420T191402
CREATED:20250515T152709Z
LAST-MODIFIED:20250515T152709Z
UID:82263-1748460600-1748460600@www.minneapolisparks.org
SUMMARY:Funk N Spuds
DESCRIPTION:Rock
URL:https://www.minneapolisparks.org/event-calendar/funk-n-spuds/
LOCATION:Lake Harriet Bandshell\, Minneapolis\, MN\, United States
CATEGORIES:Music & Movies in the Parks,Music in the Parks
GEO:44.927901;-93.3082473
END:VEVENT
BEGIN:VEVENT
DTSTART;TZID=America/Chicago:20250529T180000
DTEND;TZID=America/Chicago:20250529T180000
DTSTAMP:20260420T191402
CREATED:20250515T215338Z
LAST-MODIFIED:20250515T215338Z
UID:82558-1748541600-1748541600@www.minneapolisparks.org
SUMMARY:Necessary Diversion
DESCRIPTION:Modern Rock Dance
URL:https://www.minneapolisparks.org/event-calendar/necessary-diversion-8/
LOCATION:Logan Recreation Center\, 680 13th Ave NE\, Minneapolis\, MN\, 55413\, United States
CATEGORIES:Music & Movies in the Parks,Music in the Parks
GEO:45.0007134;-93.2531297
X-APPLE-STRUCTURED-LOCATION;VALUE=URI;X-ADDRESS=Logan Recreation Center 680 13th Ave NE Minneapolis MN 55413 United States;X-APPLE-RADIUS=500;X-TITLE=680 13th Ave NE:geo:-93.2531297,45.0007134
END:VEVENT
BEGIN:VEVENT
DTSTART;TZID=America/Chicago:20250529T190000
DTEND;TZID=America/Chicago:20250529T190000
DTSTAMP:20260420T191402
CREATED:20250515T195433Z
LAST-MODIFIED:20250515T195433Z
UID:82428-1748545200-1748545200@www.minneapolisparks.org
SUMMARY:Tjärnblom
DESCRIPTION:Scandanavian Tunes
URL:https://www.minneapolisparks.org/event-calendar/tjarnblom-7/
LOCATION:Minnehaha Bandstand\, Minneapolis\, MN\, United States
CATEGORIES:Music & Movies in the Parks,Music in the Parks
GEO:44.9161006;-93.2109865
END:VEVENT
BEGIN:VEVENT
DTSTART;TZID=America/Chicago:20250530T190000
DTEND;TZID=America/Chicago:20250530T190000
DTSTAMP:20260420T191402
CREATED:20250515T195530Z
LAST-MODIFIED:20250515T195530Z
UID:82430-1748631600-1748631600@www.minneapolisparks.org
SUMMARY:South High Community Band
DESCRIPTION:Big Band
URL:https://www.minneapolisparks.org/event-calendar/south-high-community-band-6/
LOCATION:Minnehaha Bandstand\, Minneapolis\, MN\, United States
CATEGORIES:Music & Movies in the Parks,Music in the Parks
GEO:44.9161006;-93.2109865
END:VEVENT
BEGIN:VEVENT
DTSTART;TZID=America/Chicago:20250530T193000
DTEND;TZID=America/Chicago:20250530T193000
DTSTAMP:20260420T191402
CREATED:20250515T152839Z
LAST-MODIFIED:20250515T152839Z
UID:82265-1748633400-1748633400@www.minneapolisparks.org
SUMMARY:B & The Sting
DESCRIPTION:Rhythm & Blues
URL:https://www.minneapolisparks.org/event-calendar/b-the-sting-5/
LOCATION:Lake Harriet Bandshell\, Minneapolis\, MN\, United States
CATEGORIES:Music & Movies in the Parks,Music in the Parks
GEO:44.927901;-93.3082473
END:VEVENT
BEGIN:VEVENT
DTSTART;TZID=America/Chicago:20250601T140000
DTEND;TZID=America/Chicago:20250601T140000
DTSTAMP:20260420T191402
CREATED:20250515T152940Z
LAST-MODIFIED:20250515T152940Z
UID:82267-1748786400-1748786400@www.minneapolisparks.org
SUMMARY:Lena & The Lovekills
DESCRIPTION:Rockabilly & Swing
URL:https://www.minneapolisparks.org/event-calendar/lena-the-lovekills-2/
LOCATION:Lake Harriet Bandshell\, Minneapolis\, MN\, United States
CATEGORIES:Music & Movies in the Parks,Music in the Parks
GEO:44.927901;-93.3082473
END:VEVENT
BEGIN:VEVENT
DTSTART;TZID=America/Chicago:20250601T173000
DTEND;TZID=America/Chicago:20250601T173000
DTSTAMP:20260420T191402
CREATED:20250515T153109Z
LAST-MODIFIED:20250515T153109Z
UID:82269-1748799000-1748799000@www.minneapolisparks.org
SUMMARY:Homeward Bound
DESCRIPTION:Variety
URL:https://www.minneapolisparks.org/event-calendar/homeward-bound-5/
LOCATION:Lake Harriet Bandshell\, Minneapolis\, MN\, United States
CATEGORIES:Music & Movies in the Parks,Music in the Parks
GEO:44.927901;-93.3082473
END:VEVENT
BEGIN:VEVENT
DTSTART;TZID=America/Chicago:20250602T193000
DTEND;TZID=America/Chicago:20250602T193000
DTSTAMP:20260420T191402
CREATED:20250515T153251Z
LAST-MODIFIED:20250515T153251Z
UID:82271-1748892600-1748892600@www.minneapolisparks.org
SUMMARY:Dan Israel Band
DESCRIPTION:Rock
URL:https://www.minneapolisparks.org/event-calendar/dan-israel-band/
LOCATION:Lake Harriet Bandshell\, Minneapolis\, MN\, United States
CATEGORIES:Music & Movies in the Parks,Music in the Parks
GEO:44.927901;-93.3082473
END:VEVENT
BEGIN:VEVENT
DTSTART;TZID=America/Chicago:20250603T120000
DTEND;TZID=America/Chicago:20250603T120000
DTSTAMP:20260420T191402
CREATED:20250515T211314Z
LAST-MODIFIED:20250515T211314Z
UID:82482-1748952000-1748952000@www.minneapolisparks.org
SUMMARY:The Thomas & James Band
DESCRIPTION:Country Pop
URL:https://www.minneapolisparks.org/event-calendar/the-thomas-james-band/
LOCATION:Minnehaha Bandstand\, Minneapolis\, MN\, United States
CATEGORIES:Music & Movies in the Parks,Music in the Parks
GEO:44.9161006;-93.2109865
END:VEVENT
BEGIN:VEVENT
DTSTART;TZID=America/Chicago:20250603T190000
DTEND;TZID=America/Chicago:20250603T190000
DTSTAMP:20260420T191402
CREATED:20250515T212611Z
LAST-MODIFIED:20250530T163904Z
UID:82504-1748977200-1748977200@www.minneapolisparks.org
SUMMARY:Lilianna Rindal
DESCRIPTION:Rock
URL:https://www.minneapolisparks.org/event-calendar/lilianna-rindal/
LOCATION:Father Hennepin\, Minneapolis\, MN\, United States
CATEGORIES:Music & Movies in the Parks,Music in the Parks
GEO:44.9826582;-93.2513335
END:VEVENT
BEGIN:VEVENT
DTSTART;TZID=America/Chicago:20250603T190000
DTEND;TZID=America/Chicago:20250603T190000
DTSTAMP:20260420T191402
CREATED:20250516T185019Z
LAST-MODIFIED:20250516T185019Z
UID:82603-1748977200-1748977200@www.minneapolisparks.org
SUMMARY:Janelle & Simply Fusion
DESCRIPTION:Rhythm & Blues (R&B). A mixture of soulful\, jazzy\, and contemporary music.
URL:https://www.minneapolisparks.org/event-calendar/janelle-simply-fusion/
LOCATION:Loring Park\, Loring Park\, Minneapolis\, MN\, 55403\, United States
CATEGORIES:Music & Movies in the Parks,Music in the Parks
GEO:44.9649915;-93.2854596
X-APPLE-STRUCTURED-LOCATION;VALUE=URI;X-ADDRESS=Loring Park Loring Park Minneapolis MN 55403 United States;X-APPLE-RADIUS=500;X-TITLE=Loring Park:geo:-93.2854596,44.9649915
END:VEVENT
BEGIN:VEVENT
DTSTART;TZID=America/Chicago:20250604T193000
DTEND;TZID=America/Chicago:20250604T193000
DTSTAMP:20260420T191402
CREATED:20250515T153408Z
LAST-MODIFIED:20250515T153408Z
UID:82273-1749065400-1749065400@www.minneapolisparks.org
SUMMARY:Linden Hills Chamber Orchestra
DESCRIPTION:Classical
URL:https://www.minneapolisparks.org/event-calendar/linden-hills-chamber-orchestra-8/
LOCATION:Lake Harriet Bandshell\, Minneapolis\, MN\, United States
CATEGORIES:Music & Movies in the Parks,Music in the Parks
GEO:44.927901;-93.3082473
END:VEVENT
BEGIN:VEVENT
DTSTART;TZID=America/Chicago:20250604T205500
DTEND;TZID=America/Chicago:20250604T205500
DTSTAMP:20260420T191402
CREATED:20250519T191544Z
LAST-MODIFIED:20250519T191559Z
UID:82677-1749070500-1749070500@www.minneapolisparks.org
SUMMARY:Footloose (2011)
DESCRIPTION:PG-13
URL:https://www.minneapolisparks.org/event-calendar/footloose-2011/
LOCATION:The Commons\, 425 Portland Ave South\, Minneapolis\, MN\, 55488\, United States
CATEGORIES:Movies in the Parks,Music & Movies in the Parks
GEO:44.9766971;-93.2628904
X-APPLE-STRUCTURED-LOCATION;VALUE=URI;X-ADDRESS=The Commons 425 Portland Ave South Minneapolis MN 55488 United States;X-APPLE-RADIUS=500;X-TITLE=425 Portland Ave South:geo:-93.2628904,44.9766971
END:VEVENT
END:VCALENDAR