BEGIN:VCALENDAR
VERSION:2.0
PRODID:-//Minneapolis Park &amp; Recreation Board - ECPv6.15.20//NONSGML v1.0//EN
CALSCALE:GREGORIAN
METHOD:PUBLISH
X-ORIGINAL-URL:https://www.minneapolisparks.org
X-WR-CALDESC:Events for Minneapolis Park &amp; Recreation Board
REFRESH-INTERVAL;VALUE=DURATION:PT1H
X-Robots-Tag:noindex
X-PUBLISHED-TTL:PT1H
BEGIN:VTIMEZONE
TZID:America/Chicago
BEGIN:DAYLIGHT
TZOFFSETFROM:-0600
TZOFFSETTO:-0500
TZNAME:CDT
DTSTART:20220313T080000
END:DAYLIGHT
BEGIN:STANDARD
TZOFFSETFROM:-0500
TZOFFSETTO:-0600
TZNAME:CST
DTSTART:20221106T070000
END:STANDARD
BEGIN:DAYLIGHT
TZOFFSETFROM:-0600
TZOFFSETTO:-0500
TZNAME:CDT
DTSTART:20230312T080000
END:DAYLIGHT
BEGIN:STANDARD
TZOFFSETFROM:-0500
TZOFFSETTO:-0600
TZNAME:CST
DTSTART:20231105T070000
END:STANDARD
BEGIN:DAYLIGHT
TZOFFSETFROM:-0600
TZOFFSETTO:-0500
TZNAME:CDT
DTSTART:20240310T080000
END:DAYLIGHT
BEGIN:STANDARD
TZOFFSETFROM:-0500
TZOFFSETTO:-0600
TZNAME:CST
DTSTART:20241103T070000
END:STANDARD
END:VTIMEZONE
BEGIN:VEVENT
DTSTART;TZID=America/Chicago:20230627T210000
DTEND;TZID=America/Chicago:20230627T210000
DTSTAMP:20260420T173717
CREATED:20230517T181414Z
LAST-MODIFIED:20230609T193647Z
UID:65784-1687899600-1687899600@www.minneapolisparks.org
SUMMARY:Puss in Boots: The Last Wish
DESCRIPTION:PG
URL:https://www.minneapolisparks.org/event-calendar/puss-in-boots-the-last-wish/
LOCATION:Harrison Park\, 503 N Irving Ave\, Minneapolis\, MN\, 55405\, United States
CATEGORIES:Movies in the Parks,Music & Movies in the Parks
GEO:44.9827416;-93.2996079
X-APPLE-STRUCTURED-LOCATION;VALUE=URI;X-ADDRESS=Harrison Park 503 N Irving Ave Minneapolis MN 55405 United States;X-APPLE-RADIUS=500;X-TITLE=503 N Irving Ave:geo:-93.2996079,44.9827416
END:VEVENT
BEGIN:VEVENT
DTSTART;TZID=America/Chicago:20230628T120000
DTEND;TZID=America/Chicago:20230628T120000
DTSTAMP:20260420T173717
CREATED:20230420T195334Z
LAST-MODIFIED:20230609T193744Z
UID:64945-1687953600-1687953600@www.minneapolisparks.org
SUMMARY:Peter Ruddy
DESCRIPTION:Fingerstyle guitar on 6 and 12 strings
URL:https://www.minneapolisparks.org/event-calendar/peter-ruddy-5/
LOCATION:The Commons\, 425 Portland Ave South\, Minneapolis\, MN\, 55488\, United States
CATEGORIES:Music & Movies in the Parks,Music in the Parks
GEO:44.9766971;-93.2628904
X-APPLE-STRUCTURED-LOCATION;VALUE=URI;X-ADDRESS=The Commons 425 Portland Ave South Minneapolis MN 55488 United States;X-APPLE-RADIUS=500;X-TITLE=425 Portland Ave South:geo:-93.2628904,44.9766971
END:VEVENT
BEGIN:VEVENT
DTSTART;TZID=America/Chicago:20230628T193000
DTEND;TZID=America/Chicago:20230628T193000
DTSTAMP:20260420T173717
CREATED:20230510T163213Z
LAST-MODIFIED:20230609T193841Z
UID:65527-1687980600-1687980600@www.minneapolisparks.org
SUMMARY:Atomic Beat
DESCRIPTION:80s New Wave and Rock
URL:https://www.minneapolisparks.org/event-calendar/atomic-beat-2/
LOCATION:Lake Harriet Bandshell\, Minneapolis\, MN\, United States
CATEGORIES:Music & Movies in the Parks,Music in the Parks
GEO:44.927901;-93.3082473
END:VEVENT
BEGIN:VEVENT
DTSTART;TZID=America/Chicago:20230628T210000
DTEND;TZID=America/Chicago:20230628T210000
DTSTAMP:20260420T173717
CREATED:20230420T193549Z
LAST-MODIFIED:20230609T193955Z
UID:64909-1687986000-1687986000@www.minneapolisparks.org
SUMMARY:Twin Cities Black Film Festival presents Black Daddy: The Movie
DESCRIPTION:NR. Movies start 15 minutes after sunset.
URL:https://www.minneapolisparks.org/event-calendar/twin-cities-black-film-festival-presents-black-daddy-the-movie/
LOCATION:The Commons\, 425 Portland Ave South\, Minneapolis\, MN\, 55488\, United States
CATEGORIES:Movies in the Parks,Music & Movies in the Parks
GEO:44.9766971;-93.2628904
X-APPLE-STRUCTURED-LOCATION;VALUE=URI;X-ADDRESS=The Commons 425 Portland Ave South Minneapolis MN 55488 United States;X-APPLE-RADIUS=500;X-TITLE=425 Portland Ave South:geo:-93.2628904,44.9766971
END:VEVENT
BEGIN:VEVENT
DTSTART;TZID=America/Chicago:20230629T190000
DTEND;TZID=America/Chicago:20230629T190000
DTSTAMP:20260420T173717
CREATED:20230420T195419Z
LAST-MODIFIED:20230609T194041Z
UID:64947-1688065200-1688065200@www.minneapolisparks.org
SUMMARY:The Roundabouts
DESCRIPTION:Country\, Rock\, R’n’B\, 50’s-70’s
URL:https://www.minneapolisparks.org/event-calendar/the-roundabouts/
LOCATION:The Commons\, 425 Portland Ave South\, Minneapolis\, MN\, 55488\, United States
CATEGORIES:Music & Movies in the Parks,Music in the Parks
GEO:44.9766971;-93.2628904
X-APPLE-STRUCTURED-LOCATION;VALUE=URI;X-ADDRESS=The Commons 425 Portland Ave South Minneapolis MN 55488 United States;X-APPLE-RADIUS=500;X-TITLE=425 Portland Ave South:geo:-93.2628904,44.9766971
END:VEVENT
BEGIN:VEVENT
DTSTART;TZID=America/Chicago:20230629T210000
DTEND;TZID=America/Chicago:20230629T210000
DTSTAMP:20260420T173717
CREATED:20230517T181450Z
LAST-MODIFIED:20230609T194215Z
UID:65786-1688072400-1688072400@www.minneapolisparks.org
SUMMARY:Ghostbusters (original)
DESCRIPTION:PG
URL:https://www.minneapolisparks.org/event-calendar/ghostbusters-original/
LOCATION:Beltrami Park\, 1111 Summer St NE\, Minneapolis\, MN\, 55413\, United States
CATEGORIES:Movies in the Parks,Music & Movies in the Parks
GEO:44.9971364;-93.2433279
X-APPLE-STRUCTURED-LOCATION;VALUE=URI;X-ADDRESS=Beltrami Park 1111 Summer St NE Minneapolis MN 55413 United States;X-APPLE-RADIUS=500;X-TITLE=1111 Summer St NE:geo:-93.2433279,44.9971364
END:VEVENT
BEGIN:VEVENT
DTSTART;TZID=America/Chicago:20230630T120000
DTEND;TZID=America/Chicago:20230630T120000
DTSTAMP:20260420T173717
CREATED:20230424T165826Z
LAST-MODIFIED:20230609T194242Z
UID:65022-1688126400-1688126400@www.minneapolisparks.org
SUMMARY:Tjärnblom
DESCRIPTION:Scandinavian Tunes with Minnesota Twist
URL:https://www.minneapolisparks.org/event-calendar/tjarnblom-5/
LOCATION:Water Works at Mill Ruins Park\, 425 West River Parkway\, Minneapolis\, MN\, 55401\, United States
CATEGORIES:Music & Movies in the Parks,Music in the Parks
GEO:44.9811921;-93.2620982
X-APPLE-STRUCTURED-LOCATION;VALUE=URI;X-ADDRESS=Water Works at Mill Ruins Park 425 West River Parkway Minneapolis MN 55401 United States;X-APPLE-RADIUS=500;X-TITLE=425 West River Parkway:geo:-93.2620982,44.9811921
END:VEVENT
BEGIN:VEVENT
DTSTART;TZID=America/Chicago:20230630T190000
DTEND;TZID=America/Chicago:20230630T190000
DTSTAMP:20260420T173717
CREATED:20230420T191605Z
LAST-MODIFIED:20230609T194305Z
UID:64871-1688151600-1688151600@www.minneapolisparks.org
SUMMARY:The Only
DESCRIPTION:High energy\, Indie Rock music!
URL:https://www.minneapolisparks.org/event-calendar/the-only/
LOCATION:Loring Park\, Loring Park\, Minneapolis\, MN\, 55403\, United States
CATEGORIES:Music & Movies in the Parks,Music in the Parks
GEO:44.9649915;-93.2854596
X-APPLE-STRUCTURED-LOCATION;VALUE=URI;X-ADDRESS=Loring Park Loring Park Minneapolis MN 55403 United States;X-APPLE-RADIUS=500;X-TITLE=Loring Park:geo:-93.2854596,44.9649915
END:VEVENT
BEGIN:VEVENT
DTSTART;TZID=America/Chicago:20230630T190000
DTEND;TZID=America/Chicago:20230630T190000
DTSTAMP:20260420T173717
CREATED:20230504T191007Z
LAST-MODIFIED:20230609T194327Z
UID:65309-1688151600-1688151600@www.minneapolisparks.org
SUMMARY:Birds In The Wind
DESCRIPTION:
URL:https://www.minneapolisparks.org/event-calendar/birds-in-the-wind/
LOCATION:Minnehaha Bandstand\, Minneapolis\, MN\, United States
CATEGORIES:Music & Movies in the Parks,Music in the Parks
GEO:44.9161006;-93.2109865
END:VEVENT
BEGIN:VEVENT
DTSTART;TZID=America/Chicago:20230630T193000
DTEND;TZID=America/Chicago:20230630T193000
DTSTAMP:20260420T173717
CREATED:20230510T163308Z
LAST-MODIFIED:20230609T194405Z
UID:65529-1688153400-1688153400@www.minneapolisparks.org
SUMMARY:Paul Barry Blues Band
DESCRIPTION:Chicago/West Coast Jump Blues
URL:https://www.minneapolisparks.org/event-calendar/paul-barry-blues-band-3/
LOCATION:Lake Harriet Bandshell\, Minneapolis\, MN\, United States
CATEGORIES:Music & Movies in the Parks,Music in the Parks
GEO:44.927901;-93.3082473
END:VEVENT
BEGIN:VEVENT
DTSTART;TZID=America/Chicago:20230630T210000
DTEND;TZID=America/Chicago:20230630T210000
DTSTAMP:20260420T173717
CREATED:20230517T181533Z
LAST-MODIFIED:20230609T194427Z
UID:65788-1688158800-1688158800@www.minneapolisparks.org
SUMMARY:Vivo
DESCRIPTION:PG
URL:https://www.minneapolisparks.org/event-calendar/vivo/
LOCATION:Sumner Field Park\, Minneapolis\, MN\, United States
CATEGORIES:Movies in the Parks,Music & Movies in the Parks
GEO:44.9877604;-93.2920734
END:VEVENT
BEGIN:VEVENT
DTSTART;TZID=America/Chicago:20230701T193000
DTEND;TZID=America/Chicago:20230701T193000
DTSTAMP:20260420T173717
CREATED:20230510T163351Z
LAST-MODIFIED:20230609T194452Z
UID:65531-1688239800-1688239800@www.minneapolisparks.org
SUMMARY:Minneapolis POPs
DESCRIPTION:The Minneapolis Pops Orchestra
URL:https://www.minneapolisparks.org/event-calendar/minneapolis-pops/
LOCATION:Lake Harriet Bandshell\, Minneapolis\, MN\, United States
CATEGORIES:Music & Movies in the Parks,Music in the Parks
GEO:44.927901;-93.3082473
END:VEVENT
BEGIN:VEVENT
DTSTART;TZID=America/Chicago:20230701T210000
DTEND;TZID=America/Chicago:20230701T210000
DTSTAMP:20260420T173717
CREATED:20230517T181619Z
LAST-MODIFIED:20230609T194515Z
UID:65790-1688245200-1688245200@www.minneapolisparks.org
SUMMARY:Dog
DESCRIPTION:PG. Audio & Subtitles: Eng/Span
URL:https://www.minneapolisparks.org/event-calendar/dog/
LOCATION:Lake Harriet\, Minneapolis\, MN\, United States
CATEGORIES:Movies in the Parks,Music & Movies in the Parks
GEO:44.927901;-93.3082473
END:VEVENT
BEGIN:VEVENT
DTSTART;TZID=America/Chicago:20230702T140000
DTEND;TZID=America/Chicago:20230702T140000
DTSTAMP:20260420T173717
CREATED:20230510T163436Z
LAST-MODIFIED:20230609T194538Z
UID:65533-1688306400-1688306400@www.minneapolisparks.org
SUMMARY:Honky-Tonk Jump
DESCRIPTION:Jazz With a Cowboy Hat!
URL:https://www.minneapolisparks.org/event-calendar/honky-tonk-jump/
LOCATION:Lake Harriet Bandshell\, Minneapolis\, MN\, United States
CATEGORIES:Music & Movies in the Parks,Music in the Parks
GEO:44.927901;-93.3082473
END:VEVENT
BEGIN:VEVENT
DTSTART;TZID=America/Chicago:20230703T190000
DTEND;TZID=America/Chicago:20230703T190000
DTSTAMP:20260420T173717
CREATED:20230424T173531Z
LAST-MODIFIED:20230609T194601Z
UID:65025-1688410800-1688410800@www.minneapolisparks.org
SUMMARY:Opera Under the Stars
DESCRIPTION:Classical music with a twist
URL:https://www.minneapolisparks.org/event-calendar/opera-under-the-stars-5/
LOCATION:Water Works at Mill Ruins Park\, 425 West River Parkway\, Minneapolis\, MN\, 55401\, United States
CATEGORIES:Music & Movies in the Parks,Music in the Parks
GEO:44.9811921;-93.2620982
X-APPLE-STRUCTURED-LOCATION;VALUE=URI;X-ADDRESS=Water Works at Mill Ruins Park 425 West River Parkway Minneapolis MN 55401 United States;X-APPLE-RADIUS=500;X-TITLE=425 West River Parkway:geo:-93.2620982,44.9811921
END:VEVENT
BEGIN:VEVENT
DTSTART;TZID=America/Chicago:20230703T190000
DTEND;TZID=America/Chicago:20230703T190000
DTSTAMP:20260420T173717
CREATED:20230504T184459Z
LAST-MODIFIED:20230630T202328Z
UID:65249-1688410800-1688410800@www.minneapolisparks.org
SUMMARY:Meatraffle Ska
DESCRIPTION:International Music SKA/Fun Times – Dance\, Ska\, Groove!
URL:https://www.minneapolisparks.org/event-calendar/just-dave-and-the-rockin-all-stars/
LOCATION:Nicollet Island\, Nicollet Island\, Minneapolis\, MN\, 55401\, United States
CATEGORIES:Music & Movies in the Parks,Music in the Parks
GEO:44.9874602;-93.2648511
X-APPLE-STRUCTURED-LOCATION;VALUE=URI;X-ADDRESS=Nicollet Island Nicollet Island Minneapolis MN 55401 United States;X-APPLE-RADIUS=500;X-TITLE=Nicollet Island:geo:-93.2648511,44.9874602
END:VEVENT
BEGIN:VEVENT
DTSTART;TZID=America/Chicago:20230703T193000
DTEND;TZID=America/Chicago:20230703T193000
DTSTAMP:20260420T173717
CREATED:20230510T163608Z
LAST-MODIFIED:20230609T194657Z
UID:65537-1688412600-1688412600@www.minneapolisparks.org
SUMMARY:Minnesota Orchestra
DESCRIPTION:Minnesota Orchestra at Lake Harriet Bandshell!
URL:https://www.minneapolisparks.org/event-calendar/minnesota-orchestra-3/
LOCATION:Lake Harriet Bandshell\, Minneapolis\, MN\, United States
CATEGORIES:Music & Movies in the Parks,Music in the Parks
GEO:44.927901;-93.3082473
END:VEVENT
BEGIN:VEVENT
DTSTART;TZID=America/Chicago:20230703T210000
DTEND;TZID=America/Chicago:20230703T210000
DTSTAMP:20260420T173717
CREATED:20230517T181709Z
LAST-MODIFIED:20230609T194701Z
UID:65792-1688418000-1688418000@www.minneapolisparks.org
SUMMARY:Encanto
DESCRIPTION:PG. Audio & Subtitles: Eng/Span
URL:https://www.minneapolisparks.org/event-calendar/encanto-5/
LOCATION:Whittier Park\, 425 W 26th St\, Minneapolis\, MN\, 55404\, United States
CATEGORIES:Movies in the Parks,Music & Movies in the Parks
GEO:44.9551265;-93.2845291
X-APPLE-STRUCTURED-LOCATION;VALUE=URI;X-ADDRESS=Whittier Park 425 W 26th St Minneapolis MN 55404 United States;X-APPLE-RADIUS=500;X-TITLE=425 W 26th St:geo:-93.2845291,44.9551265
END:VEVENT
BEGIN:VEVENT
DTSTART;TZID=America/Chicago:20230705T120000
DTEND;TZID=America/Chicago:20230705T120000
DTSTAMP:20260420T173717
CREATED:20230420T195508Z
LAST-MODIFIED:20230609T194833Z
UID:64949-1688558400-1688558400@www.minneapolisparks.org
SUMMARY:Matt Yetter
DESCRIPTION:Resophonic slide guitar and harp rock blues
URL:https://www.minneapolisparks.org/event-calendar/matt-yetter/
LOCATION:The Commons\, 425 Portland Ave South\, Minneapolis\, MN\, 55488\, United States
CATEGORIES:Music & Movies in the Parks,Music in the Parks
GEO:44.9766971;-93.2628904
X-APPLE-STRUCTURED-LOCATION;VALUE=URI;X-ADDRESS=The Commons 425 Portland Ave South Minneapolis MN 55488 United States;X-APPLE-RADIUS=500;X-TITLE=425 Portland Ave South:geo:-93.2628904,44.9766971
END:VEVENT
BEGIN:VEVENT
DTSTART;TZID=America/Chicago:20230705T193000
DTEND;TZID=America/Chicago:20230705T193000
DTSTAMP:20260420T173717
CREATED:20230510T164533Z
LAST-MODIFIED:20230609T194829Z
UID:65539-1688585400-1688585400@www.minneapolisparks.org
SUMMARY:Mamas Ignite Collective
DESCRIPTION:Various Artists and Styles
URL:https://www.minneapolisparks.org/event-calendar/mamas-ignite-collective/
LOCATION:Lake Harriet Bandshell\, Minneapolis\, MN\, United States
CATEGORIES:Music & Movies in the Parks,Music in the Parks
GEO:44.927901;-93.3082473
END:VEVENT
BEGIN:VEVENT
DTSTART;TZID=America/Chicago:20230705T210000
DTEND;TZID=America/Chicago:20230705T210000
DTSTAMP:20260420T173717
CREATED:20230420T193653Z
LAST-MODIFIED:20230609T194757Z
UID:64911-1688590800-1688590800@www.minneapolisparks.org
SUMMARY:Knives Out
DESCRIPTION:PG-13. Movies start 15 minutes after sunset.
URL:https://www.minneapolisparks.org/event-calendar/knives-out/
LOCATION:The Commons\, 425 Portland Ave South\, Minneapolis\, MN\, 55488\, United States
CATEGORIES:Movies in the Parks,Music & Movies in the Parks
GEO:44.9766971;-93.2628904
X-APPLE-STRUCTURED-LOCATION;VALUE=URI;X-ADDRESS=The Commons 425 Portland Ave South Minneapolis MN 55488 United States;X-APPLE-RADIUS=500;X-TITLE=425 Portland Ave South:geo:-93.2628904,44.9766971
END:VEVENT
BEGIN:VEVENT
DTSTART;TZID=America/Chicago:20230706T190000
DTEND;TZID=America/Chicago:20230706T190000
DTSTAMP:20260420T173717
CREATED:20230420T195552Z
LAST-MODIFIED:20230609T194750Z
UID:64951-1688670000-1688670000@www.minneapolisparks.org
SUMMARY:Matt Herzog
DESCRIPTION:Heartland Rock and Funky Blues
URL:https://www.minneapolisparks.org/event-calendar/matt-herzog/
LOCATION:The Commons\, 425 Portland Ave South\, Minneapolis\, MN\, 55488\, United States
CATEGORIES:Music & Movies in the Parks,Music in the Parks
GEO:44.9766971;-93.2628904
X-APPLE-STRUCTURED-LOCATION;VALUE=URI;X-ADDRESS=The Commons 425 Portland Ave South Minneapolis MN 55488 United States;X-APPLE-RADIUS=500;X-TITLE=425 Portland Ave South:geo:-93.2628904,44.9766971
END:VEVENT
BEGIN:VEVENT
DTSTART;TZID=America/Chicago:20230706T210000
DTEND;TZID=America/Chicago:20230706T210000
DTSTAMP:20260420T173717
CREATED:20230517T181809Z
LAST-MODIFIED:20230609T194931Z
UID:65794-1688677200-1688677200@www.minneapolisparks.org
SUMMARY:Puss and boots: The Last Wish
DESCRIPTION:PG
URL:https://www.minneapolisparks.org/event-calendar/puss-and-boots-the-last-wish-2/
LOCATION:Brackett Field Park\, 2728 S 39th Ave\, Minneapolis\, MN\, 55406\, United States
CATEGORIES:Movies in the Parks,Music & Movies in the Parks
GEO:44.9527432;-93.2170093
X-APPLE-STRUCTURED-LOCATION;VALUE=URI;X-ADDRESS=Brackett Field Park 2728 S 39th Ave Minneapolis MN 55406 United States;X-APPLE-RADIUS=500;X-TITLE=2728 S 39th Ave:geo:-93.2170093,44.9527432
END:VEVENT
BEGIN:VEVENT
DTSTART;TZID=America/Chicago:20230707T120000
DTEND;TZID=America/Chicago:20230707T120000
DTSTAMP:20260420T173717
CREATED:20230424T173616Z
LAST-MODIFIED:20230609T194937Z
UID:65027-1688731200-1688731200@www.minneapolisparks.org
SUMMARY:Jim Walsh & The Dog Day Cicadas
DESCRIPTION:Original MPLS rock & roll
URL:https://www.minneapolisparks.org/event-calendar/jim-walsh-the-dog-day-cicadas/
LOCATION:Water Works at Mill Ruins Park\, 425 West River Parkway\, Minneapolis\, MN\, 55401\, United States
CATEGORIES:Music & Movies in the Parks,Music in the Parks
GEO:44.9811921;-93.2620982
X-APPLE-STRUCTURED-LOCATION;VALUE=URI;X-ADDRESS=Water Works at Mill Ruins Park 425 West River Parkway Minneapolis MN 55401 United States;X-APPLE-RADIUS=500;X-TITLE=425 West River Parkway:geo:-93.2620982,44.9811921
END:VEVENT
BEGIN:VEVENT
DTSTART;TZID=America/Chicago:20230707T190000
DTEND;TZID=America/Chicago:20230707T190000
DTSTAMP:20260420T173717
CREATED:20230420T191710Z
LAST-MODIFIED:20230609T194950Z
UID:64873-1688756400-1688756400@www.minneapolisparks.org
SUMMARY:Jazicality
DESCRIPTION:We make music for everyone!
URL:https://www.minneapolisparks.org/event-calendar/jazicality/
LOCATION:Loring Park\, Loring Park\, Minneapolis\, MN\, 55403\, United States
CATEGORIES:Music & Movies in the Parks,Music in the Parks
GEO:44.9649915;-93.2854596
X-APPLE-STRUCTURED-LOCATION;VALUE=URI;X-ADDRESS=Loring Park Loring Park Minneapolis MN 55403 United States;X-APPLE-RADIUS=500;X-TITLE=Loring Park:geo:-93.2854596,44.9649915
END:VEVENT
BEGIN:VEVENT
DTSTART;TZID=America/Chicago:20230707T190000
DTEND;TZID=America/Chicago:20230707T190000
DTSTAMP:20260420T173717
CREATED:20230504T191156Z
LAST-MODIFIED:20230609T194954Z
UID:65313-1688756400-1688756400@www.minneapolisparks.org
SUMMARY:Southern Resident Killer Whales
DESCRIPTION:Minneapolis-based craft pop
URL:https://www.minneapolisparks.org/event-calendar/southern-resident-killer-whales/
LOCATION:Minnehaha Bandstand\, Minneapolis\, MN\, United States
CATEGORIES:Music & Movies in the Parks,Music in the Parks
GEO:44.9161006;-93.2109865
END:VEVENT
BEGIN:VEVENT
DTSTART;TZID=America/Chicago:20230707T193000
DTEND;TZID=America/Chicago:20230707T193000
DTSTAMP:20260420T173717
CREATED:20230510T164614Z
LAST-MODIFIED:20230609T195102Z
UID:65541-1688758200-1688758200@www.minneapolisparks.org
SUMMARY:The Red Hot Django Peppers
DESCRIPTION:International Jazz music
URL:https://www.minneapolisparks.org/event-calendar/the-red-hot-django-peppers-3/
LOCATION:Lake Harriet Bandshell\, Minneapolis\, MN\, United States
CATEGORIES:Music & Movies in the Parks,Music in the Parks
GEO:44.927901;-93.3082473
END:VEVENT
BEGIN:VEVENT
DTSTART;TZID=America/Chicago:20230707T210000
DTEND;TZID=America/Chicago:20230707T210000
DTSTAMP:20260420T173717
CREATED:20230517T181855Z
LAST-MODIFIED:20230609T195106Z
UID:65796-1688763600-1688763600@www.minneapolisparks.org
SUMMARY:The Woman King
DESCRIPTION:PG-13
URL:https://www.minneapolisparks.org/event-calendar/the-woman-king/
LOCATION:Hiawatha School Park\, 4305 E 42nd St\, Minneapolis\, MN\, 55406\, United States
CATEGORIES:Movies in the Parks,Music & Movies in the Parks
GEO:44.9264488;-93.2112783
X-APPLE-STRUCTURED-LOCATION;VALUE=URI;X-ADDRESS=Hiawatha School Park 4305 E 42nd St Minneapolis MN 55406 United States;X-APPLE-RADIUS=500;X-TITLE=4305 E 42nd St:geo:-93.2112783,44.9264488
END:VEVENT
BEGIN:VEVENT
DTSTART;TZID=America/Chicago:20230708T193000
DTEND;TZID=America/Chicago:20230708T193000
DTSTAMP:20260420T173717
CREATED:20230510T164654Z
LAST-MODIFIED:20230609T195110Z
UID:65543-1688844600-1688844600@www.minneapolisparks.org
SUMMARY:Minneapolis POPs
DESCRIPTION:The Minneapolis Pops Orchestra
URL:https://www.minneapolisparks.org/event-calendar/minneapolis-pops-3/
LOCATION:Lake Harriet Bandshell\, Minneapolis\, MN\, United States
CATEGORIES:Music & Movies in the Parks,Music in the Parks
GEO:44.927901;-93.3082473
END:VEVENT
BEGIN:VEVENT
DTSTART;TZID=America/Chicago:20230708T210000
DTEND;TZID=America/Chicago:20230708T210000
DTSTAMP:20260420T173717
CREATED:20230517T181935Z
LAST-MODIFIED:20230609T195113Z
UID:65800-1688850000-1688850000@www.minneapolisparks.org
SUMMARY:Top Gun: Maverick
DESCRIPTION:PG-13
URL:https://www.minneapolisparks.org/event-calendar/top-gun-maverick-2/
LOCATION:Lake Nokomis\, Minneapolis\, MN\, United States
CATEGORIES:Movies in the Parks,Music & Movies in the Parks
GEO:44.9114979;-93.2431014
END:VEVENT
END:VCALENDAR