BEGIN:VCALENDAR
VERSION:2.0
PRODID:-//Minneapolis Park &amp; Recreation Board - ECPv6.15.20//NONSGML v1.0//EN
CALSCALE:GREGORIAN
METHOD:PUBLISH
X-ORIGINAL-URL:https://www.minneapolisparks.org
X-WR-CALDESC:Events for Minneapolis Park &amp; Recreation Board
REFRESH-INTERVAL;VALUE=DURATION:PT1H
X-Robots-Tag:noindex
X-PUBLISHED-TTL:PT1H
BEGIN:VTIMEZONE
TZID:America/Chicago
BEGIN:DAYLIGHT
TZOFFSETFROM:-0600
TZOFFSETTO:-0500
TZNAME:CDT
DTSTART:20220313T080000
END:DAYLIGHT
BEGIN:STANDARD
TZOFFSETFROM:-0500
TZOFFSETTO:-0600
TZNAME:CST
DTSTART:20221106T070000
END:STANDARD
BEGIN:DAYLIGHT
TZOFFSETFROM:-0600
TZOFFSETTO:-0500
TZNAME:CDT
DTSTART:20230312T080000
END:DAYLIGHT
BEGIN:STANDARD
TZOFFSETFROM:-0500
TZOFFSETTO:-0600
TZNAME:CST
DTSTART:20231105T070000
END:STANDARD
BEGIN:DAYLIGHT
TZOFFSETFROM:-0600
TZOFFSETTO:-0500
TZNAME:CDT
DTSTART:20240310T080000
END:DAYLIGHT
BEGIN:STANDARD
TZOFFSETFROM:-0500
TZOFFSETTO:-0600
TZNAME:CST
DTSTART:20241103T070000
END:STANDARD
END:VTIMEZONE
BEGIN:VEVENT
DTSTART;TZID=America/Chicago:20230616T190000
DTEND;TZID=America/Chicago:20230616T190000
DTSTAMP:20260420T155241
CREATED:20230504T190741Z
LAST-MODIFIED:20230609T184006Z
UID:65301-1686942000-1686942000@www.minneapolisparks.org
SUMMARY:Belly Dance Collaborative
DESCRIPTION:Belly Dance Collaborative – Mixed Styles
URL:https://www.minneapolisparks.org/event-calendar/belly-dance-collaborative/
LOCATION:Minnehaha Bandstand\, Minneapolis\, MN\, United States
CATEGORIES:Music & Movies in the Parks,Music in the Parks
GEO:44.9161006;-93.2109865
END:VEVENT
BEGIN:VEVENT
DTSTART;TZID=America/Chicago:20230616T193000
DTEND;TZID=America/Chicago:20230616T193000
DTSTAMP:20260420T155241
CREATED:20230510T162506Z
LAST-MODIFIED:20230609T184141Z
UID:65507-1686943800-1686943800@www.minneapolisparks.org
SUMMARY:Sesay
DESCRIPTION:Unique\, different\, entertaining\, musical\, positive
URL:https://www.minneapolisparks.org/event-calendar/sesay-4/
LOCATION:Lake Harriet Bandshell\, Minneapolis\, MN\, United States
CATEGORIES:Music & Movies in the Parks,Music in the Parks
GEO:44.927901;-93.3082473
END:VEVENT
BEGIN:VEVENT
DTSTART;TZID=America/Chicago:20230616T210000
DTEND;TZID=America/Chicago:20230616T210000
DTSTAMP:20260420T155241
CREATED:20230517T180914Z
LAST-MODIFIED:20230609T184245Z
UID:65770-1686949200-1686949200@www.minneapolisparks.org
SUMMARY:Just Mercy
DESCRIPTION:PG-13
URL:https://www.minneapolisparks.org/event-calendar/just-mercy/
LOCATION:Creekview Park\, 5001 Humboldt Ave N\, Minneapolis\, MN\, 55430\, United States
CATEGORIES:Movies in the Parks,Music & Movies in the Parks
GEO:45.0452068;-93.301536
X-APPLE-STRUCTURED-LOCATION;VALUE=URI;X-ADDRESS=Creekview Park 5001 Humboldt Ave N Minneapolis MN 55430 United States;X-APPLE-RADIUS=500;X-TITLE=5001 Humboldt Ave N:geo:-93.301536,45.0452068
END:VEVENT
BEGIN:VEVENT
DTSTART;TZID=America/Chicago:20230617T193000
DTEND;TZID=America/Chicago:20230617T193000
DTSTAMP:20260420T155241
CREATED:20230510T162546Z
LAST-MODIFIED:20230609T184410Z
UID:65509-1687030200-1687030200@www.minneapolisparks.org
SUMMARY:Twin Cities Mobile Jazz Presents: Mississippi (Fusion Jazz)
DESCRIPTION:Featuring: \nJeff Bailey-bass \nKavy Kaviraj-keys \nKevin Washington-drums \nPete Whitman-saxophones
URL:https://www.minneapolisparks.org/event-calendar/twin-cities-mobile-jazz-4/
LOCATION:Lake Harriet Bandshell\, Minneapolis\, MN\, United States
CATEGORIES:Music & Movies in the Parks,Music in the Parks
GEO:44.927901;-93.3082473
END:VEVENT
BEGIN:VEVENT
DTSTART;TZID=America/Chicago:20230618T140000
DTEND;TZID=America/Chicago:20230618T140000
DTSTAMP:20260420T155241
CREATED:20230510T162638Z
LAST-MODIFIED:20230609T184511Z
UID:65511-1687096800-1687096800@www.minneapolisparks.org
SUMMARY:Cantus
DESCRIPTION:Low voice vocal chamber ensemble
URL:https://www.minneapolisparks.org/event-calendar/cantus-6/
LOCATION:Lake Harriet Bandshell\, Minneapolis\, MN\, United States
CATEGORIES:Music & Movies in the Parks,Music in the Parks
GEO:44.927901;-93.3082473
END:VEVENT
BEGIN:VEVENT
DTSTART;TZID=America/Chicago:20230618T173000
DTEND;TZID=America/Chicago:20230618T173000
DTSTAMP:20260420T155241
CREATED:20230510T162715Z
LAST-MODIFIED:20230609T184604Z
UID:65513-1687109400-1687109400@www.minneapolisparks.org
SUMMARY:Really Spicy Opera
DESCRIPTION:Thrilling\, spicy new opera treats!
URL:https://www.minneapolisparks.org/event-calendar/really-spicy-opera/
LOCATION:Lake Harriet Bandshell\, Minneapolis\, MN\, United States
CATEGORIES:Music & Movies in the Parks,Music in the Parks
GEO:44.927901;-93.3082473
END:VEVENT
BEGIN:VEVENT
DTSTART;TZID=America/Chicago:20230619T190000
DTEND;TZID=America/Chicago:20230619T190000
DTSTAMP:20260420T155241
CREATED:20230420T194824Z
LAST-MODIFIED:20230613T152651Z
UID:64931-1687201200-1687201200@www.minneapolisparks.org
SUMMARY:American Dream Band
DESCRIPTION:Originals\, oldies & classic rock
URL:https://www.minneapolisparks.org/event-calendar/american-dream-band/
LOCATION:Nicollet Island\, Nicollet Island\, Minneapolis\, MN\, 55401\, United States
CATEGORIES:Music & Movies in the Parks,Music in the Parks
GEO:44.9874602;-93.2648511
X-APPLE-STRUCTURED-LOCATION;VALUE=URI;X-ADDRESS=Nicollet Island Nicollet Island Minneapolis MN 55401 United States;X-APPLE-RADIUS=500;X-TITLE=Nicollet Island:geo:-93.2648511,44.9874602
END:VEVENT
BEGIN:VEVENT
DTSTART;TZID=America/Chicago:20230619T190000
DTEND;TZID=America/Chicago:20230619T190000
DTSTAMP:20260420T155241
CREATED:20230424T155726Z
LAST-MODIFIED:20230609T184656Z
UID:65014-1687201200-1687201200@www.minneapolisparks.org
SUMMARY:John Penny and the Virtuals
DESCRIPTION:International Music\, Jazz\, R & B
URL:https://www.minneapolisparks.org/event-calendar/john-penny-and-the-virtuals/
LOCATION:Water Works at Mill Ruins Park\, 425 West River Parkway\, Minneapolis\, MN\, 55401\, United States
CATEGORIES:Music & Movies in the Parks,Music in the Parks
GEO:44.9811921;-93.2620982
X-APPLE-STRUCTURED-LOCATION;VALUE=URI;X-ADDRESS=Water Works at Mill Ruins Park 425 West River Parkway Minneapolis MN 55401 United States;X-APPLE-RADIUS=500;X-TITLE=425 West River Parkway:geo:-93.2620982,44.9811921
END:VEVENT
BEGIN:VEVENT
DTSTART;TZID=America/Chicago:20230619T193000
DTEND;TZID=America/Chicago:20230619T193000
DTSTAMP:20260420T155241
CREATED:20230510T162755Z
LAST-MODIFIED:20230609T184750Z
UID:65515-1687203000-1687203000@www.minneapolisparks.org
SUMMARY:Minnesota Freedom Band
DESCRIPTION:Classical and pop queer band
URL:https://www.minneapolisparks.org/event-calendar/minnesota-freedom-band-5/
LOCATION:Lake Harriet Bandshell\, Minneapolis\, MN\, United States
CATEGORIES:Music & Movies in the Parks,Music in the Parks
GEO:44.927901;-93.3082473
END:VEVENT
BEGIN:VEVENT
DTSTART;TZID=America/Chicago:20230620T120000
DTEND;TZID=America/Chicago:20230620T120000
DTSTAMP:20260420T155241
CREATED:20230420T191419Z
LAST-MODIFIED:20230609T184855Z
UID:64867-1687262400-1687262400@www.minneapolisparks.org
SUMMARY:Peter Ruddy
DESCRIPTION:Fingerstyle guitar on 6 and 12 strings
URL:https://www.minneapolisparks.org/event-calendar/peter-ruddy-4/
LOCATION:Loring Park\, Loring Park\, Minneapolis\, MN\, 55403\, United States
CATEGORIES:Music & Movies in the Parks,Music in the Parks
GEO:44.9649915;-93.2854596
X-APPLE-STRUCTURED-LOCATION;VALUE=URI;X-ADDRESS=Loring Park Loring Park Minneapolis MN 55403 United States;X-APPLE-RADIUS=500;X-TITLE=Loring Park:geo:-93.2854596,44.9649915
END:VEVENT
BEGIN:VEVENT
DTSTART;TZID=America/Chicago:20230620T210000
DTEND;TZID=America/Chicago:20230620T210000
DTSTAMP:20260420T155241
CREATED:20230517T181025Z
LAST-MODIFIED:20230609T184949Z
UID:65774-1687294800-1687294800@www.minneapolisparks.org
SUMMARY:The Goonies
DESCRIPTION:PG
URL:https://www.minneapolisparks.org/event-calendar/the-goonies/
LOCATION:Lynnhurst Park\, 1345 W Minnehaha Parkway\, Minneapolis\, MN\, 55419\, United States
CATEGORIES:Movies in the Parks,Music & Movies in the Parks
GEO:44.9118382;-93.2986289
X-APPLE-STRUCTURED-LOCATION;VALUE=URI;X-ADDRESS=Lynnhurst Park 1345 W Minnehaha Parkway Minneapolis MN 55419 United States;X-APPLE-RADIUS=500;X-TITLE=1345 W Minnehaha Parkway:geo:-93.2986289,44.9118382
END:VEVENT
BEGIN:VEVENT
DTSTART;TZID=America/Chicago:20230621T120000
DTEND;TZID=America/Chicago:20230621T120000
DTSTAMP:20260420T155241
CREATED:20230420T195206Z
LAST-MODIFIED:20230609T185048Z
UID:64941-1687348800-1687348800@www.minneapolisparks.org
SUMMARY:ArdinA
DESCRIPTION:Loudness\, Duo\, Electric\, Rock\, Spectacle
URL:https://www.minneapolisparks.org/event-calendar/ardina/
LOCATION:The Commons\, 425 Portland Ave South\, Minneapolis\, MN\, 55488\, United States
CATEGORIES:Music & Movies in the Parks,Music in the Parks
GEO:44.9766971;-93.2628904
X-APPLE-STRUCTURED-LOCATION;VALUE=URI;X-ADDRESS=The Commons 425 Portland Ave South Minneapolis MN 55488 United States;X-APPLE-RADIUS=500;X-TITLE=425 Portland Ave South:geo:-93.2628904,44.9766971
END:VEVENT
BEGIN:VEVENT
DTSTART;TZID=America/Chicago:20230621T193000
DTEND;TZID=America/Chicago:20230621T193000
DTSTAMP:20260420T155241
CREATED:20230510T162836Z
LAST-MODIFIED:20230609T185847Z
UID:65517-1687375800-1687375800@www.minneapolisparks.org
SUMMARY:Kashimana
DESCRIPTION:Soulful vocal ensemble with bass and drums
URL:https://www.minneapolisparks.org/event-calendar/kashimana-5/
LOCATION:Lake Harriet Bandshell\, Minneapolis\, MN\, United States
CATEGORIES:Music & Movies in the Parks,Music in the Parks
GEO:44.927901;-93.3082473
END:VEVENT
BEGIN:VEVENT
DTSTART;TZID=America/Chicago:20230621T210000
DTEND;TZID=America/Chicago:20230621T210000
DTSTAMP:20260420T155241
CREATED:20230420T193446Z
LAST-MODIFIED:20230609T185930Z
UID:64907-1687381200-1687381200@www.minneapolisparks.org
SUMMARY:King Richard
DESCRIPTION:PG-13. Movies start 15 minutes after sunset.
URL:https://www.minneapolisparks.org/event-calendar/king-richard-2/
LOCATION:The Commons\, 425 Portland Ave South\, Minneapolis\, MN\, 55488\, United States
CATEGORIES:Movies in the Parks,Music & Movies in the Parks
GEO:44.9766971;-93.2628904
X-APPLE-STRUCTURED-LOCATION;VALUE=URI;X-ADDRESS=The Commons 425 Portland Ave South Minneapolis MN 55488 United States;X-APPLE-RADIUS=500;X-TITLE=425 Portland Ave South:geo:-93.2628904,44.9766971
END:VEVENT
BEGIN:VEVENT
DTSTART;TZID=America/Chicago:20230622T183000
DTEND;TZID=America/Chicago:20230622T200000
DTSTAMP:20260420T155241
CREATED:20230504T185555Z
LAST-MODIFIED:20230609T190013Z
UID:65273-1687458600-1687464000@www.minneapolisparks.org
SUMMARY:Meat Raffle Ska
DESCRIPTION:International Music Ska fun dance
URL:https://www.minneapolisparks.org/event-calendar/meat-raffle-ska/
LOCATION:Bryant Square Park\, 3101 Bryant Ave S\, Minneapolis\, MN\, 55408\, United States
CATEGORIES:Music & Movies in the Parks,Music in the Parks
GEO:44.9461045;-93.2903539
X-APPLE-STRUCTURED-LOCATION;VALUE=URI;X-ADDRESS=Bryant Square Park 3101 Bryant Ave S Minneapolis MN 55408 United States;X-APPLE-RADIUS=500;X-TITLE=3101 Bryant Ave S:geo:-93.2903539,44.9461045
END:VEVENT
BEGIN:VEVENT
DTSTART;TZID=America/Chicago:20230622T190000
DTEND;TZID=America/Chicago:20230622T190000
DTSTAMP:20260420T155241
CREATED:20230420T195244Z
LAST-MODIFIED:20230609T190127Z
UID:64943-1687460400-1687460400@www.minneapolisparks.org
SUMMARY:Jack Werner
DESCRIPTION:Music to sing along to!
URL:https://www.minneapolisparks.org/event-calendar/jack-werner/
LOCATION:The Commons\, 425 Portland Ave South\, Minneapolis\, MN\, 55488\, United States
CATEGORIES:Music & Movies in the Parks,Music in the Parks
GEO:44.9766971;-93.2628904
X-APPLE-STRUCTURED-LOCATION;VALUE=URI;X-ADDRESS=The Commons 425 Portland Ave South Minneapolis MN 55488 United States;X-APPLE-RADIUS=500;X-TITLE=425 Portland Ave South:geo:-93.2628904,44.9766971
END:VEVENT
BEGIN:VEVENT
DTSTART;TZID=America/Chicago:20230622T190000
DTEND;TZID=America/Chicago:20230622T190000
DTSTAMP:20260420T155241
CREATED:20230504T190814Z
LAST-MODIFIED:20230609T190228Z
UID:65303-1687460400-1687460400@www.minneapolisparks.org
SUMMARY:Janelle & Todd
DESCRIPTION:Impressive music for your enjoyment
URL:https://www.minneapolisparks.org/event-calendar/janelle-todd/
LOCATION:Minnehaha Bandstand\, Minneapolis\, MN\, United States
CATEGORIES:Music & Movies in the Parks,Music in the Parks
GEO:44.9161006;-93.2109865
END:VEVENT
BEGIN:VEVENT
DTSTART;TZID=America/Chicago:20230622T210000
DTEND;TZID=America/Chicago:20230622T210000
DTSTAMP:20260420T155241
CREATED:20230517T181102Z
LAST-MODIFIED:20230609T190342Z
UID:65776-1687467600-1687467600@www.minneapolisparks.org
SUMMARY:Black Adam
DESCRIPTION:PG-13
URL:https://www.minneapolisparks.org/event-calendar/black-adam-2/
LOCATION:Sibley Park\, 1900 E 40th St\, Minneapolis\, MN\, 55407\, United States
CATEGORIES:Movies in the Parks,Music & Movies in the Parks
GEO:44.9310545;-93.2444172
X-APPLE-STRUCTURED-LOCATION;VALUE=URI;X-ADDRESS=Sibley Park 1900 E 40th St Minneapolis MN 55407 United States;X-APPLE-RADIUS=500;X-TITLE=1900 E 40th St:geo:-93.2444172,44.9310545
END:VEVENT
BEGIN:VEVENT
DTSTART;TZID=America/Chicago:20230623T120000
DTEND;TZID=America/Chicago:20230623T120000
DTSTAMP:20260420T155241
CREATED:20230424T155817Z
LAST-MODIFIED:20230609T190429Z
UID:65016-1687521600-1687521600@www.minneapolisparks.org
SUMMARY:Ted Hajnasiewicz
DESCRIPTION:Country\, Americana Singer Songwriter
URL:https://www.minneapolisparks.org/event-calendar/ted-hajnasiewicz/
LOCATION:Water Works at Mill Ruins Park\, 425 West River Parkway\, Minneapolis\, MN\, 55401\, United States
CATEGORIES:Music & Movies in the Parks,Music in the Parks
GEO:44.9811921;-93.2620982
X-APPLE-STRUCTURED-LOCATION;VALUE=URI;X-ADDRESS=Water Works at Mill Ruins Park 425 West River Parkway Minneapolis MN 55401 United States;X-APPLE-RADIUS=500;X-TITLE=425 West River Parkway:geo:-93.2620982,44.9811921
END:VEVENT
BEGIN:VEVENT
DTSTART;TZID=America/Chicago:20230623T190000
DTEND;TZID=America/Chicago:20230623T190000
DTSTAMP:20260420T155241
CREATED:20230504T190900Z
LAST-MODIFIED:20230609T190519Z
UID:65305-1687546800-1687546800@www.minneapolisparks.org
SUMMARY:Katy Tessman and the Turnbuckles
DESCRIPTION:Rootsy music with vigor and big love
URL:https://www.minneapolisparks.org/event-calendar/katy-tessman-and-the-turnbuckles/
LOCATION:Minnehaha Bandstand\, Minneapolis\, MN\, United States
CATEGORIES:Music & Movies in the Parks,Music in the Parks
GEO:44.9161006;-93.2109865
END:VEVENT
BEGIN:VEVENT
DTSTART;TZID=America/Chicago:20230623T193000
DTEND;TZID=America/Chicago:20230623T193000
DTSTAMP:20260420T155241
CREATED:20230510T162926Z
LAST-MODIFIED:20230609T190610Z
UID:65519-1687548600-1687548600@www.minneapolisparks.org
SUMMARY:MN Sinfonia
DESCRIPTION:Classical pops Children’s Concert
URL:https://www.minneapolisparks.org/event-calendar/mn-sinfonia-4/
LOCATION:Lake Harriet Bandshell\, Minneapolis\, MN\, United States
CATEGORIES:Music & Movies in the Parks,Music in the Parks
GEO:44.927901;-93.3082473
END:VEVENT
BEGIN:VEVENT
DTSTART;TZID=America/Chicago:20230623T210000
DTEND;TZID=America/Chicago:20230623T210000
DTSTAMP:20260420T155241
CREATED:20230517T181155Z
LAST-MODIFIED:20230609T190757Z
UID:65778-1687554000-1687554000@www.minneapolisparks.org
SUMMARY:42: Jackie Robinson
DESCRIPTION:PG-13
URL:https://www.minneapolisparks.org/event-calendar/42-jackie-robinson/
LOCATION:Bottineau Park\, 2000 Second St NE\, Minneapolis\, MN\, 55418\, United States
CATEGORIES:Movies in the Parks,Music & Movies in the Parks
GEO:45.0077139;-93.2669727
X-APPLE-STRUCTURED-LOCATION;VALUE=URI;X-ADDRESS=Bottineau Park 2000 Second St NE Minneapolis MN 55418 United States;X-APPLE-RADIUS=500;X-TITLE=2000 Second St NE:geo:-93.2669727,45.0077139
END:VEVENT
BEGIN:VEVENT
DTSTART;TZID=America/Chicago:20230624T210000
DTEND;TZID=America/Chicago:20230624T210000
DTSTAMP:20260420T155241
CREATED:20230517T181304Z
LAST-MODIFIED:20230609T190907Z
UID:65780-1687640400-1687640400@www.minneapolisparks.org
SUMMARY:Jurassic World Dominion
DESCRIPTION:PG-13
URL:https://www.minneapolisparks.org/event-calendar/jurassic-world-dominion/
LOCATION:Lyndale Farmstead Park\, 3900 Bryant Ave S\, Minneapolis\, MN\, 55409\, United States
CATEGORIES:Movies in the Parks,Music & Movies in the Parks
GEO:44.9321181;-93.2914154
X-APPLE-STRUCTURED-LOCATION;VALUE=URI;X-ADDRESS=Lyndale Farmstead Park 3900 Bryant Ave S Minneapolis MN 55409 United States;X-APPLE-RADIUS=500;X-TITLE=3900 Bryant Ave S:geo:-93.2914154,44.9321181
END:VEVENT
BEGIN:VEVENT
DTSTART;TZID=America/Chicago:20230625T140000
DTEND;TZID=America/Chicago:20230625T140000
DTSTAMP:20260420T155241
CREATED:20230510T163009Z
LAST-MODIFIED:20230609T191022Z
UID:65521-1687701600-1687701600@www.minneapolisparks.org
SUMMARY:Anda Flamenco
DESCRIPTION:Real flamenco performed by real women!
URL:https://www.minneapolisparks.org/event-calendar/anda-flamenco/
LOCATION:Lake Harriet Bandshell\, Minneapolis\, MN\, United States
CATEGORIES:Music & Movies in the Parks,Music in the Parks
GEO:44.927901;-93.3082473
END:VEVENT
BEGIN:VEVENT
DTSTART;TZID=America/Chicago:20230625T173000
DTEND;TZID=America/Chicago:20230625T173000
DTSTAMP:20260420T155241
CREATED:20230510T163052Z
LAST-MODIFIED:20230620T141458Z
UID:65523-1687714200-1687714200@www.minneapolisparks.org
SUMMARY:Ecuador Manta
DESCRIPTION:Rock roll\, Soul\, Funk\, Blues
URL:https://www.minneapolisparks.org/event-calendar/retro-soul-and-the-westside-horns/
LOCATION:Lake Harriet Bandshell\, Minneapolis\, MN\, United States
CATEGORIES:Music & Movies in the Parks,Music in the Parks
GEO:44.927901;-93.3082473
END:VEVENT
BEGIN:VEVENT
DTSTART;TZID=America/Chicago:20230626T190000
DTEND;TZID=America/Chicago:20230626T190000
DTSTAMP:20260420T155241
CREATED:20230424T155913Z
LAST-MODIFIED:20230609T193138Z
UID:65018-1687806000-1687806000@www.minneapolisparks.org
SUMMARY:Jon Rodine Band
DESCRIPTION:American roots
URL:https://www.minneapolisparks.org/event-calendar/jon-rodine-band/
LOCATION:Water Works at Mill Ruins Park\, 425 West River Parkway\, Minneapolis\, MN\, 55401\, United States
CATEGORIES:Music & Movies in the Parks,Music in the Parks
GEO:44.9811921;-93.2620982
X-APPLE-STRUCTURED-LOCATION;VALUE=URI;X-ADDRESS=Water Works at Mill Ruins Park 425 West River Parkway Minneapolis MN 55401 United States;X-APPLE-RADIUS=500;X-TITLE=425 West River Parkway:geo:-93.2620982,44.9811921
END:VEVENT
BEGIN:VEVENT
DTSTART;TZID=America/Chicago:20230626T193000
DTEND;TZID=America/Chicago:20230626T193000
DTSTAMP:20260420T155241
CREATED:20230510T163135Z
LAST-MODIFIED:20230609T193258Z
UID:65525-1687807800-1687807800@www.minneapolisparks.org
SUMMARY:Pan-Handlers Steel Drum Band
DESCRIPTION:Tangible joy through original music
URL:https://www.minneapolisparks.org/event-calendar/pan-handlers-steel-drum-band-4/
LOCATION:Lake Harriet Bandshell\, Minneapolis\, MN\, United States
CATEGORIES:Music & Movies in the Parks,Music in the Parks
GEO:44.927901;-93.3082473
END:VEVENT
BEGIN:VEVENT
DTSTART;TZID=America/Chicago:20230626T210000
DTEND;TZID=America/Chicago:20230626T210000
DTSTAMP:20260420T155241
CREATED:20230517T181340Z
LAST-MODIFIED:20230609T193346Z
UID:65782-1687813200-1687813200@www.minneapolisparks.org
SUMMARY:Best In Show
DESCRIPTION:PG
URL:https://www.minneapolisparks.org/event-calendar/best-in-show-3/
LOCATION:Mueller Park\, Minneapolis\, MN\, United States
CATEGORIES:Movies in the Parks,Music & Movies in the Parks
GEO:44.9569732;-93.2914447
END:VEVENT
BEGIN:VEVENT
DTSTART;TZID=America/Chicago:20230627T120000
DTEND;TZID=America/Chicago:20230627T120000
DTSTAMP:20260420T155241
CREATED:20230420T191511Z
LAST-MODIFIED:20230609T193455Z
UID:64869-1687867200-1687867200@www.minneapolisparks.org
SUMMARY:Band of Praise
DESCRIPTION:Jazz from 1900 to 1930
URL:https://www.minneapolisparks.org/event-calendar/band-of-praise/
LOCATION:Loring Park\, Loring Park\, Minneapolis\, MN\, 55403\, United States
CATEGORIES:Music & Movies in the Parks,Music in the Parks
GEO:44.9649915;-93.2854596
X-APPLE-STRUCTURED-LOCATION;VALUE=URI;X-ADDRESS=Loring Park Loring Park Minneapolis MN 55403 United States;X-APPLE-RADIUS=500;X-TITLE=Loring Park:geo:-93.2854596,44.9649915
END:VEVENT
BEGIN:VEVENT
DTSTART;TZID=America/Chicago:20230627T183000
DTEND;TZID=America/Chicago:20230627T200000
DTSTAMP:20260420T155241
CREATED:20230504T185646Z
LAST-MODIFIED:20230609T193553Z
UID:65275-1687890600-1687896000@www.minneapolisparks.org
SUMMARY:Preston Gunderson
DESCRIPTION:Singer-songwriter/ Pop
URL:https://www.minneapolisparks.org/event-calendar/preston-gunderson-2/
LOCATION:Bryant Square Park\, 3101 Bryant Ave S\, Minneapolis\, MN\, 55408\, United States
CATEGORIES:Music & Movies in the Parks,Music in the Parks
GEO:44.9461045;-93.2903539
X-APPLE-STRUCTURED-LOCATION;VALUE=URI;X-ADDRESS=Bryant Square Park 3101 Bryant Ave S Minneapolis MN 55408 United States;X-APPLE-RADIUS=500;X-TITLE=3101 Bryant Ave S:geo:-93.2903539,44.9461045
END:VEVENT
END:VCALENDAR