BEGIN:VCALENDAR
VERSION:2.0
PRODID:-//Minneapolis Park &amp; Recreation Board - ECPv6.15.20//NONSGML v1.0//EN
CALSCALE:GREGORIAN
METHOD:PUBLISH
X-WR-CALNAME:Minneapolis Park &amp; Recreation Board
X-ORIGINAL-URL:https://www.minneapolisparks.org
X-WR-CALDESC:Events for Minneapolis Park &amp; Recreation Board
REFRESH-INTERVAL;VALUE=DURATION:PT1H
X-Robots-Tag:noindex
X-PUBLISHED-TTL:PT1H
BEGIN:VTIMEZONE
TZID:America/Chicago
BEGIN:DAYLIGHT
TZOFFSETFROM:-0600
TZOFFSETTO:-0500
TZNAME:CDT
DTSTART:20220313T080000
END:DAYLIGHT
BEGIN:STANDARD
TZOFFSETFROM:-0500
TZOFFSETTO:-0600
TZNAME:CST
DTSTART:20221106T070000
END:STANDARD
BEGIN:DAYLIGHT
TZOFFSETFROM:-0600
TZOFFSETTO:-0500
TZNAME:CDT
DTSTART:20230312T080000
END:DAYLIGHT
BEGIN:STANDARD
TZOFFSETFROM:-0500
TZOFFSETTO:-0600
TZNAME:CST
DTSTART:20231105T070000
END:STANDARD
BEGIN:DAYLIGHT
TZOFFSETFROM:-0600
TZOFFSETTO:-0500
TZNAME:CDT
DTSTART:20240310T080000
END:DAYLIGHT
BEGIN:STANDARD
TZOFFSETFROM:-0500
TZOFFSETTO:-0600
TZNAME:CST
DTSTART:20241103T070000
END:STANDARD
END:VTIMEZONE
BEGIN:VEVENT
DTSTART;TZID=America/Chicago:20230606T120000
DTEND;TZID=America/Chicago:20230606T120000
DTSTAMP:20260420T141132
CREATED:20230420T191031Z
LAST-MODIFIED:20230420T191031Z
UID:64859-1686052800-1686052800@www.minneapolisparks.org
SUMMARY:Tjärnblom
DESCRIPTION:Scandinavian Tunes with Minnesota Twist
URL:https://www.minneapolisparks.org/event-calendar/tjarnblom-4/
LOCATION:Loring Park\, Loring Park\, Minneapolis\, MN\, 55403\, United States
CATEGORIES:Events- All,Events- MPRB,Music & Movies in the Parks,Music in the Parks
GEO:44.9649915;-93.2854596
X-APPLE-STRUCTURED-LOCATION;VALUE=URI;X-ADDRESS=Loring Park Loring Park Minneapolis MN 55403 United States;X-APPLE-RADIUS=500;X-TITLE=Loring Park:geo:-93.2854596,44.9649915
END:VEVENT
BEGIN:VEVENT
DTSTART;TZID=America/Chicago:20230606T204500
DTEND;TZID=America/Chicago:20230606T204500
DTSTAMP:20260420T141132
CREATED:20230517T180028Z
LAST-MODIFIED:20230517T180028Z
UID:65756-1686084300-1686084300@www.minneapolisparks.org
SUMMARY:Turning Red
DESCRIPTION:PG-13
URL:https://www.minneapolisparks.org/event-calendar/turning-red/
LOCATION:Audubon Park\, 1320 29th Ave NE\, Minneapolis\, MN\, 55418\, United States
CATEGORIES:Events- All,Events- MPRB,Movies in the Parks,Music & Movies in the Parks
GEO:45.0200505;-93.2397463
X-APPLE-STRUCTURED-LOCATION;VALUE=URI;X-ADDRESS=Audubon Park 1320 29th Ave NE Minneapolis MN 55418 United States;X-APPLE-RADIUS=500;X-TITLE=1320 29th Ave NE:geo:-93.2397463,45.0200505
END:VEVENT
BEGIN:VEVENT
DTSTART;TZID=America/Chicago:20230607T120000
DTEND;TZID=America/Chicago:20230607T120000
DTSTAMP:20260420T141132
CREATED:20230420T194917Z
LAST-MODIFIED:20230420T194917Z
UID:64933-1686139200-1686139200@www.minneapolisparks.org
SUMMARY:Freda
DESCRIPTION:Enjoy life through music!
URL:https://www.minneapolisparks.org/event-calendar/freda-3/
LOCATION:The Commons\, 425 Portland Ave South\, Minneapolis\, MN\, 55488\, United States
CATEGORIES:Events- All,Events- MPRB,Music & Movies in the Parks,Music in the Parks
GEO:44.9766971;-93.2628904
X-APPLE-STRUCTURED-LOCATION;VALUE=URI;X-ADDRESS=The Commons 425 Portland Ave South Minneapolis MN 55488 United States;X-APPLE-RADIUS=500;X-TITLE=425 Portland Ave South:geo:-93.2628904,44.9766971
END:VEVENT
BEGIN:VEVENT
DTSTART;TZID=America/Chicago:20230607T210000
DTEND;TZID=America/Chicago:20230607T210000
DTSTAMP:20260420T141132
CREATED:20230420T193247Z
LAST-MODIFIED:20230420T193247Z
UID:64903-1686171600-1686171600@www.minneapolisparks.org
SUMMARY:The Lost City
DESCRIPTION:PG-13. Movies start 15 minutes after sunset.
URL:https://www.minneapolisparks.org/event-calendar/the-lost-city/
LOCATION:The Commons\, 425 Portland Ave South\, Minneapolis\, MN\, 55488\, United States
CATEGORIES:Events- All,Events- MPRB,Movies in the Parks,Music & Movies in the Parks
GEO:44.9766971;-93.2628904
X-APPLE-STRUCTURED-LOCATION;VALUE=URI;X-ADDRESS=The Commons 425 Portland Ave South Minneapolis MN 55488 United States;X-APPLE-RADIUS=500;X-TITLE=425 Portland Ave South:geo:-93.2628904,44.9766971
END:VEVENT
BEGIN:VEVENT
DTSTART;TZID=America/Chicago:20230608T190000
DTEND;TZID=America/Chicago:20230608T190000
DTSTAMP:20260420T141132
CREATED:20230420T194957Z
LAST-MODIFIED:20230420T194957Z
UID:64935-1686250800-1686250800@www.minneapolisparks.org
SUMMARY:Preston Gunderson
DESCRIPTION:Dynamic\, Expressive\, Connective\, Heartfelt
URL:https://www.minneapolisparks.org/event-calendar/preston-gunderson/
LOCATION:The Commons\, 425 Portland Ave South\, Minneapolis\, MN\, 55488\, United States
CATEGORIES:Events- All,Events- MPRB,Music & Movies in the Parks,Music in the Parks
GEO:44.9766971;-93.2628904
X-APPLE-STRUCTURED-LOCATION;VALUE=URI;X-ADDRESS=The Commons 425 Portland Ave South Minneapolis MN 55488 United States;X-APPLE-RADIUS=500;X-TITLE=425 Portland Ave South:geo:-93.2628904,44.9766971
END:VEVENT
BEGIN:VEVENT
DTSTART;TZID=America/Chicago:20230608T190000
DTEND;TZID=America/Chicago:20230608T190000
DTSTAMP:20260420T141132
CREATED:20230504T190510Z
LAST-MODIFIED:20230504T190510Z
UID:65295-1686250800-1686250800@www.minneapolisparks.org
SUMMARY:Six Still Standing
DESCRIPTION:Joyful Rock -1964-2023
URL:https://www.minneapolisparks.org/event-calendar/six-still-standing-4/
LOCATION:Minnehaha Bandstand\, Minneapolis\, MN\, United States
CATEGORIES:Events- All,Events- MPRB,Music & Movies in the Parks,Music in the Parks
GEO:44.9161006;-93.2109865
END:VEVENT
BEGIN:VEVENT
DTSTART;TZID=America/Chicago:20230608T204500
DTEND;TZID=America/Chicago:20230608T204500
DTSTAMP:20260420T141132
CREATED:20230517T180439Z
LAST-MODIFIED:20230517T180439Z
UID:65758-1686257100-1686257100@www.minneapolisparks.org
SUMMARY:The Bad Guys
DESCRIPTION:PG
URL:https://www.minneapolisparks.org/event-calendar/the-bad-guys-2/
LOCATION:Victory Memorial Drive\, Victory Memorial Drive\, Minneapolis\, MN\, United States
CATEGORIES:Events- All,Events- MPRB,Movies in the Parks,Music & Movies in the Parks
GEO:45.0311986;-93.3193329
X-APPLE-STRUCTURED-LOCATION;VALUE=URI;X-ADDRESS=Victory Memorial Drive Victory Memorial Drive Minneapolis MN United States;X-APPLE-RADIUS=500;X-TITLE=Victory Memorial Drive:geo:-93.3193329,45.0311986
END:VEVENT
BEGIN:VEVENT
DTSTART;TZID=America/Chicago:20230609T120000
DTEND;TZID=America/Chicago:20230609T120000
DTSTAMP:20260420T141132
CREATED:20230424T155405Z
LAST-MODIFIED:20230424T155405Z
UID:65008-1686312000-1686312000@www.minneapolisparks.org
SUMMARY:Beyond The Trees
DESCRIPTION:fun\, quirky\, entertaining acoustic duo
URL:https://www.minneapolisparks.org/event-calendar/beyond-the-trees/
LOCATION:Water Works at Mill Ruins Park\, 425 West River Parkway\, Minneapolis\, MN\, 55401\, United States
CATEGORIES:Events- All,Events- MPRB,Music & Movies in the Parks,Music in the Parks
GEO:44.9811921;-93.2620982
X-APPLE-STRUCTURED-LOCATION;VALUE=URI;X-ADDRESS=Water Works at Mill Ruins Park 425 West River Parkway Minneapolis MN 55401 United States;X-APPLE-RADIUS=500;X-TITLE=425 West River Parkway:geo:-93.2620982,44.9811921
END:VEVENT
BEGIN:VEVENT
DTSTART;TZID=America/Chicago:20230609T190000
DTEND;TZID=America/Chicago:20230609T190000
DTSTAMP:20260420T141132
CREATED:20230420T191130Z
LAST-MODIFIED:20230609T181115Z
UID:64861-1686337200-1686337200@www.minneapolisparks.org
SUMMARY:Pullstring
DESCRIPTION:MN alternative/indie rock band
URL:https://www.minneapolisparks.org/event-calendar/pullstring/
LOCATION:Loring Park\, Loring Park\, Minneapolis\, MN\, 55403\, United States
CATEGORIES:Music & Movies in the Parks,Music in the Parks
GEO:44.9649915;-93.2854596
X-APPLE-STRUCTURED-LOCATION;VALUE=URI;X-ADDRESS=Loring Park Loring Park Minneapolis MN 55403 United States;X-APPLE-RADIUS=500;X-TITLE=Loring Park:geo:-93.2854596,44.9649915
END:VEVENT
BEGIN:VEVENT
DTSTART;TZID=America/Chicago:20230609T190000
DTEND;TZID=America/Chicago:20230609T190000
DTSTAMP:20260420T141132
CREATED:20230504T190553Z
LAST-MODIFIED:20230609T181742Z
UID:65297-1686337200-1686337200@www.minneapolisparks.org
SUMMARY:Tyler Haag
DESCRIPTION:Alt-country singer/songwriter from Minneapolis
URL:https://www.minneapolisparks.org/event-calendar/tyler-haag/
LOCATION:Minnehaha Bandstand\, Minneapolis\, MN\, United States
CATEGORIES:Music & Movies in the Parks,Music in the Parks
GEO:44.9161006;-93.2109865
END:VEVENT
BEGIN:VEVENT
DTSTART;TZID=America/Chicago:20230609T193000
DTEND;TZID=America/Chicago:20230609T193000
DTSTAMP:20260420T141132
CREATED:20230510T162103Z
LAST-MODIFIED:20230609T181847Z
UID:65497-1686339000-1686339000@www.minneapolisparks.org
SUMMARY:Emerson Avenue Band
DESCRIPTION:High energy Horn Dance Band
URL:https://www.minneapolisparks.org/event-calendar/emerson-avenue-band-3/
LOCATION:Lake Harriet Bandshell\, Minneapolis\, MN\, United States
CATEGORIES:Music & Movies in the Parks,Music in the Parks
GEO:44.927901;-93.3082473
END:VEVENT
BEGIN:VEVENT
DTSTART;TZID=America/Chicago:20230609T204500
DTEND;TZID=America/Chicago:20230609T204500
DTSTAMP:20260420T141132
CREATED:20230517T180533Z
LAST-MODIFIED:20230609T181954Z
UID:65760-1686343500-1686343500@www.minneapolisparks.org
SUMMARY:The Mighty Ducks
DESCRIPTION:PG
URL:https://www.minneapolisparks.org/event-calendar/the-mighty-ducks-3/
LOCATION:Armatage Park\, 2500 W 57th St\, Minneapolis\, MN\, 55410\, United States
CATEGORIES:Movies in the Parks,Music & Movies in the Parks
GEO:44.9007399;-93.3112736
X-APPLE-STRUCTURED-LOCATION;VALUE=URI;X-ADDRESS=Armatage Park 2500 W 57th St Minneapolis MN 55410 United States;X-APPLE-RADIUS=500;X-TITLE=2500 W 57th St:geo:-93.3112736,44.9007399
END:VEVENT
BEGIN:VEVENT
DTSTART;TZID=America/Chicago:20230610T204500
DTEND;TZID=America/Chicago:20230610T204500
DTSTAMP:20260420T141132
CREATED:20230517T180621Z
LAST-MODIFIED:20230609T182037Z
UID:65762-1686429900-1686429900@www.minneapolisparks.org
SUMMARY:Puss and Boots: The Last Wish
DESCRIPTION:PG. Audio & Subtitles: Eng/Span
URL:https://www.minneapolisparks.org/event-calendar/puss-and-boots-the-last-wish/
LOCATION:Bossen Field Park\, 5701 S 28th Ave\, Minneapolis\, MN\, 55417\, United States
CATEGORIES:Movies in the Parks,Music & Movies in the Parks
GEO:44.9000248;-93.2320042
X-APPLE-STRUCTURED-LOCATION;VALUE=URI;X-ADDRESS=Bossen Field Park 5701 S 28th Ave Minneapolis MN 55417 United States;X-APPLE-RADIUS=500;X-TITLE=5701 S 28th Ave:geo:-93.2320042,44.9000248
END:VEVENT
BEGIN:VEVENT
DTSTART;TZID=America/Chicago:20230611T140000
DTEND;TZID=America/Chicago:20230611T140000
DTSTAMP:20260420T141132
CREATED:20230510T162219Z
LAST-MODIFIED:20230609T182128Z
UID:65499-1686492000-1686492000@www.minneapolisparks.org
SUMMARY:The Fairlanes
DESCRIPTION:A cappella doo-wop vocal quartet
URL:https://www.minneapolisparks.org/event-calendar/the-fairlanes-3/
LOCATION:Lake Harriet Bandshell\, Minneapolis\, MN\, United States
CATEGORIES:Music & Movies in the Parks,Music in the Parks
GEO:44.927901;-93.3082473
END:VEVENT
BEGIN:VEVENT
DTSTART;TZID=America/Chicago:20230611T173000
DTEND;TZID=America/Chicago:20230611T173000
DTSTAMP:20260420T141132
CREATED:20230510T162300Z
LAST-MODIFIED:20230609T182211Z
UID:65501-1686504600-1686504600@www.minneapolisparks.org
SUMMARY:Irish Diplomacy
DESCRIPTION:Foot stomping Irish music
URL:https://www.minneapolisparks.org/event-calendar/irish-diplomacy/
LOCATION:Lake Harriet Bandshell\, Minneapolis\, MN\, United States
CATEGORIES:Music & Movies in the Parks,Music in the Parks
GEO:44.927901;-93.3082473
END:VEVENT
BEGIN:VEVENT
DTSTART;TZID=America/Chicago:20230612T190000
DTEND;TZID=America/Chicago:20230612T190000
DTSTAMP:20260420T141132
CREATED:20230424T155501Z
LAST-MODIFIED:20230609T182250Z
UID:65010-1686596400-1686596400@www.minneapolisparks.org
SUMMARY:Jim Pellinger
DESCRIPTION:Indie pop/rock singer-songwriter
URL:https://www.minneapolisparks.org/event-calendar/jim-pellinger-3/
LOCATION:Water Works at Mill Ruins Park\, 425 West River Parkway\, Minneapolis\, MN\, 55401\, United States
CATEGORIES:Music & Movies in the Parks,Music in the Parks
GEO:44.9811921;-93.2620982
X-APPLE-STRUCTURED-LOCATION;VALUE=URI;X-ADDRESS=Water Works at Mill Ruins Park 425 West River Parkway Minneapolis MN 55401 United States;X-APPLE-RADIUS=500;X-TITLE=425 West River Parkway:geo:-93.2620982,44.9811921
END:VEVENT
BEGIN:VEVENT
DTSTART;TZID=America/Chicago:20230612T193000
DTEND;TZID=America/Chicago:20230612T193000
DTSTAMP:20260420T141132
CREATED:20230510T162349Z
LAST-MODIFIED:20230609T182342Z
UID:65503-1686598200-1686598200@www.minneapolisparks.org
SUMMARY:Root River Jam
DESCRIPTION:Rhythm & Blues (R&B)
URL:https://www.minneapolisparks.org/event-calendar/root-river-jam-4/
LOCATION:Lake Harriet Bandshell\, Minneapolis\, MN\, United States
CATEGORIES:Music & Movies in the Parks,Music in the Parks
GEO:44.927901;-93.3082473
END:VEVENT
BEGIN:VEVENT
DTSTART;TZID=America/Chicago:20230612T210000
DTEND;TZID=America/Chicago:20230612T210000
DTSTAMP:20260420T141132
CREATED:20230517T180706Z
LAST-MODIFIED:20230609T182424Z
UID:65764-1686603600-1686603600@www.minneapolisparks.org
SUMMARY:DC League of Super-Pets
DESCRIPTION:PG
URL:https://www.minneapolisparks.org/event-calendar/dc-league-of-super-pets/
LOCATION:Webber Park\, 4300 Webber Parkway\, Minneapolis\, MN\, 55412\, United States
CATEGORIES:Movies in the Parks,Music & Movies in the Parks
GEO:45.034522;-93.291918
X-APPLE-STRUCTURED-LOCATION;VALUE=URI;X-ADDRESS=Webber Park 4300 Webber Parkway Minneapolis MN 55412 United States;X-APPLE-RADIUS=500;X-TITLE=4300 Webber Parkway:geo:-93.291918,45.034522
END:VEVENT
BEGIN:VEVENT
DTSTART;TZID=America/Chicago:20230613T120000
DTEND;TZID=America/Chicago:20230613T120000
DTSTAMP:20260420T141132
CREATED:20230420T191247Z
LAST-MODIFIED:20230609T182745Z
UID:64863-1686657600-1686657600@www.minneapolisparks.org
SUMMARY:Jim Emery
DESCRIPTION:Old songs and new songs
URL:https://www.minneapolisparks.org/event-calendar/jim-emery/
LOCATION:Loring Park\, Loring Park\, Minneapolis\, MN\, 55403\, United States
CATEGORIES:Music & Movies in the Parks,Music in the Parks
GEO:44.9649915;-93.2854596
X-APPLE-STRUCTURED-LOCATION;VALUE=URI;X-ADDRESS=Loring Park Loring Park Minneapolis MN 55403 United States;X-APPLE-RADIUS=500;X-TITLE=Loring Park:geo:-93.2854596,44.9649915
END:VEVENT
BEGIN:VEVENT
DTSTART;TZID=America/Chicago:20230613T183000
DTEND;TZID=America/Chicago:20230613T200000
DTSTAMP:20260420T141132
CREATED:20230504T185402Z
LAST-MODIFIED:20230609T182849Z
UID:65269-1686681000-1686686400@www.minneapolisparks.org
SUMMARY:Spaghetti Monetti & The Sauce
DESCRIPTION:Americana Jam Groove That Wiggles Like Jello
URL:https://www.minneapolisparks.org/event-calendar/spaghetti-monetti-the-sauce-3/
LOCATION:Bryant Square Park\, 3101 Bryant Ave S\, Minneapolis\, MN\, 55408\, United States
CATEGORIES:Music & Movies in the Parks,Music in the Parks
GEO:44.9461045;-93.2903539
X-APPLE-STRUCTURED-LOCATION;VALUE=URI;X-ADDRESS=Bryant Square Park 3101 Bryant Ave S Minneapolis MN 55408 United States;X-APPLE-RADIUS=500;X-TITLE=3101 Bryant Ave S:geo:-93.2903539,44.9461045
END:VEVENT
BEGIN:VEVENT
DTSTART;TZID=America/Chicago:20230613T210000
DTEND;TZID=America/Chicago:20230613T210000
DTSTAMP:20260420T141132
CREATED:20230517T180743Z
LAST-MODIFIED:20230609T182943Z
UID:65766-1686690000-1686690000@www.minneapolisparks.org
SUMMARY:Shazam: Fury of the Gods
DESCRIPTION:PG
URL:https://www.minneapolisparks.org/event-calendar/shazam-fury-of-the-gods/
LOCATION:Jackson Square Park\, 2212 Jackson St NE\, Minneapolis\, MN\, 55418\, United States
CATEGORIES:Movies in the Parks,Music & Movies in the Parks
GEO:45.0101746;-93.2493952
X-APPLE-STRUCTURED-LOCATION;VALUE=URI;X-ADDRESS=Jackson Square Park 2212 Jackson St NE Minneapolis MN 55418 United States;X-APPLE-RADIUS=500;X-TITLE=2212 Jackson St NE:geo:-93.2493952,45.0101746
END:VEVENT
BEGIN:VEVENT
DTSTART;TZID=America/Chicago:20230614T120000
DTEND;TZID=America/Chicago:20230614T120000
DTSTAMP:20260420T141132
CREATED:20230420T195040Z
LAST-MODIFIED:20230609T183019Z
UID:64937-1686744000-1686744000@www.minneapolisparks.org
SUMMARY:RayCabaet
DESCRIPTION:International Music
URL:https://www.minneapolisparks.org/event-calendar/raycabaet-2/
LOCATION:The Commons\, 425 Portland Ave South\, Minneapolis\, MN\, 55488\, United States
CATEGORIES:Music & Movies in the Parks,Music in the Parks
GEO:44.9766971;-93.2628904
X-APPLE-STRUCTURED-LOCATION;VALUE=URI;X-ADDRESS=The Commons 425 Portland Ave South Minneapolis MN 55488 United States;X-APPLE-RADIUS=500;X-TITLE=425 Portland Ave South:geo:-93.2628904,44.9766971
END:VEVENT
BEGIN:VEVENT
DTSTART;TZID=America/Chicago:20230614T193000
DTEND;TZID=America/Chicago:20230614T193000
DTSTAMP:20260420T141132
CREATED:20230510T162423Z
LAST-MODIFIED:20230609T183148Z
UID:65504-1686771000-1686771000@www.minneapolisparks.org
SUMMARY:Star of the North Concert Band
DESCRIPTION:Americana Roots
URL:https://www.minneapolisparks.org/event-calendar/star-of-the-north-concert-band-2/
LOCATION:Lake Harriet Bandshell\, Minneapolis\, MN\, United States
CATEGORIES:Music & Movies in the Parks,Music in the Parks
GEO:44.927901;-93.3082473
END:VEVENT
BEGIN:VEVENT
DTSTART;TZID=America/Chicago:20230614T210000
DTEND;TZID=America/Chicago:20230614T210000
DTSTAMP:20260420T141132
CREATED:20230420T193349Z
LAST-MODIFIED:20230609T183228Z
UID:64905-1686776400-1686776400@www.minneapolisparks.org
SUMMARY:Fantastic Mr. Fox
DESCRIPTION:PG. Movies start 15 minutes after sunset.
URL:https://www.minneapolisparks.org/event-calendar/fantastic-mr-fox/
LOCATION:The Commons\, 425 Portland Ave South\, Minneapolis\, MN\, 55488\, United States
CATEGORIES:Movies in the Parks,Music & Movies in the Parks
GEO:44.9766971;-93.2628904
X-APPLE-STRUCTURED-LOCATION;VALUE=URI;X-ADDRESS=The Commons 425 Portland Ave South Minneapolis MN 55488 United States;X-APPLE-RADIUS=500;X-TITLE=425 Portland Ave South:geo:-93.2628904,44.9766971
END:VEVENT
BEGIN:VEVENT
DTSTART;TZID=America/Chicago:20230615T183000
DTEND;TZID=America/Chicago:20230615T200000
DTSTAMP:20260420T141132
CREATED:20230504T185513Z
LAST-MODIFIED:20230609T183321Z
UID:65271-1686853800-1686859200@www.minneapolisparks.org
SUMMARY:Matt Jennings Electric Trio
DESCRIPTION:International Music Jazz
URL:https://www.minneapolisparks.org/event-calendar/matt-jennings-electric-trio-3/
LOCATION:Bryant Square Park\, 3101 Bryant Ave S\, Minneapolis\, MN\, 55408\, United States
CATEGORIES:Music & Movies in the Parks,Music in the Parks
GEO:44.9461045;-93.2903539
X-APPLE-STRUCTURED-LOCATION;VALUE=URI;X-ADDRESS=Bryant Square Park 3101 Bryant Ave S Minneapolis MN 55408 United States;X-APPLE-RADIUS=500;X-TITLE=3101 Bryant Ave S:geo:-93.2903539,44.9461045
END:VEVENT
BEGIN:VEVENT
DTSTART;TZID=America/Chicago:20230615T190000
DTEND;TZID=America/Chicago:20230615T190000
DTSTAMP:20260420T141132
CREATED:20230420T195124Z
LAST-MODIFIED:20230609T183415Z
UID:64939-1686855600-1686855600@www.minneapolisparks.org
SUMMARY:Samuel Joson
DESCRIPTION:We are the Joson ones
URL:https://www.minneapolisparks.org/event-calendar/samuel-joson/
LOCATION:The Commons\, 425 Portland Ave South\, Minneapolis\, MN\, 55488\, United States
CATEGORIES:Music & Movies in the Parks,Music in the Parks
GEO:44.9766971;-93.2628904
X-APPLE-STRUCTURED-LOCATION;VALUE=URI;X-ADDRESS=The Commons 425 Portland Ave South Minneapolis MN 55488 United States;X-APPLE-RADIUS=500;X-TITLE=425 Portland Ave South:geo:-93.2628904,44.9766971
END:VEVENT
BEGIN:VEVENT
DTSTART;TZID=America/Chicago:20230615T190000
DTEND;TZID=America/Chicago:20230615T190000
DTSTAMP:20260420T141132
CREATED:20230504T190659Z
LAST-MODIFIED:20230609T183618Z
UID:65299-1686855600-1686855600@www.minneapolisparks.org
SUMMARY:Tim Casey & the Martyrs
DESCRIPTION:Guitar Bass Drums Organ R&R
URL:https://www.minneapolisparks.org/event-calendar/tim-casey-the-martyrs-4/
LOCATION:Minnehaha Bandstand\, Minneapolis\, MN\, United States
CATEGORIES:Music & Movies in the Parks,Music in the Parks
GEO:44.9161006;-93.2109865
END:VEVENT
BEGIN:VEVENT
DTSTART;TZID=America/Chicago:20230615T210000
DTEND;TZID=America/Chicago:20230615T210000
DTSTAMP:20260420T141132
CREATED:20230517T180832Z
LAST-MODIFIED:20230609T183705Z
UID:65768-1686862800-1686862800@www.minneapolisparks.org
SUMMARY:A League of Their Own
DESCRIPTION:PG-13
URL:https://www.minneapolisparks.org/event-calendar/a-league-of-their-own/
LOCATION:Keewaydin Park\, 3030 E 53rd St\, Minneapolis\, MN\, 55417\, United States
CATEGORIES:Movies in the Parks,Music & Movies in the Parks
GEO:44.9074817;-93.22849
X-APPLE-STRUCTURED-LOCATION;VALUE=URI;X-ADDRESS=Keewaydin Park 3030 E 53rd St Minneapolis MN 55417 United States;X-APPLE-RADIUS=500;X-TITLE=3030 E 53rd St:geo:-93.22849,44.9074817
END:VEVENT
BEGIN:VEVENT
DTSTART;TZID=America/Chicago:20230616T120000
DTEND;TZID=America/Chicago:20230616T120000
DTSTAMP:20260420T141132
CREATED:20230424T155631Z
LAST-MODIFIED:20230612T210106Z
UID:65012-1686916800-1686916800@www.minneapolisparks.org
SUMMARY:The Gated Community
DESCRIPTION:Americana band for the 99%.
URL:https://www.minneapolisparks.org/event-calendar/the-gated-community-2/
LOCATION:The Commons\, 425 Portland Ave South\, Minneapolis\, MN\, 55488\, United States
CATEGORIES:Music & Movies in the Parks,Music in the Parks
GEO:44.9766971;-93.2628904
X-APPLE-STRUCTURED-LOCATION;VALUE=URI;X-ADDRESS=The Commons 425 Portland Ave South Minneapolis MN 55488 United States;X-APPLE-RADIUS=500;X-TITLE=425 Portland Ave South:geo:-93.2628904,44.9766971
END:VEVENT
BEGIN:VEVENT
DTSTART;TZID=America/Chicago:20230616T190000
DTEND;TZID=America/Chicago:20230616T190000
DTSTAMP:20260420T141132
CREATED:20230420T191333Z
LAST-MODIFIED:20230609T183922Z
UID:64865-1686942000-1686942000@www.minneapolisparks.org
SUMMARY:Other Country Ensemble
DESCRIPTION:Mediterranean World Fusion
URL:https://www.minneapolisparks.org/event-calendar/other-country-ensemble-3/
LOCATION:Loring Park\, Loring Park\, Minneapolis\, MN\, 55403\, United States
CATEGORIES:Music & Movies in the Parks,Music in the Parks
GEO:44.9649915;-93.2854596
X-APPLE-STRUCTURED-LOCATION;VALUE=URI;X-ADDRESS=Loring Park Loring Park Minneapolis MN 55403 United States;X-APPLE-RADIUS=500;X-TITLE=Loring Park:geo:-93.2854596,44.9649915
END:VEVENT
END:VCALENDAR