BEGIN:VCALENDAR
VERSION:2.0
PRODID:-//Minneapolis Park &amp; Recreation Board - ECPv6.15.20//NONSGML v1.0//EN
CALSCALE:GREGORIAN
METHOD:PUBLISH
X-ORIGINAL-URL:https://www.minneapolisparks.org
X-WR-CALDESC:Events for Minneapolis Park &amp; Recreation Board
REFRESH-INTERVAL;VALUE=DURATION:PT1H
X-Robots-Tag:noindex
X-PUBLISHED-TTL:PT1H
BEGIN:VTIMEZONE
TZID:America/Chicago
BEGIN:DAYLIGHT
TZOFFSETFROM:-0600
TZOFFSETTO:-0500
TZNAME:CDT
DTSTART:20230312T080000
END:DAYLIGHT
BEGIN:STANDARD
TZOFFSETFROM:-0500
TZOFFSETTO:-0600
TZNAME:CST
DTSTART:20231105T070000
END:STANDARD
BEGIN:DAYLIGHT
TZOFFSETFROM:-0600
TZOFFSETTO:-0500
TZNAME:CDT
DTSTART:20240310T080000
END:DAYLIGHT
BEGIN:STANDARD
TZOFFSETFROM:-0500
TZOFFSETTO:-0600
TZNAME:CST
DTSTART:20241103T070000
END:STANDARD
BEGIN:DAYLIGHT
TZOFFSETFROM:-0600
TZOFFSETTO:-0500
TZNAME:CDT
DTSTART:20250309T080000
END:DAYLIGHT
BEGIN:STANDARD
TZOFFSETFROM:-0500
TZOFFSETTO:-0600
TZNAME:CST
DTSTART:20251102T070000
END:STANDARD
END:VTIMEZONE
BEGIN:VEVENT
DTSTART;TZID=America/Chicago:20240719T193000
DTEND;TZID=America/Chicago:20240719T193000
DTSTAMP:20260420T191608
CREATED:20240523T154501Z
LAST-MODIFIED:20240523T154501Z
UID:74243-1721417400-1721417400@www.minneapolisparks.org
SUMMARY:Dark Light Oblivion
DESCRIPTION:Minneapolis based original rock band
URL:https://www.minneapolisparks.org/event-calendar/dark-light-oblivion-3/
LOCATION:Lake Harriet Bandshell\, Minneapolis\, MN\, United States
CATEGORIES:Music & Movies in the Parks,Music in the Parks
GEO:44.927901;-93.3082473
END:VEVENT
BEGIN:VEVENT
DTSTART;TZID=America/Chicago:20240719T205000
DTEND;TZID=America/Chicago:20240719T205000
DTSTAMP:20260420T191608
CREATED:20240523T181427Z
LAST-MODIFIED:20240523T181427Z
UID:74354-1721422200-1721422200@www.minneapolisparks.org
SUMMARY:Fast X
DESCRIPTION:PG-13
URL:https://www.minneapolisparks.org/event-calendar/fast-x/
LOCATION:North Commons Park\, 1801 James Ave N\, Minneapolis\, MN\, 55411\, United States
CATEGORIES:Movies in the Parks,Music & Movies in the Parks
GEO:44.9972515;-93.3011657
X-APPLE-STRUCTURED-LOCATION;VALUE=URI;X-ADDRESS=North Commons Park 1801 James Ave N Minneapolis MN 55411 United States;X-APPLE-RADIUS=500;X-TITLE=1801 James Ave N:geo:-93.3011657,44.9972515
END:VEVENT
BEGIN:VEVENT
DTSTART;TZID=America/Chicago:20240720T193000
DTEND;TZID=America/Chicago:20240720T193000
DTSTAMP:20260420T191608
CREATED:20240523T154629Z
LAST-MODIFIED:20240719T212814Z
UID:74245-1721503800-1721503800@www.minneapolisparks.org
SUMMARY:John Magnuson Trio
DESCRIPTION:Americana
URL:https://www.minneapolisparks.org/event-calendar/john-magnuson-trio/
LOCATION:Lake Harriet Bandshell\, Minneapolis\, MN\, United States
CATEGORIES:Music & Movies in the Parks,Music in the Parks
GEO:44.927901;-93.3082473
END:VEVENT
BEGIN:VEVENT
DTSTART;TZID=America/Chicago:20240720T205000
DTEND;TZID=America/Chicago:20240720T205000
DTSTAMP:20260420T191608
CREATED:20240523T181556Z
LAST-MODIFIED:20240523T181556Z
UID:74356-1721508600-1721508600@www.minneapolisparks.org
SUMMARY:Clue
DESCRIPTION:PG
URL:https://www.minneapolisparks.org/event-calendar/clue/
LOCATION:Lake Harriet\, Minneapolis\, MN\, United States
CATEGORIES:Movies in the Parks,Music & Movies in the Parks
GEO:44.927901;-93.3082473
END:VEVENT
BEGIN:VEVENT
DTSTART;TZID=America/Chicago:20240721T140000
DTEND;TZID=America/Chicago:20240721T140000
DTSTAMP:20260420T191608
CREATED:20240523T154752Z
LAST-MODIFIED:20240523T154752Z
UID:74247-1721570400-1721570400@www.minneapolisparks.org
SUMMARY:Bavarian Musikmeisters
DESCRIPTION:Authentic German music
URL:https://www.minneapolisparks.org/event-calendar/bavarian-musikmeisters/
LOCATION:Lake Harriet Bandshell\, Minneapolis\, MN\, United States
CATEGORIES:Music & Movies in the Parks,Music in the Parks
GEO:44.927901;-93.3082473
END:VEVENT
BEGIN:VEVENT
DTSTART;TZID=America/Chicago:20240721T173000
DTEND;TZID=America/Chicago:20240721T173000
DTSTAMP:20260420T191608
CREATED:20240523T154856Z
LAST-MODIFIED:20240719T212650Z
UID:74249-1721583000-1721583000@www.minneapolisparks.org
SUMMARY:Cabin Fever
DESCRIPTION:80’s & 90’s acoustic pop/rock
URL:https://www.minneapolisparks.org/event-calendar/cabin-fever-3/
LOCATION:Lake Harriet Bandshell\, Minneapolis\, MN\, United States
CATEGORIES:Music & Movies in the Parks,Music in the Parks
GEO:44.927901;-93.3082473
END:VEVENT
BEGIN:VEVENT
DTSTART;TZID=America/Chicago:20240722T190000
DTEND;TZID=America/Chicago:20240722T190000
DTSTAMP:20260420T191608
CREATED:20240522T211902Z
LAST-MODIFIED:20240522T211902Z
UID:74138-1721674800-1721674800@www.minneapolisparks.org
SUMMARY:Barb Ryman
DESCRIPTION:Award winning singer-songwriter returns
URL:https://www.minneapolisparks.org/event-calendar/barb-ryman/
LOCATION:Water Works at Mill Ruins Park\, 425 West River Parkway\, Minneapolis\, MN\, 55401\, United States
CATEGORIES:Music & Movies in the Parks,Music in the Parks
GEO:44.9811921;-93.2620982
X-APPLE-STRUCTURED-LOCATION;VALUE=URI;X-ADDRESS=Water Works at Mill Ruins Park 425 West River Parkway Minneapolis MN 55401 United States;X-APPLE-RADIUS=500;X-TITLE=425 West River Parkway:geo:-93.2620982,44.9811921
END:VEVENT
BEGIN:VEVENT
DTSTART;TZID=America/Chicago:20240722T193000
DTEND;TZID=America/Chicago:20240722T193000
DTSTAMP:20260420T191608
CREATED:20240523T155006Z
LAST-MODIFIED:20240523T155006Z
UID:74251-1721676600-1721676600@www.minneapolisparks.org
SUMMARY:Not Quite Dead
DESCRIPTION:Grateful Dead tribute band
URL:https://www.minneapolisparks.org/event-calendar/not-quite-dead-4/
LOCATION:Lake Harriet Bandshell\, Minneapolis\, MN\, United States
CATEGORIES:Music & Movies in the Parks,Music in the Parks
GEO:44.927901;-93.3082473
END:VEVENT
BEGIN:VEVENT
DTSTART;TZID=America/Chicago:20240722T205000
DTEND;TZID=America/Chicago:20240722T205000
DTSTAMP:20260420T191608
CREATED:20240523T181705Z
LAST-MODIFIED:20240523T181705Z
UID:74358-1721681400-1721681400@www.minneapolisparks.org
SUMMARY:Lyle\, Lyle\, Crocodile
DESCRIPTION:PG
URL:https://www.minneapolisparks.org/event-calendar/lyle-lyle-crocodile/
LOCATION:Powderhorn Park\, 3400 15th Ave S\, Minneapolis\, MN\, 554107\, United States
CATEGORIES:Movies in the Parks,Music & Movies in the Parks
GEO:44.9413282;-93.2547875
X-APPLE-STRUCTURED-LOCATION;VALUE=URI;X-ADDRESS=Powderhorn Park 3400 15th Ave S Minneapolis MN 554107 United States;X-APPLE-RADIUS=500;X-TITLE=3400 15th Ave S:geo:-93.2547875,44.9413282
END:VEVENT
BEGIN:VEVENT
DTSTART;TZID=America/Chicago:20240723T183000
DTEND;TZID=America/Chicago:20240723T200000
DTSTAMP:20260420T191608
CREATED:20240522T205921Z
LAST-MODIFIED:20240522T205921Z
UID:74124-1721759400-1721764800@www.minneapolisparks.org
SUMMARY:Spaghetti Monetti & The Sauce
DESCRIPTION:R&B
URL:https://www.minneapolisparks.org/event-calendar/spaghetti-monetti-the-sauce-4/
LOCATION:Bryant Square Park\, 3101 Bryant Ave S\, Minneapolis\, MN\, 55408\, United States
CATEGORIES:Music & Movies in the Parks,Music in the Parks
GEO:44.9461045;-93.2903539
X-APPLE-STRUCTURED-LOCATION;VALUE=URI;X-ADDRESS=Bryant Square Park 3101 Bryant Ave S Minneapolis MN 55408 United States;X-APPLE-RADIUS=500;X-TITLE=3101 Bryant Ave S:geo:-93.2903539,44.9461045
END:VEVENT
BEGIN:VEVENT
DTSTART;TZID=America/Chicago:20240723T190000
DTEND;TZID=America/Chicago:20240723T190000
DTSTAMP:20260420T191608
CREATED:20240522T201432Z
LAST-MODIFIED:20240522T201432Z
UID:74058-1721761200-1721761200@www.minneapolisparks.org
SUMMARY:Old Guys Play the Blues
DESCRIPTION:Crowd-pleasing folk blues
URL:https://www.minneapolisparks.org/event-calendar/old-guys-play-the-blues-4/
LOCATION:Father Hennepin\, Minneapolis\, MN\, United States
CATEGORIES:Music & Movies in the Parks,Music in the Parks
GEO:44.9826582;-93.2513335
END:VEVENT
BEGIN:VEVENT
DTSTART;TZID=America/Chicago:20240723T190000
DTEND;TZID=America/Chicago:20240723T190000
DTSTAMP:20260420T191608
CREATED:20240523T141654Z
LAST-MODIFIED:20240708T195553Z
UID:74167-1721761200-1721761200@www.minneapolisparks.org
SUMMARY:Wynn Rivers
DESCRIPTION:Indie\, Americana\, folk\, songwriter\, and sincere
URL:https://www.minneapolisparks.org/event-calendar/wynn-rivers-2/
LOCATION:Loring Park\, Loring Park\, Minneapolis\, MN\, 55403\, United States
CATEGORIES:Music & Movies in the Parks,Music in the Parks
GEO:44.9649915;-93.2854596
X-APPLE-STRUCTURED-LOCATION;VALUE=URI;X-ADDRESS=Loring Park Loring Park Minneapolis MN 55403 United States;X-APPLE-RADIUS=500;X-TITLE=Loring Park:geo:-93.2854596,44.9649915
END:VEVENT
BEGIN:VEVENT
DTSTART;TZID=America/Chicago:20240723T205000
DTEND;TZID=America/Chicago:20240723T205000
DTSTAMP:20260420T191608
CREATED:20240719T183626Z
LAST-MODIFIED:20240719T183626Z
UID:75887-1721767800-1721767800@www.minneapolisparks.org
SUMMARY:Under the Boardwalk
DESCRIPTION:PG – English audio with Spanish subtitles.
URL:https://www.minneapolisparks.org/event-calendar/under-the-boardwalk-2/
LOCATION:Lake Hiawatha Park\, 2701 E 44th St\, Minneapolis\, MN\, 55406\, United States
CATEGORIES:Movies in the Parks,Music & Movies in the Parks
GEO:44.9231192;-93.2337349
X-APPLE-STRUCTURED-LOCATION;VALUE=URI;X-ADDRESS=Lake Hiawatha Park 2701 E 44th St Minneapolis MN 55406 United States;X-APPLE-RADIUS=500;X-TITLE=2701 E 44th St:geo:-93.2337349,44.9231192
END:VEVENT
BEGIN:VEVENT
DTSTART;TZID=America/Chicago:20240724T120000
DTEND;TZID=America/Chicago:20240724T120000
DTSTAMP:20260420T191608
CREATED:20240523T144021Z
LAST-MODIFIED:20240523T144021Z
UID:74189-1721822400-1721822400@www.minneapolisparks.org
SUMMARY:Cloud So Swift
DESCRIPTION:Acoustic music trio
URL:https://www.minneapolisparks.org/event-calendar/cloud-so-swift/
LOCATION:The Commons\, 425 Portland Ave South\, Minneapolis\, MN\, 55488\, United States
CATEGORIES:Music & Movies in the Parks,Music in the Parks
GEO:44.9766971;-93.2628904
X-APPLE-STRUCTURED-LOCATION;VALUE=URI;X-ADDRESS=The Commons 425 Portland Ave South Minneapolis MN 55488 United States;X-APPLE-RADIUS=500;X-TITLE=425 Portland Ave South:geo:-93.2628904,44.9766971
END:VEVENT
BEGIN:VEVENT
DTSTART;TZID=America/Chicago:20240724T193000
DTEND;TZID=America/Chicago:20240724T193000
DTSTAMP:20260420T191608
CREATED:20240523T155122Z
LAST-MODIFIED:20240523T155122Z
UID:74253-1721849400-1721849400@www.minneapolisparks.org
SUMMARY:The Twins of Franklin
DESCRIPTION:Female fronted folk-rock band
URL:https://www.minneapolisparks.org/event-calendar/the-twins-of-franklin-3/
LOCATION:Lake Harriet Bandshell\, Minneapolis\, MN\, United States
CATEGORIES:Music & Movies in the Parks,Music in the Parks
GEO:44.927901;-93.3082473
END:VEVENT
BEGIN:VEVENT
DTSTART;TZID=America/Chicago:20240724T204500
DTEND;TZID=America/Chicago:20240724T204500
DTSTAMP:20260420T191608
CREATED:20240523T181825Z
LAST-MODIFIED:20240722T123136Z
UID:74360-1721853900-1721853900@www.minneapolisparks.org
SUMMARY:Barbie Movie
DESCRIPTION:PG-13 \nCome early for a Barbie Party presented by Stonewall Sports! Activities include a pink costume contest\, a Barbie box photo op\, food trucks\, and games!
URL:https://www.minneapolisparks.org/event-calendar/barbie-movie/
LOCATION:The Commons\, 425 Portland Ave South\, Minneapolis\, MN\, 55488\, United States
CATEGORIES:Movies in the Parks,Music & Movies in the Parks
GEO:44.9766971;-93.2628904
X-APPLE-STRUCTURED-LOCATION;VALUE=URI;X-ADDRESS=The Commons 425 Portland Ave South Minneapolis MN 55488 United States;X-APPLE-RADIUS=500;X-TITLE=425 Portland Ave South:geo:-93.2628904,44.9766971
END:VEVENT
BEGIN:VEVENT
DTSTART;TZID=America/Chicago:20240725T183000
DTEND;TZID=America/Chicago:20240725T200000
DTSTAMP:20260420T191608
CREATED:20240522T210022Z
LAST-MODIFIED:20240522T210022Z
UID:74126-1721932200-1721937600@www.minneapolisparks.org
SUMMARY:Umbrella Bed
DESCRIPTION:
URL:https://www.minneapolisparks.org/event-calendar/umbrella-bed/
LOCATION:Bryant Square Park\, 3101 Bryant Ave S\, Minneapolis\, MN\, 55408\, United States
CATEGORIES:Music & Movies in the Parks,Music in the Parks
GEO:44.9461045;-93.2903539
X-APPLE-STRUCTURED-LOCATION;VALUE=URI;X-ADDRESS=Bryant Square Park 3101 Bryant Ave S Minneapolis MN 55408 United States;X-APPLE-RADIUS=500;X-TITLE=3101 Bryant Ave S:geo:-93.2903539,44.9461045
END:VEVENT
BEGIN:VEVENT
DTSTART;TZID=America/Chicago:20240725T190000
DTEND;TZID=America/Chicago:20240725T190000
DTSTAMP:20260420T191608
CREATED:20240522T194717Z
LAST-MODIFIED:20240701T191901Z
UID:74024-1721934000-1721934000@www.minneapolisparks.org
SUMMARY:Twin City Mobile Jazz Project
DESCRIPTION:Jazz education and performance
URL:https://www.minneapolisparks.org/event-calendar/twin-city-mobile-jazz-project-2/
LOCATION:Minnehaha Bandstand\, Minneapolis\, MN\, United States
CATEGORIES:Music & Movies in the Parks,Music in the Parks
GEO:44.9161006;-93.2109865
END:VEVENT
BEGIN:VEVENT
DTSTART;TZID=America/Chicago:20240725T190000
DTEND;TZID=America/Chicago:20240725T190000
DTSTAMP:20260420T191608
CREATED:20240523T144127Z
LAST-MODIFIED:20240523T144127Z
UID:74191-1721934000-1721934000@www.minneapolisparks.org
SUMMARY:Cocktail Combo
DESCRIPTION:Serving classics with a twist
URL:https://www.minneapolisparks.org/event-calendar/cocktail-combo/
LOCATION:The Commons\, 425 Portland Ave South\, Minneapolis\, MN\, 55488\, United States
CATEGORIES:Music & Movies in the Parks,Music in the Parks
GEO:44.9766971;-93.2628904
X-APPLE-STRUCTURED-LOCATION;VALUE=URI;X-ADDRESS=The Commons 425 Portland Ave South Minneapolis MN 55488 United States;X-APPLE-RADIUS=500;X-TITLE=425 Portland Ave South:geo:-93.2628904,44.9766971
END:VEVENT
BEGIN:VEVENT
DTSTART;TZID=America/Chicago:20240725T204500
DTEND;TZID=America/Chicago:20240725T204500
DTSTAMP:20260420T191608
CREATED:20240523T181952Z
LAST-MODIFIED:20240708T195556Z
UID:74362-1721940300-1721940300@www.minneapolisparks.org
SUMMARY:Best in Show
DESCRIPTION:PG-13
URL:https://www.minneapolisparks.org/event-calendar/best-in-show-6/
LOCATION:Loring Park\, Loring Park\, Minneapolis\, MN\, 55403\, United States
CATEGORIES:Movies in the Parks,Music & Movies in the Parks
GEO:44.9649915;-93.2854596
X-APPLE-STRUCTURED-LOCATION;VALUE=URI;X-ADDRESS=Loring Park Loring Park Minneapolis MN 55403 United States;X-APPLE-RADIUS=500;X-TITLE=Loring Park:geo:-93.2854596,44.9649915
END:VEVENT
BEGIN:VEVENT
DTSTART;TZID=America/Chicago:20240726T190000
DTEND;TZID=America/Chicago:20240726T190000
DTSTAMP:20260420T191608
CREATED:20240522T194923Z
LAST-MODIFIED:20240701T191842Z
UID:74026-1722020400-1722020400@www.minneapolisparks.org
SUMMARY:Imaginaerum: Minnesota's Tribute to Nightwish
DESCRIPTION:Minnesota’s tribute to Nightwish
URL:https://www.minneapolisparks.org/event-calendar/imaginaerum-minnesotas-tribute-to-nightwish/
LOCATION:Minnehaha Bandstand\, Minneapolis\, MN\, United States
CATEGORIES:Music & Movies in the Parks,Music in the Parks
GEO:44.9161006;-93.2109865
END:VEVENT
BEGIN:VEVENT
DTSTART;TZID=America/Chicago:20240726T193000
DTEND;TZID=America/Chicago:20240726T193000
DTSTAMP:20260420T191608
CREATED:20240523T155230Z
LAST-MODIFIED:20240523T155230Z
UID:74255-1722022200-1722022200@www.minneapolisparks.org
SUMMARY:MN Sinfonia
DESCRIPTION:Exceptional quality\, professional orchestra
URL:https://www.minneapolisparks.org/event-calendar/mn-sinfonia-9/
LOCATION:Lake Harriet Bandshell\, Minneapolis\, MN\, United States
CATEGORIES:Music & Movies in the Parks,Music in the Parks
GEO:44.927901;-93.3082473
END:VEVENT
BEGIN:VEVENT
DTSTART;TZID=America/Chicago:20240726T204500
DTEND;TZID=America/Chicago:20240726T204500
DTSTAMP:20260420T191608
CREATED:20240523T182129Z
LAST-MODIFIED:20240523T182129Z
UID:74364-1722026700-1722026700@www.minneapolisparks.org
SUMMARY:Trolls: Band Together
DESCRIPTION:PG
URL:https://www.minneapolisparks.org/event-calendar/trolls-band-together/
LOCATION:Lynhurst\, 1345 W Minnehaha Pkwy\, Minneapolis\, MN\, 55419\, United States
CATEGORIES:Movies in the Parks,Music & Movies in the Parks
GEO:44.9103718;-93.3017005
X-APPLE-STRUCTURED-LOCATION;VALUE=URI;X-ADDRESS=Lynhurst 1345 W Minnehaha Pkwy Minneapolis MN 55419 United States;X-APPLE-RADIUS=500;X-TITLE=1345 W Minnehaha Pkwy:geo:-93.3017005,44.9103718
END:VEVENT
BEGIN:VEVENT
DTSTART;TZID=America/Chicago:20240727T193000
DTEND;TZID=America/Chicago:20240727T193000
DTSTAMP:20260420T191608
CREATED:20240523T155333Z
LAST-MODIFIED:20240719T184019Z
UID:74257-1722108600-1722108600@www.minneapolisparks.org
SUMMARY:Ecuador Mantra
DESCRIPTION:Andes Music & Latin Fusion.
URL:https://www.minneapolisparks.org/event-calendar/ecuador-mantra/
LOCATION:Lake Harriet Bandshell\, Minneapolis\, MN\, United States
CATEGORIES:Music & Movies in the Parks,Music in the Parks
GEO:44.927901;-93.3082473
END:VEVENT
BEGIN:VEVENT
DTSTART;TZID=America/Chicago:20240727T204000
DTEND;TZID=America/Chicago:20240727T204000
DTSTAMP:20260420T191608
CREATED:20240523T182239Z
LAST-MODIFIED:20240523T182239Z
UID:74366-1722112800-1722112800@www.minneapolisparks.org
SUMMARY:Migration
DESCRIPTION:PG
URL:https://www.minneapolisparks.org/event-calendar/migration-2/
LOCATION:Fuller Park\, 4800 Grand Ave S\, Minneapolis\, MN\, 55419\, United States
CATEGORIES:Movies in the Parks,Music & Movies in the Parks
GEO:44.9157593;-93.2848109
X-APPLE-STRUCTURED-LOCATION;VALUE=URI;X-ADDRESS=Fuller Park 4800 Grand Ave S Minneapolis MN 55419 United States;X-APPLE-RADIUS=500;X-TITLE=4800 Grand Ave S:geo:-93.2848109,44.9157593
END:VEVENT
BEGIN:VEVENT
DTSTART;TZID=America/Chicago:20240728T140000
DTEND;TZID=America/Chicago:20240728T140000
DTSTAMP:20260420T191608
CREATED:20240523T155440Z
LAST-MODIFIED:20240523T155440Z
UID:74259-1722175200-1722175200@www.minneapolisparks.org
SUMMARY:Minnesota Mandolin Orchestra
DESCRIPTION:Classical and international plectrum music
URL:https://www.minneapolisparks.org/event-calendar/minnesota-mandolin-orchestra-5/
LOCATION:Lake Harriet Bandshell\, Minneapolis\, MN\, United States
CATEGORIES:Music & Movies in the Parks,Music in the Parks
GEO:44.927901;-93.3082473
END:VEVENT
BEGIN:VEVENT
DTSTART;TZID=America/Chicago:20240728T173000
DTEND;TZID=America/Chicago:20240728T173000
DTSTAMP:20260420T191608
CREATED:20240523T155544Z
LAST-MODIFIED:20240727T181846Z
UID:74261-1722187800-1722187800@www.minneapolisparks.org
SUMMARY:Mactir Academy of Irish Dance
DESCRIPTION:Irish Dance
URL:https://www.minneapolisparks.org/event-calendar/minneapolis-pops-15/
LOCATION:Lake Harriet Bandshell\, Minneapolis\, MN\, United States
CATEGORIES:Music & Movies in the Parks,Music in the Parks
GEO:44.927901;-93.3082473
END:VEVENT
BEGIN:VEVENT
DTSTART;TZID=America/Chicago:20240729T190000
DTEND;TZID=America/Chicago:20240729T190000
DTSTAMP:20260420T191608
CREATED:20240522T212036Z
LAST-MODIFIED:20240522T212036Z
UID:74140-1722279600-1722279600@www.minneapolisparks.org
SUMMARY:Jimmy Gefroh
DESCRIPTION:Upbeat and contemporary.
URL:https://www.minneapolisparks.org/event-calendar/jimmy-gefroh/
LOCATION:Water Works at Mill Ruins Park\, 425 West River Parkway\, Minneapolis\, MN\, 55401\, United States
CATEGORIES:Music & Movies in the Parks,Music in the Parks
GEO:44.9811921;-93.2620982
X-APPLE-STRUCTURED-LOCATION;VALUE=URI;X-ADDRESS=Water Works at Mill Ruins Park 425 West River Parkway Minneapolis MN 55401 United States;X-APPLE-RADIUS=500;X-TITLE=425 West River Parkway:geo:-93.2620982,44.9811921
END:VEVENT
BEGIN:VEVENT
DTSTART;TZID=America/Chicago:20240729T193000
DTEND;TZID=America/Chicago:20240729T193000
DTSTAMP:20260420T191608
CREATED:20240523T155649Z
LAST-MODIFIED:20240605T184711Z
UID:74263-1722281400-1722281400@www.minneapolisparks.org
SUMMARY:Creeping Charlie
DESCRIPTION:Loud guitar and honest lyrics
URL:https://www.minneapolisparks.org/event-calendar/creeping-charlie/
LOCATION:Lake Harriet Bandshell\, Minneapolis\, MN\, United States
CATEGORIES:Music & Movies in the Parks,Music in the Parks
GEO:44.927901;-93.3082473
END:VEVENT
BEGIN:VEVENT
DTSTART;TZID=America/Chicago:20240729T204000
DTEND;TZID=America/Chicago:20240729T204000
DTSTAMP:20260420T191608
CREATED:20240523T182358Z
LAST-MODIFIED:20240523T182358Z
UID:74368-1722285600-1722285600@www.minneapolisparks.org
SUMMARY:Aquaman
DESCRIPTION:PG-13
URL:https://www.minneapolisparks.org/event-calendar/aquaman-3/
LOCATION:Northeast Recreation Center\, Minneapolis\, MN\, United States
CATEGORIES:Movies in the Parks,Music & Movies in the Parks
GEO:45.0039194;-93.2379239
END:VEVENT
END:VCALENDAR