BEGIN:VCALENDAR
VERSION:2.0
PRODID:-//Minneapolis Park &amp; Recreation Board - ECPv6.15.20//NONSGML v1.0//EN
CALSCALE:GREGORIAN
METHOD:PUBLISH
X-WR-CALNAME:Minneapolis Park &amp; Recreation Board
X-ORIGINAL-URL:https://www.minneapolisparks.org
X-WR-CALDESC:Events for Minneapolis Park &amp; Recreation Board
REFRESH-INTERVAL;VALUE=DURATION:PT1H
X-Robots-Tag:noindex
X-PUBLISHED-TTL:PT1H
BEGIN:VTIMEZONE
TZID:America/Chicago
BEGIN:DAYLIGHT
TZOFFSETFROM:-0600
TZOFFSETTO:-0500
TZNAME:CDT
DTSTART:20210314T080000
END:DAYLIGHT
BEGIN:STANDARD
TZOFFSETFROM:-0500
TZOFFSETTO:-0600
TZNAME:CST
DTSTART:20211107T070000
END:STANDARD
BEGIN:DAYLIGHT
TZOFFSETFROM:-0600
TZOFFSETTO:-0500
TZNAME:CDT
DTSTART:20220313T080000
END:DAYLIGHT
BEGIN:STANDARD
TZOFFSETFROM:-0500
TZOFFSETTO:-0600
TZNAME:CST
DTSTART:20221106T070000
END:STANDARD
BEGIN:DAYLIGHT
TZOFFSETFROM:-0600
TZOFFSETTO:-0500
TZNAME:CDT
DTSTART:20230312T080000
END:DAYLIGHT
BEGIN:STANDARD
TZOFFSETFROM:-0500
TZOFFSETTO:-0600
TZNAME:CST
DTSTART:20231105T070000
END:STANDARD
BEGIN:DAYLIGHT
TZOFFSETFROM:-0600
TZOFFSETTO:-0500
TZNAME:CDT
DTSTART:20240310T080000
END:DAYLIGHT
BEGIN:STANDARD
TZOFFSETFROM:-0500
TZOFFSETTO:-0600
TZNAME:CST
DTSTART:20241103T070000
END:STANDARD
END:VTIMEZONE
BEGIN:VEVENT
DTSTART;TZID=America/Chicago:20220901T193000
DTEND;TZID=America/Chicago:20220901T210000
DTSTAMP:20260420T155242
CREATED:20220421T211241Z
LAST-MODIFIED:20220421T211241Z
UID:57354-1662060600-1662066000@www.minneapolisparks.org
SUMMARY:Tom\, Dick & Harry
DESCRIPTION:Fun. Alternative\, rockin’ originals/covers
URL:https://www.minneapolisparks.org/event-calendar/tom-dick-harry/
LOCATION:Lake Harriet Bandshell\, Minneapolis\, MN\, United States
CATEGORIES:Music & Movies in the Parks,Music in the Parks
GEO:44.927901;-93.3082473
END:VEVENT
BEGIN:VEVENT
DTSTART;TZID=America/Chicago:20220901T200500
DTEND;TZID=America/Chicago:20220901T200500
DTSTAMP:20260420T155242
CREATED:20220523T212719Z
LAST-MODIFIED:20220602T211742Z
UID:58150-1662062700-1662062700@www.minneapolisparks.org
SUMMARY:The Biggest Little Farm
DESCRIPTION:Rated PG
URL:https://www.minneapolisparks.org/event-calendar/the-biggest-little-farm/
LOCATION:JD Rivers Children’s Garden\, 2900 Glenwood Ave\, Minneapolis\, MN\, 55405\, United States
CATEGORIES:Movies in the Parks,Music & Movies in the Parks
GEO:44.9811089;-93.3171077
X-APPLE-STRUCTURED-LOCATION;VALUE=URI;X-ADDRESS=JD Rivers Children’s Garden 2900 Glenwood Ave Minneapolis MN 55405 United States;X-APPLE-RADIUS=500;X-TITLE=2900 Glenwood Ave:geo:-93.3171077,44.9811089
END:VEVENT
BEGIN:VEVENT
DTSTART;TZID=America/Chicago:20220902T190000
DTEND;TZID=America/Chicago:20220902T203000
DTSTAMP:20260420T155242
CREATED:20220421T184806Z
LAST-MODIFIED:20220421T184806Z
UID:57286-1662145200-1662150600@www.minneapolisparks.org
SUMMARY:Kung Fu Hippies
DESCRIPTION:Feel-good hippie rock
URL:https://www.minneapolisparks.org/event-calendar/kung-fu-hippies-3/
LOCATION:Minnehaha Park\, Minneapolis\, MN\, United States
CATEGORIES:Music & Movies in the Parks,Music in the Parks
GEO:44.9161006;-93.2109865
END:VEVENT
BEGIN:VEVENT
DTSTART;TZID=America/Chicago:20220902T193000
DTEND;TZID=America/Chicago:20220902T210000
DTSTAMP:20260420T155242
CREATED:20220421T211458Z
LAST-MODIFIED:20220421T211458Z
UID:57353-1662147000-1662152400@www.minneapolisparks.org
SUMMARY:Jim Pellinger
DESCRIPTION:Solo acoustic singer-songwriter
URL:https://www.minneapolisparks.org/event-calendar/jim-pellinger-2/
LOCATION:Lake Harriet Bandshell\, Minneapolis\, MN\, United States
CATEGORIES:Music & Movies in the Parks,Music in the Parks
GEO:44.927901;-93.3082473
END:VEVENT
BEGIN:VEVENT
DTSTART;TZID=America/Chicago:20220902T200500
DTEND;TZID=America/Chicago:20220902T200500
DTSTAMP:20260420T155242
CREATED:20220331T172508Z
LAST-MODIFIED:20220602T211753Z
UID:56644-1662149100-1662149100@www.minneapolisparks.org
SUMMARY:PAW Patrol: The Movie
DESCRIPTION:Join us on the baseball fields for our annual movie in the park! Bring a chair or blanket. Movie begins at dusk.
URL:https://www.minneapolisparks.org/event-calendar/outdoor-movie-in-the-park-paw-patrol/
LOCATION:Kenny Park\, West 58th Street 1328\, Minneapolis\, Minnesota\, 55419\, United States
CATEGORIES:Events- All,Movies in the Parks,Music & Movies in the Parks
GEO:44.8987202;-93.2974398
X-APPLE-STRUCTURED-LOCATION;VALUE=URI;X-ADDRESS=Kenny Park West 58th Street 1328 Minneapolis Minnesota 55419 United States;X-APPLE-RADIUS=500;X-TITLE=West 58th Street 1328:geo:-93.2974398,44.8987202
END:VEVENT
BEGIN:VEVENT
DTSTART;TZID=America/Chicago:20220903T193000
DTEND;TZID=America/Chicago:20220903T210000
DTSTAMP:20260420T155242
CREATED:20220421T211513Z
LAST-MODIFIED:20220421T211513Z
UID:57352-1662233400-1662238800@www.minneapolisparks.org
SUMMARY:Blue Groove
DESCRIPTION:Fun\, contemporary local bluegrass band
URL:https://www.minneapolisparks.org/event-calendar/blue-groove/
LOCATION:Lake Harriet Bandshell\, Minneapolis\, MN\, United States
CATEGORIES:Music & Movies in the Parks,Music in the Parks
GEO:44.927901;-93.3082473
END:VEVENT
BEGIN:VEVENT
DTSTART;TZID=America/Chicago:20220903T200000
DTEND;TZID=America/Chicago:20220903T200000
DTSTAMP:20260420T155242
CREATED:20220523T212848Z
LAST-MODIFIED:20220602T211830Z
UID:58154-1662235200-1662235200@www.minneapolisparks.org
SUMMARY:Spider-Man: No Way Home
DESCRIPTION:Rated PG-13
URL:https://www.minneapolisparks.org/event-calendar/spider-man-no-way-home-3/
LOCATION:Bryant Square Park\, 3101 Bryant Ave S\, Minneapolis\, MN\, 55408\, United States
CATEGORIES:Movies in the Parks,Music & Movies in the Parks
GEO:44.9461045;-93.2903539
X-APPLE-STRUCTURED-LOCATION;VALUE=URI;X-ADDRESS=Bryant Square Park 3101 Bryant Ave S Minneapolis MN 55408 United States;X-APPLE-RADIUS=500;X-TITLE=3101 Bryant Ave S:geo:-93.2903539,44.9461045
END:VEVENT
BEGIN:VEVENT
DTSTART;TZID=America/Chicago:20220904T140000
DTEND;TZID=America/Chicago:20220904T153000
DTSTAMP:20260420T155242
CREATED:20220421T212207Z
LAST-MODIFIED:20220421T212207Z
UID:57393-1662300000-1662305400@www.minneapolisparks.org
SUMMARY:The Jolly Pops
DESCRIPTION:Happy Dads Playing Family Music
URL:https://www.minneapolisparks.org/event-calendar/the-jolly-pops-2/
LOCATION:Lake Harriet Bandshell\, Minneapolis\, MN\, United States
CATEGORIES:Music & Movies in the Parks,Music in the Parks
GEO:44.927901;-93.3082473
END:VEVENT
BEGIN:VEVENT
DTSTART;TZID=America/Chicago:20220904T173000
DTEND;TZID=America/Chicago:20220904T190000
DTSTAMP:20260420T155242
CREATED:20220421T212321Z
LAST-MODIFIED:20220421T212321Z
UID:57395-1662312600-1662318000@www.minneapolisparks.org
SUMMARY:Dan Chouinard and Ann Reed
DESCRIPTION:Sing Along
URL:https://www.minneapolisparks.org/event-calendar/dan-chouinard-and-ann-reed/
LOCATION:Lake Harriet Bandshell\, Minneapolis\, MN\, United States
CATEGORIES:Music & Movies in the Parks,Music in the Parks
GEO:44.927901;-93.3082473
END:VEVENT
BEGIN:VEVENT
DTSTART;TZID=America/Chicago:20220905T173000
DTEND;TZID=America/Chicago:20220905T190000
DTSTAMP:20260420T155242
CREATED:20220421T212337Z
LAST-MODIFIED:20220421T212337Z
UID:57394-1662399000-1662404400@www.minneapolisparks.org
SUMMARY:Socaholix
DESCRIPTION:A high energy Caribbean dance band
URL:https://www.minneapolisparks.org/event-calendar/socaholix-3/
LOCATION:Lake Harriet Bandshell\, Minneapolis\, MN\, United States
CATEGORIES:Music & Movies in the Parks,Music in the Parks
GEO:44.927901;-93.3082473
END:VEVENT
BEGIN:VEVENT
DTSTART;TZID=America/Chicago:20220905T193000
DTEND;TZID=America/Chicago:20220905T210000
DTSTAMP:20260420T155242
CREATED:20220421T211529Z
LAST-MODIFIED:20220421T211529Z
UID:57351-1662406200-1662411600@www.minneapolisparks.org
SUMMARY:Necessary Diversion
DESCRIPTION:Top 40 hits for everyone
URL:https://www.minneapolisparks.org/event-calendar/necessary-diversion-5/
LOCATION:Lake Harriet Bandshell\, Minneapolis\, MN\, United States
CATEGORIES:Music & Movies in the Parks,Music in the Parks
GEO:44.927901;-93.3082473
END:VEVENT
BEGIN:VEVENT
DTSTART;TZID=America/Chicago:20220908T170000
DTEND;TZID=America/Chicago:20220908T170000
DTSTAMP:20260420T155242
CREATED:20220908T183116Z
LAST-MODIFIED:20220908T183116Z
UID:60503-1662656400-1662656400@www.minneapolisparks.org
SUMMARY:Matt Jennings Concert at The Commons
DESCRIPTION:Guitar Based Flamenco Surf Rock
URL:https://www.minneapolisparks.org/event-calendar/matt-jennings-concert-at-the-commons/
LOCATION:The Commons\, 425 Portland Ave South\, Minneapolis\, MN\, 55488\, United States
CATEGORIES:Music & Movies in the Parks,Music in the Parks
GEO:44.9766971;-93.2628904
X-APPLE-STRUCTURED-LOCATION;VALUE=URI;X-ADDRESS=The Commons 425 Portland Ave South Minneapolis MN 55488 United States;X-APPLE-RADIUS=500;X-TITLE=425 Portland Ave South:geo:-93.2628904,44.9766971
END:VEVENT
BEGIN:VEVENT
DTSTART;TZID=America/Chicago:20220922T170000
DTEND;TZID=America/Chicago:20220922T170000
DTSTAMP:20260420T155242
CREATED:20220914T141647Z
LAST-MODIFIED:20220914T141647Z
UID:60541-1663866000-1663866000@www.minneapolisparks.org
SUMMARY:Pig's Eye Jass Band
DESCRIPTION:Jazz that will move your feet.
URL:https://www.minneapolisparks.org/event-calendar/pigs-eye-jass-band/
LOCATION:The Commons\, 425 Portland Ave South\, Minneapolis\, MN\, 55488\, United States
CATEGORIES:Music & Movies in the Parks,Music in the Parks
GEO:44.9766971;-93.2628904
X-APPLE-STRUCTURED-LOCATION;VALUE=URI;X-ADDRESS=The Commons 425 Portland Ave South Minneapolis MN 55488 United States;X-APPLE-RADIUS=500;X-TITLE=425 Portland Ave South:geo:-93.2628904,44.9766971
END:VEVENT
BEGIN:VEVENT
DTSTART;TZID=America/Chicago:20220929T170000
DTEND;TZID=America/Chicago:20220929T170000
DTSTAMP:20260420T155242
CREATED:20220914T141906Z
LAST-MODIFIED:20220914T141906Z
UID:60543-1664470800-1664470800@www.minneapolisparks.org
SUMMARY:The Bad Companions
DESCRIPTION:Dance friendly roots rock combo.
URL:https://www.minneapolisparks.org/event-calendar/the-bad-companions-2/
LOCATION:The Commons\, 425 Portland Ave South\, Minneapolis\, MN\, 55488\, United States
CATEGORIES:Music & Movies in the Parks,Music in the Parks
GEO:44.9766971;-93.2628904
X-APPLE-STRUCTURED-LOCATION;VALUE=URI;X-ADDRESS=The Commons 425 Portland Ave South Minneapolis MN 55488 United States;X-APPLE-RADIUS=500;X-TITLE=425 Portland Ave South:geo:-93.2628904,44.9766971
END:VEVENT
BEGIN:VEVENT
DTSTART;TZID=America/Chicago:20230529T173000
DTEND;TZID=America/Chicago:20230529T173000
DTSTAMP:20260420T155242
CREATED:20230504T192433Z
LAST-MODIFIED:20230504T192433Z
UID:65347-1685381400-1685381400@www.minneapolisparks.org
SUMMARY:Maria and the Coins
DESCRIPTION:Singer-Songwriter driven Pop-Rock
URL:https://www.minneapolisparks.org/event-calendar/maria-and-the-coins-4/
LOCATION:Lake Harriet Bandshell\, Minneapolis\, MN\, United States
CATEGORIES:Events- All,Events- MPRB,Music & Movies in the Parks,Music in the Parks
GEO:44.927901;-93.3082473
END:VEVENT
BEGIN:VEVENT
DTSTART;TZID=America/Chicago:20230529T193000
DTEND;TZID=America/Chicago:20230529T193000
DTSTAMP:20260420T155242
CREATED:20230504T192513Z
LAST-MODIFIED:20230504T192513Z
UID:65349-1685388600-1685388600@www.minneapolisparks.org
SUMMARY:Big Mike & The Funktion
DESCRIPTION:60’s/70’s Dance\, Rock\, Funk and FUN!!!
URL:https://www.minneapolisparks.org/event-calendar/big-mike-the-funktion/
LOCATION:Lake Harriet Bandshell\, Minneapolis\, MN\, United States
CATEGORIES:Events- All,Events- MPRB,Music & Movies in the Parks,Music in the Parks
GEO:44.927901;-93.3082473
END:VEVENT
BEGIN:VEVENT
DTSTART;TZID=America/Chicago:20230531T120000
DTEND;TZID=America/Chicago:20230531T120000
DTSTAMP:20260420T155242
CREATED:20230420T194733Z
LAST-MODIFIED:20230420T194733Z
UID:64929-1685534400-1685534400@www.minneapolisparks.org
SUMMARY:Matt Jennings Electric Trio
DESCRIPTION:International Fusion – Flamenco Surf Rock
URL:https://www.minneapolisparks.org/event-calendar/matt-jennings-electric-trio-2/
LOCATION:The Commons\, 425 Portland Ave South\, Minneapolis\, MN\, 55488\, United States
CATEGORIES:Events- All,Events- MPRB,Music & Movies in the Parks,Music in the Parks
GEO:44.9766971;-93.2628904
X-APPLE-STRUCTURED-LOCATION;VALUE=URI;X-ADDRESS=The Commons 425 Portland Ave South Minneapolis MN 55488 United States;X-APPLE-RADIUS=500;X-TITLE=425 Portland Ave South:geo:-93.2628904,44.9766971
END:VEVENT
BEGIN:VEVENT
DTSTART;TZID=America/Chicago:20230531T193000
DTEND;TZID=America/Chicago:20230531T193000
DTSTAMP:20260420T155242
CREATED:20230504T192545Z
LAST-MODIFIED:20230504T192545Z
UID:65351-1685561400-1685561400@www.minneapolisparks.org
SUMMARY:Linden Hills Chamber Orchestra
DESCRIPTION:Festive\, fun orchestral pops concert
URL:https://www.minneapolisparks.org/event-calendar/linden-hills-chamber-orchestra-6/
LOCATION:Lake Harriet Bandshell\, Minneapolis\, MN\, United States
CATEGORIES:Events- All,Events- MPRB,Music & Movies in the Parks,Music in the Parks
GEO:44.927901;-93.3082473
END:VEVENT
BEGIN:VEVENT
DTSTART;TZID=America/Chicago:20230601T204500
DTEND;TZID=America/Chicago:20230601T204500
DTSTAMP:20260420T155242
CREATED:20230517T175432Z
LAST-MODIFIED:20230517T175432Z
UID:65749-1685652300-1685652300@www.minneapolisparks.org
SUMMARY:Sonic the Hedgehog 2
DESCRIPTION:PG. Audio & Sub: Eng/Span
URL:https://www.minneapolisparks.org/event-calendar/sonic-the-hedgehog-2/
LOCATION:Waite Park\, 1810 34th Ave NE\, Minneapolis\, MN\, 55418\, United States
CATEGORIES:Events- All,Events- MPRB,Movies in the Parks,Music & Movies in the Parks
GEO:45.0301093;-93.23428
X-APPLE-STRUCTURED-LOCATION;VALUE=URI;X-ADDRESS=Waite Park 1810 34th Ave NE Minneapolis MN 55418 United States;X-APPLE-RADIUS=500;X-TITLE=1810 34th Ave NE:geo:-93.23428,45.0301093
END:VEVENT
BEGIN:VEVENT
DTSTART;TZID=America/Chicago:20230602T120000
DTEND;TZID=America/Chicago:20230602T120000
DTSTAMP:20260420T155242
CREATED:20230424T155235Z
LAST-MODIFIED:20230424T155235Z
UID:65004-1685707200-1685707200@www.minneapolisparks.org
SUMMARY:Jim and Kathy Emery
DESCRIPTION:Traditional country duets: some old\, some new
URL:https://www.minneapolisparks.org/event-calendar/jim-and-kathy-emery/
LOCATION:Water Works at Mill Ruins Park\, 425 West River Parkway\, Minneapolis\, MN\, 55401\, United States
CATEGORIES:Events- All,Events- MPRB,Music & Movies in the Parks,Music in the Parks
GEO:44.9811921;-93.2620982
X-APPLE-STRUCTURED-LOCATION;VALUE=URI;X-ADDRESS=Water Works at Mill Ruins Park 425 West River Parkway Minneapolis MN 55401 United States;X-APPLE-RADIUS=500;X-TITLE=425 West River Parkway:geo:-93.2620982,44.9811921
END:VEVENT
BEGIN:VEVENT
DTSTART;TZID=America/Chicago:20230602T190000
DTEND;TZID=America/Chicago:20230602T190000
DTSTAMP:20260420T155242
CREATED:20230420T190918Z
LAST-MODIFIED:20230420T191043Z
UID:64857-1685732400-1685732400@www.minneapolisparks.org
SUMMARY:The Percolators
DESCRIPTION:Harmony vocal 60s dance rock
URL:https://www.minneapolisparks.org/event-calendar/the-percolators/
LOCATION:Loring Park\, Loring Park\, Minneapolis\, MN\, 55403\, United States
CATEGORIES:Events- All,Events- MPRB,Music & Movies in the Parks,Music in the Parks
GEO:44.9649915;-93.2854596
X-APPLE-STRUCTURED-LOCATION;VALUE=URI;X-ADDRESS=Loring Park Loring Park Minneapolis MN 55403 United States;X-APPLE-RADIUS=500;X-TITLE=Loring Park:geo:-93.2854596,44.9649915
END:VEVENT
BEGIN:VEVENT
DTSTART;TZID=America/Chicago:20230602T190000
DTEND;TZID=America/Chicago:20230602T190000
DTSTAMP:20260420T155242
CREATED:20230504T190430Z
LAST-MODIFIED:20230504T190430Z
UID:65293-1685732400-1685732400@www.minneapolisparks.org
SUMMARY:BATO BATO! Breck School's Marimba Band
DESCRIPTION:Upbeat\, danceable music for Marimba
URL:https://www.minneapolisparks.org/event-calendar/bato-bato-breck-schools-marimba-band/
LOCATION:Minnehaha Bandstand\, Minneapolis\, MN\, United States
CATEGORIES:Events- All,Events- MPRB,Music & Movies in the Parks,Music in the Parks
GEO:44.9161006;-93.2109865
END:VEVENT
BEGIN:VEVENT
DTSTART;TZID=America/Chicago:20230602T193000
DTEND;TZID=America/Chicago:20230602T193000
DTSTAMP:20260420T155242
CREATED:20230504T192634Z
LAST-MODIFIED:20230504T192634Z
UID:65353-1685734200-1685734200@www.minneapolisparks.org
SUMMARY:Lloyds
DESCRIPTION:Pop Rock Indie Five Piece
URL:https://www.minneapolisparks.org/event-calendar/lloyds/
LOCATION:Lake Harriet Bandshell\, Minneapolis\, MN\, United States
CATEGORIES:Events- All,Events- MPRB,Music & Movies in the Parks,Music in the Parks
GEO:44.927901;-93.3082473
END:VEVENT
BEGIN:VEVENT
DTSTART;TZID=America/Chicago:20230602T204500
DTEND;TZID=America/Chicago:20230602T204500
DTSTAMP:20260420T155242
CREATED:20230517T175522Z
LAST-MODIFIED:20230517T175522Z
UID:65750-1685738700-1685738700@www.minneapolisparks.org
SUMMARY:KiKi
DESCRIPTION:PG-13
URL:https://www.minneapolisparks.org/event-calendar/kiki/
LOCATION:Washburn Fair Oaks\, 200 E 24th St\, Minneapolis\, MN\, 55404\, United States
CATEGORIES:Events- All,Events- MPRB,Movies in the Parks,Music & Movies in the Parks
GEO:44.9599097;-93.2760903
X-APPLE-STRUCTURED-LOCATION;VALUE=URI;X-ADDRESS=Washburn Fair Oaks 200 E 24th St Minneapolis MN 55404 United States;X-APPLE-RADIUS=500;X-TITLE=200 E 24th St:geo:-93.2760903,44.9599097
END:VEVENT
BEGIN:VEVENT
DTSTART;TZID=America/Chicago:20230603T193000
DTEND;TZID=America/Chicago:20230603T193000
DTSTAMP:20260420T155242
CREATED:20230504T192713Z
LAST-MODIFIED:20230504T192713Z
UID:65355-1685820600-1685820600@www.minneapolisparks.org
SUMMARY:The Belfast Cowboys
DESCRIPTION:Horn-driven rock and blues.
URL:https://www.minneapolisparks.org/event-calendar/the-belfast-cowboys-4/
LOCATION:Lake Harriet Bandshell\, Minneapolis\, MN\, United States
CATEGORIES:Events- All,Events- MPRB,Music & Movies in the Parks,Music in the Parks
GEO:44.927901;-93.3082473
END:VEVENT
BEGIN:VEVENT
DTSTART;TZID=America/Chicago:20230604T140000
DTEND;TZID=America/Chicago:20230604T140000
DTSTAMP:20260420T155242
CREATED:20230504T192751Z
LAST-MODIFIED:20230504T192751Z
UID:65357-1685887200-1685887200@www.minneapolisparks.org
SUMMARY:Amy & Adams
DESCRIPTION:Lush vocals\, mult-instrumentalists\, all ages.
URL:https://www.minneapolisparks.org/event-calendar/amy-adams-3/
LOCATION:Lake Harriet Bandshell\, Minneapolis\, MN\, United States
CATEGORIES:Events- All,Events- MPRB,Music & Movies in the Parks,Music in the Parks
GEO:44.927901;-93.3082473
END:VEVENT
BEGIN:VEVENT
DTSTART;TZID=America/Chicago:20230604T173000
DTEND;TZID=America/Chicago:20230604T173000
DTSTAMP:20260420T155242
CREATED:20230504T192832Z
LAST-MODIFIED:20230504T192832Z
UID:65359-1685899800-1685899800@www.minneapolisparks.org
SUMMARY:Twin Citizen
DESCRIPTION:A band living in recovery.
URL:https://www.minneapolisparks.org/event-calendar/twin-citizen/
LOCATION:Lake Harriet Bandshell\, Minneapolis\, MN\, United States
CATEGORIES:Events- All,Events- MPRB,Music & Movies in the Parks,Music in the Parks
GEO:44.927901;-93.3082473
END:VEVENT
BEGIN:VEVENT
DTSTART;TZID=America/Chicago:20230605T190000
DTEND;TZID=America/Chicago:20230605T190000
DTSTAMP:20260420T155242
CREATED:20230424T155314Z
LAST-MODIFIED:20230424T155314Z
UID:65006-1685991600-1685991600@www.minneapolisparks.org
SUMMARY:Opera Under the Stars
DESCRIPTION:Classical music with a twist
URL:https://www.minneapolisparks.org/event-calendar/opera-under-the-stars-4/
LOCATION:Water Works at Mill Ruins Park\, 425 West River Parkway\, Minneapolis\, MN\, 55401\, United States
CATEGORIES:Events- All,Events- MPRB,Music & Movies in the Parks,Music in the Parks
GEO:44.9811921;-93.2620982
X-APPLE-STRUCTURED-LOCATION;VALUE=URI;X-ADDRESS=Water Works at Mill Ruins Park 425 West River Parkway Minneapolis MN 55401 United States;X-APPLE-RADIUS=500;X-TITLE=425 West River Parkway:geo:-93.2620982,44.9811921
END:VEVENT
BEGIN:VEVENT
DTSTART;TZID=America/Chicago:20230605T190000
DTEND;TZID=America/Chicago:20230605T190000
DTSTAMP:20260420T155242
CREATED:20230504T184252Z
LAST-MODIFIED:20230504T184332Z
UID:65245-1685991600-1685991600@www.minneapolisparks.org
SUMMARY:Flamenco Michael Hauser
DESCRIPTION:Duo Flamenco\,  Guitar and Dance
URL:https://www.minneapolisparks.org/event-calendar/flamenco-michael-hauser/
LOCATION:Nicollet Island\, Nicollet Island\, Minneapolis\, MN\, 55401\, United States
CATEGORIES:Events- All,Events- MPRB,Music & Movies in the Parks,Music in the Parks
GEO:44.9874602;-93.2648511
X-APPLE-STRUCTURED-LOCATION;VALUE=URI;X-ADDRESS=Nicollet Island Nicollet Island Minneapolis MN 55401 United States;X-APPLE-RADIUS=500;X-TITLE=Nicollet Island:geo:-93.2648511,44.9874602
END:VEVENT
BEGIN:VEVENT
DTSTART;TZID=America/Chicago:20230605T193000
DTEND;TZID=America/Chicago:20230605T193000
DTSTAMP:20260420T155242
CREATED:20230510T161918Z
LAST-MODIFIED:20230510T161918Z
UID:65494-1685993400-1685993400@www.minneapolisparks.org
SUMMARY:Necessary Diversion
DESCRIPTION:80s-Now: Songs Everybody Loves!
URL:https://www.minneapolisparks.org/event-calendar/necessary-diversion-6/
LOCATION:Lake Harriet Bandshell\, Minneapolis\, MN\, United States
CATEGORIES:Events- All,Events- MPRB,Music & Movies in the Parks,Music in the Parks
GEO:44.927901;-93.3082473
END:VEVENT
END:VCALENDAR