BEGIN:VCALENDAR
VERSION:2.0
PRODID:-//Minneapolis Park &amp; Recreation Board - ECPv6.15.20//NONSGML v1.0//EN
CALSCALE:GREGORIAN
METHOD:PUBLISH
X-ORIGINAL-URL:https://www.minneapolisparks.org
X-WR-CALDESC:Events for Minneapolis Park &amp; Recreation Board
REFRESH-INTERVAL;VALUE=DURATION:PT1H
X-Robots-Tag:noindex
X-PUBLISHED-TTL:PT1H
BEGIN:VTIMEZONE
TZID:America/Chicago
BEGIN:DAYLIGHT
TZOFFSETFROM:-0600
TZOFFSETTO:-0500
TZNAME:CDT
DTSTART:20230312T080000
END:DAYLIGHT
BEGIN:STANDARD
TZOFFSETFROM:-0500
TZOFFSETTO:-0600
TZNAME:CST
DTSTART:20231105T070000
END:STANDARD
BEGIN:DAYLIGHT
TZOFFSETFROM:-0600
TZOFFSETTO:-0500
TZNAME:CDT
DTSTART:20240310T080000
END:DAYLIGHT
BEGIN:STANDARD
TZOFFSETFROM:-0500
TZOFFSETTO:-0600
TZNAME:CST
DTSTART:20241103T070000
END:STANDARD
BEGIN:DAYLIGHT
TZOFFSETFROM:-0600
TZOFFSETTO:-0500
TZNAME:CDT
DTSTART:20250309T080000
END:DAYLIGHT
BEGIN:STANDARD
TZOFFSETFROM:-0500
TZOFFSETTO:-0600
TZNAME:CST
DTSTART:20251102T070000
END:STANDARD
END:VTIMEZONE
BEGIN:VEVENT
DTSTART;TZID=America/Chicago:20240627T210000
DTEND;TZID=America/Chicago:20240627T210000
DTSTAMP:20260420T223424
CREATED:20240521T160744Z
LAST-MODIFIED:20240521T160744Z
UID:73964-1719522000-1719522000@www.minneapolisparks.org
SUMMARY:The Incredibles
DESCRIPTION:PG
URL:https://www.minneapolisparks.org/event-calendar/the-incredibles-3/
LOCATION:Beltrami Park\, 1111 Summer St NE\, Minneapolis\, MN\, 55413\, United States
CATEGORIES:Movies in the Parks,Music & Movies in the Parks
GEO:44.9971364;-93.2433279
X-APPLE-STRUCTURED-LOCATION;VALUE=URI;X-ADDRESS=Beltrami Park 1111 Summer St NE Minneapolis MN 55413 United States;X-APPLE-RADIUS=500;X-TITLE=1111 Summer St NE:geo:-93.2433279,44.9971364
END:VEVENT
BEGIN:VEVENT
DTSTART;TZID=America/Chicago:20240628T193000
DTEND;TZID=America/Chicago:20240628T193000
DTSTAMP:20260420T223424
CREATED:20240521T152705Z
LAST-MODIFIED:20240612T173929Z
UID:73927-1719603000-1719603000@www.minneapolisparks.org
SUMMARY:MN Sinfonia
DESCRIPTION:Exceptional quality\, professional orchestra
URL:https://www.minneapolisparks.org/event-calendar/mn-sinfonia-7/
LOCATION:Lake Harriet Bandshell\, Minneapolis\, MN\, United States
CATEGORIES:Music & Movies in the Parks,Music in the Parks
GEO:44.927901;-93.3082473
END:VEVENT
BEGIN:VEVENT
DTSTART;TZID=America/Chicago:20240628T210000
DTEND;TZID=America/Chicago:20240628T210000
DTSTAMP:20260420T223424
CREATED:20240521T160843Z
LAST-MODIFIED:20240521T160843Z
UID:73965-1719608400-1719608400@www.minneapolisparks.org
SUMMARY:Elemental
DESCRIPTION:PG
URL:https://www.minneapolisparks.org/event-calendar/elemental/
LOCATION:Bottineau Park\, 2000 Second St NE\, Minneapolis\, MN\, 55418\, United States
CATEGORIES:Movies in the Parks,Music & Movies in the Parks
GEO:45.0077139;-93.2669727
X-APPLE-STRUCTURED-LOCATION;VALUE=URI;X-ADDRESS=Bottineau Park 2000 Second St NE Minneapolis MN 55418 United States;X-APPLE-RADIUS=500;X-TITLE=2000 Second St NE:geo:-93.2669727,45.0077139
END:VEVENT
BEGIN:VEVENT
DTSTART;TZID=America/Chicago:20240629T193000
DTEND;TZID=America/Chicago:20240629T193000
DTSTAMP:20260420T223424
CREATED:20240521T152745Z
LAST-MODIFIED:20240612T174010Z
UID:73928-1719689400-1719689400@www.minneapolisparks.org
SUMMARY:Minneapolis POPs
DESCRIPTION:Providing live public performances by 45 professional musicians
URL:https://www.minneapolisparks.org/event-calendar/minneapolis-pops-6/
LOCATION:Lake Harriet Bandshell\, Minneapolis\, MN\, United States
CATEGORIES:Music & Movies in the Parks,Music in the Parks
GEO:44.927901;-93.3082473
END:VEVENT
BEGIN:VEVENT
DTSTART;TZID=America/Chicago:20240629T210000
DTEND;TZID=America/Chicago:20240629T210000
DTSTAMP:20260420T223424
CREATED:20240521T160942Z
LAST-MODIFIED:20240521T160942Z
UID:73966-1719694800-1719694800@www.minneapolisparks.org
SUMMARY:Black Panther: Wakanda Forever
DESCRIPTION:PG-13
URL:https://www.minneapolisparks.org/event-calendar/black-panther-wakanda-forever-5/
LOCATION:Phelps Field Park\, 701 E 39th St\, Minneapolis\, MN\, 55407\, United States
CATEGORIES:Movies in the Parks,Music & Movies in the Parks
GEO:44.9320116;-93.2633132
X-APPLE-STRUCTURED-LOCATION;VALUE=URI;X-ADDRESS=Phelps Field Park 701 E 39th St Minneapolis MN 55407 United States;X-APPLE-RADIUS=500;X-TITLE=701 E 39th St:geo:-93.2633132,44.9320116
END:VEVENT
BEGIN:VEVENT
DTSTART;TZID=America/Chicago:20240630T140000
DTEND;TZID=America/Chicago:20240630T140000
DTSTAMP:20260420T223424
CREATED:20240521T152900Z
LAST-MODIFIED:20240521T152900Z
UID:73934-1719756000-1719756000@www.minneapolisparks.org
SUMMARY:Minneapolis Brass Ensemble
DESCRIPTION:15-piece brass choir with percussion
URL:https://www.minneapolisparks.org/event-calendar/minneapolis-brass-ensemble/
LOCATION:Lake Harriet\, Minneapolis\, MN\, United States
CATEGORIES:Music & Movies in the Parks,Music in the Parks
GEO:44.927901;-93.3082473
END:VEVENT
BEGIN:VEVENT
DTSTART;TZID=America/Chicago:20240630T173000
DTEND;TZID=America/Chicago:20240630T173000
DTSTAMP:20260420T223424
CREATED:20240521T153004Z
LAST-MODIFIED:20240521T153004Z
UID:73936-1719768600-1719768600@www.minneapolisparks.org
SUMMARY:Minneapolis POPs
DESCRIPTION:Providing live public performances by 45 professional musicians
URL:https://www.minneapolisparks.org/event-calendar/minneapolis-pops-7/
LOCATION:Lake Harriet\, Minneapolis\, MN\, United States
CATEGORIES:Music & Movies in the Parks,Music in the Parks
GEO:44.927901;-93.3082473
END:VEVENT
BEGIN:VEVENT
DTSTART;TZID=America/Chicago:20240701T190000
DTEND;TZID=America/Chicago:20240701T190000
DTSTAMP:20260420T223424
CREATED:20240522T211439Z
LAST-MODIFIED:20240522T211439Z
UID:74132-1719860400-1719860400@www.minneapolisparks.org
SUMMARY:Murphy Smith
DESCRIPTION:Smart thumping dance music
URL:https://www.minneapolisparks.org/event-calendar/murphy-smith/
LOCATION:Water Works at Mill Ruins Park\, 425 West River Parkway\, Minneapolis\, MN\, 55401\, United States
CATEGORIES:Music & Movies in the Parks,Music in the Parks
GEO:44.9811921;-93.2620982
X-APPLE-STRUCTURED-LOCATION;VALUE=URI;X-ADDRESS=Water Works at Mill Ruins Park 425 West River Parkway Minneapolis MN 55401 United States;X-APPLE-RADIUS=500;X-TITLE=425 West River Parkway:geo:-93.2620982,44.9811921
END:VEVENT
BEGIN:VEVENT
DTSTART;TZID=America/Chicago:20240701T193000
DTEND;TZID=America/Chicago:20240701T193000
DTSTAMP:20260420T223424
CREATED:20240620T144303Z
LAST-MODIFIED:20240620T144303Z
UID:75022-1719862200-1719862200@www.minneapolisparks.org
SUMMARY:Lost Marbles
DESCRIPTION:Original Rock N Roll
URL:https://www.minneapolisparks.org/event-calendar/lost-marbles-2/
LOCATION:Lake Harriet Bandshell\, Minneapolis\, MN\, United States
CATEGORIES:Music & Movies in the Parks,Music in the Parks
GEO:44.927901;-93.3082473
END:VEVENT
BEGIN:VEVENT
DTSTART;TZID=America/Chicago:20240701T210000
DTEND;TZID=America/Chicago:20240701T210000
DTSTAMP:20260420T223424
CREATED:20240523T175129Z
LAST-MODIFIED:20240523T175129Z
UID:74324-1719867600-1719867600@www.minneapolisparks.org
SUMMARY:Migration
DESCRIPTION:PG
URL:https://www.minneapolisparks.org/event-calendar/migration/
LOCATION:Kenwood Park\, 2101 W Franklin Ave\, Minneapolis\, MN\, 55405\, United States
CATEGORIES:Movies in the Parks,Music & Movies in the Parks
GEO:44.9623941;-93.3072189
X-APPLE-STRUCTURED-LOCATION;VALUE=URI;X-ADDRESS=Kenwood Park 2101 W Franklin Ave Minneapolis MN 55405 United States;X-APPLE-RADIUS=500;X-TITLE=2101 W Franklin Ave:geo:-93.3072189,44.9623941
END:VEVENT
BEGIN:VEVENT
DTSTART;TZID=America/Chicago:20240702T190000
DTEND;TZID=America/Chicago:20240702T190000
DTSTAMP:20260420T223424
CREATED:20240522T202416Z
LAST-MODIFIED:20240522T202416Z
UID:74072-1719946800-1719946800@www.minneapolisparks.org
SUMMARY:Youth Advisory Showcase
DESCRIPTION:y06\, Human Error with DJ Backtothemoney\, and Linus \n 
URL:https://www.minneapolisparks.org/event-calendar/youth-advisory-showcase-2/
LOCATION:Father Hennepin\, Minneapolis\, MN\, United States
CATEGORIES:Music & Movies in the Parks,Music in the Parks
GEO:44.9826582;-93.2513335
END:VEVENT
BEGIN:VEVENT
DTSTART;TZID=America/Chicago:20240702T210000
DTEND;TZID=America/Chicago:20240702T210000
DTSTAMP:20260420T223424
CREATED:20240523T175438Z
LAST-MODIFIED:20240523T175438Z
UID:74326-1719954000-1719954000@www.minneapolisparks.org
SUMMARY:Teenage Mutant Ninja Turtles: Mutant Mayhem
DESCRIPTION:PG
URL:https://www.minneapolisparks.org/event-calendar/teenage-mutant-ninja-turtles-mutant-mayhem-2/
LOCATION:Whittier Recreation Center\, 425 W 26th St\, Minneapolis\, MN\, 55404\, United States
CATEGORIES:Movies in the Parks,Music & Movies in the Parks
GEO:44.9551265;-93.2845291
X-APPLE-STRUCTURED-LOCATION;VALUE=URI;X-ADDRESS=Whittier Recreation Center 425 W 26th St Minneapolis MN 55404 United States;X-APPLE-RADIUS=500;X-TITLE=425 W 26th St:geo:-93.2845291,44.9551265
END:VEVENT
BEGIN:VEVENT
DTSTART;TZID=America/Chicago:20240703T190000
DTEND;TZID=America/Chicago:20240703T190000
DTSTAMP:20260420T223424
CREATED:20240523T143405Z
LAST-MODIFIED:20240523T143405Z
UID:74179-1720033200-1720033200@www.minneapolisparks.org
SUMMARY:Jeff Sturgeon
DESCRIPTION:Old time banjo and guitar
URL:https://www.minneapolisparks.org/event-calendar/jeff-sturgeon/
LOCATION:The Commons\, 425 Portland Ave South\, Minneapolis\, MN\, 55488\, United States
CATEGORIES:Music & Movies in the Parks,Music in the Parks
GEO:44.9766971;-93.2628904
X-APPLE-STRUCTURED-LOCATION;VALUE=URI;X-ADDRESS=The Commons 425 Portland Ave South Minneapolis MN 55488 United States;X-APPLE-RADIUS=500;X-TITLE=425 Portland Ave South:geo:-93.2628904,44.9766971
END:VEVENT
BEGIN:VEVENT
DTSTART;TZID=America/Chicago:20240703T193000
DTEND;TZID=America/Chicago:20240703T193000
DTSTAMP:20260420T223424
CREATED:20240523T152830Z
LAST-MODIFIED:20240523T152851Z
UID:74218-1720035000-1720035000@www.minneapolisparks.org
SUMMARY:The Band That Fell to Earth
DESCRIPTION:The premier Midwest Bowie tribute
URL:https://www.minneapolisparks.org/event-calendar/the-band-that-fell-to-earth/
LOCATION:Lake Harriet Bandshell\, Minneapolis\, MN\, United States
CATEGORIES:Music & Movies in the Parks,Music in the Parks
GEO:44.927901;-93.3082473
END:VEVENT
BEGIN:VEVENT
DTSTART;TZID=America/Chicago:20240703T210000
DTEND;TZID=America/Chicago:20240703T210000
DTSTAMP:20260420T223424
CREATED:20240523T175546Z
LAST-MODIFIED:20240523T175546Z
UID:74328-1720040400-1720040400@www.minneapolisparks.org
SUMMARY:The Sandlot
DESCRIPTION:PG-13
URL:https://www.minneapolisparks.org/event-calendar/the-sandlot-3/
LOCATION:The Commons\, 425 Portland Ave South\, Minneapolis\, MN\, 55488\, United States
CATEGORIES:Movies in the Parks,Music & Movies in the Parks
GEO:44.9766971;-93.2628904
X-APPLE-STRUCTURED-LOCATION;VALUE=URI;X-ADDRESS=The Commons 425 Portland Ave South Minneapolis MN 55488 United States;X-APPLE-RADIUS=500;X-TITLE=425 Portland Ave South:geo:-93.2628904,44.9766971
END:VEVENT
BEGIN:VEVENT
DTSTART;TZID=America/Chicago:20240704T180000
DTEND;TZID=America/Chicago:20240704T180000
DTSTAMP:20260420T223424
CREATED:20240628T170101Z
LAST-MODIFIED:20240628T170101Z
UID:75158-1720116000-1720116000@www.minneapolisparks.org
SUMMARY:DJ Angel Beloved
DESCRIPTION:Electrifying mix of tunes.
URL:https://www.minneapolisparks.org/event-calendar/dj-angel-beloved/
LOCATION:Water Works at Mill Ruins Park\, 425 West River Parkway\, Minneapolis\, MN\, 55401\, United States
CATEGORIES:Music & Movies in the Parks,Music in the Parks
GEO:44.9811921;-93.2620982
X-APPLE-STRUCTURED-LOCATION;VALUE=URI;X-ADDRESS=Water Works at Mill Ruins Park 425 West River Parkway Minneapolis MN 55401 United States;X-APPLE-RADIUS=500;X-TITLE=425 West River Parkway:geo:-93.2620982,44.9811921
END:VEVENT
BEGIN:VEVENT
DTSTART;TZID=America/Chicago:20240704T200000
DTEND;TZID=America/Chicago:20240704T200000
DTSTAMP:20260420T223424
CREATED:20240628T170201Z
LAST-MODIFIED:20240628T170201Z
UID:75160-1720123200-1720123200@www.minneapolisparks.org
SUMMARY:Big Mike Retro Soul & the Westside Horns
DESCRIPTION:Seasoned Twin Cities musicians play a unique blend of blues rock inspired originals and family-friendly oldies from the 60s\, 70s\, and 80s
URL:https://www.minneapolisparks.org/event-calendar/big-mike-retro-soul-the-westside-horns/
LOCATION:Water Works at Mill Ruins Park\, 425 West River Parkway\, Minneapolis\, MN\, 55401\, United States
CATEGORIES:Music & Movies in the Parks,Music in the Parks
GEO:44.9811921;-93.2620982
X-APPLE-STRUCTURED-LOCATION;VALUE=URI;X-ADDRESS=Water Works at Mill Ruins Park 425 West River Parkway Minneapolis MN 55401 United States;X-APPLE-RADIUS=500;X-TITLE=425 West River Parkway:geo:-93.2620982,44.9811921
END:VEVENT
BEGIN:VEVENT
DTSTART;TZID=America/Chicago:20240705T190000
DTEND;TZID=America/Chicago:20240705T190000
DTSTAMP:20260420T223424
CREATED:20240522T193751Z
LAST-MODIFIED:20240701T192014Z
UID:74013-1720206000-1720206000@www.minneapolisparks.org
SUMMARY:Brass Union
DESCRIPTION:Brass\, Percussion\, American\, marches\, dixie
URL:https://www.minneapolisparks.org/event-calendar/brass-union/
LOCATION:Minnehaha Bandstand\, Minneapolis\, MN\, United States
CATEGORIES:Music & Movies in the Parks,Music in the Parks
GEO:44.9161006;-93.2109865
END:VEVENT
BEGIN:VEVENT
DTSTART;TZID=America/Chicago:20240705T193000
DTEND;TZID=America/Chicago:20240705T193000
DTSTAMP:20260420T223424
CREATED:20240523T153033Z
LAST-MODIFIED:20240523T153033Z
UID:74221-1720207800-1720207800@www.minneapolisparks.org
SUMMARY:USAF Band of Mid-America
DESCRIPTION:USAF band of Mid-America
URL:https://www.minneapolisparks.org/event-calendar/usaf-band-of-mid-america/
LOCATION:Lake Harriet Bandshell\, Minneapolis\, MN\, United States
CATEGORIES:Music & Movies in the Parks,Music in the Parks
GEO:44.927901;-93.3082473
END:VEVENT
BEGIN:VEVENT
DTSTART;TZID=America/Chicago:20240705T210000
DTEND;TZID=America/Chicago:20240705T210000
DTSTAMP:20260420T223424
CREATED:20240523T175654Z
LAST-MODIFIED:20240523T175654Z
UID:74330-1720213200-1720213200@www.minneapolisparks.org
SUMMARY:Shrek
DESCRIPTION:PG
URL:https://www.minneapolisparks.org/event-calendar/shrek/
LOCATION:Dickman Park\, 614 Second St NE\, Minneapolis\, MN\, 55413\, United States
CATEGORIES:Movies in the Parks,Music & Movies in the Parks
GEO:44.9947597;-93.2636006
X-APPLE-STRUCTURED-LOCATION;VALUE=URI;X-ADDRESS=Dickman Park 614 Second St NE Minneapolis MN 55413 United States;X-APPLE-RADIUS=500;X-TITLE=614 Second St NE:geo:-93.2636006,44.9947597
END:VEVENT
BEGIN:VEVENT
DTSTART;TZID=America/Chicago:20240706T193000
DTEND;TZID=America/Chicago:20240706T193000
DTSTAMP:20260420T223424
CREATED:20240523T153239Z
LAST-MODIFIED:20240706T190430Z
UID:74223-1720294200-1720294200@www.minneapolisparks.org
SUMMARY:Minneapolis POPs **Cancelled**
DESCRIPTION:Providing live public performances by 45 professional musicians
URL:https://www.minneapolisparks.org/event-calendar/minneapolis-pops-8/
LOCATION:Lake Harriet Bandshell\, Minneapolis\, MN\, United States
CATEGORIES:Music & Movies in the Parks,Music in the Parks
GEO:44.927901;-93.3082473
END:VEVENT
BEGIN:VEVENT
DTSTART;TZID=America/Chicago:20240706T210000
DTEND;TZID=America/Chicago:20240706T210000
DTSTAMP:20260420T223424
CREATED:20240523T175814Z
LAST-MODIFIED:20240628T155421Z
UID:74332-1720299600-1720299600@www.minneapolisparks.org
SUMMARY:Kung Fu Panda 4
DESCRIPTION:PG
URL:https://www.minneapolisparks.org/event-calendar/kung-fu-panda-4/
LOCATION:Webber Park\, 4300 Webber Parkway\, Minneapolis\, MN\, 55412\, United States
CATEGORIES:Movies in the Parks,Music & Movies in the Parks
GEO:45.034522;-93.291918
X-APPLE-STRUCTURED-LOCATION;VALUE=URI;X-ADDRESS=Webber Park 4300 Webber Parkway Minneapolis MN 55412 United States;X-APPLE-RADIUS=500;X-TITLE=4300 Webber Parkway:geo:-93.291918,45.034522
END:VEVENT
BEGIN:VEVENT
DTSTART;TZID=America/Chicago:20240707T140000
DTEND;TZID=America/Chicago:20240707T140000
DTSTAMP:20260420T223424
CREATED:20240523T153345Z
LAST-MODIFIED:20240523T153345Z
UID:74225-1720360800-1720360800@www.minneapolisparks.org
SUMMARY:Heavy for the Hawk
DESCRIPTION:Eclectic mix for all ages
URL:https://www.minneapolisparks.org/event-calendar/heavy-for-the-hawk-2/
LOCATION:Lake Harriet Bandshell\, Minneapolis\, MN\, United States
CATEGORIES:Music & Movies in the Parks,Music in the Parks
GEO:44.927901;-93.3082473
END:VEVENT
BEGIN:VEVENT
DTSTART;TZID=America/Chicago:20240707T173000
DTEND;TZID=America/Chicago:20240707T173000
DTSTAMP:20260420T223424
CREATED:20240523T153451Z
LAST-MODIFIED:20240706T190617Z
UID:74227-1720373400-1720373400@www.minneapolisparks.org
SUMMARY:Minneapolis POPs **Cancelled**
DESCRIPTION:Providing live public performances by 45 professional musicians
URL:https://www.minneapolisparks.org/event-calendar/minneapolis-pops-9/
LOCATION:Lake Harriet Bandshell\, Minneapolis\, MN\, United States
CATEGORIES:Music & Movies in the Parks,Music in the Parks
GEO:44.927901;-93.3082473
END:VEVENT
BEGIN:VEVENT
DTSTART;TZID=America/Chicago:20240708T190000
DTEND;TZID=America/Chicago:20240708T190000
DTSTAMP:20260420T223424
CREATED:20240708T194625Z
LAST-MODIFIED:20240708T194625Z
UID:75305-1720465200-1720465200@www.minneapolisparks.org
SUMMARY:Jon Rodine Band
DESCRIPTION:Soul Americana
URL:https://www.minneapolisparks.org/event-calendar/jon-rodine-band-4/
LOCATION:Water Works at Mill Ruins Park\, 425 West River Parkway\, Minneapolis\, MN\, 55401\, United States
CATEGORIES:Music & Movies in the Parks,Music in the Parks
GEO:44.9811921;-93.2620982
X-APPLE-STRUCTURED-LOCATION;VALUE=URI;X-ADDRESS=Water Works at Mill Ruins Park 425 West River Parkway Minneapolis MN 55401 United States;X-APPLE-RADIUS=500;X-TITLE=425 West River Parkway:geo:-93.2620982,44.9811921
END:VEVENT
BEGIN:VEVENT
DTSTART;TZID=America/Chicago:20240708T193000
DTEND;TZID=America/Chicago:20240708T193000
DTSTAMP:20260420T223424
CREATED:20240523T152554Z
LAST-MODIFIED:20240707T225123Z
UID:74216-1720467000-1720467000@www.minneapolisparks.org
SUMMARY:MN Orchestra **Cancelled**
DESCRIPTION:The Minnesota Orchestra
URL:https://www.minneapolisparks.org/event-calendar/mn-orchestra-2/
LOCATION:Lake Harriet Bandshell\, Minneapolis\, MN\, United States
CATEGORIES:Music & Movies in the Parks,Music in the Parks
GEO:44.927901;-93.3082473
END:VEVENT
BEGIN:VEVENT
DTSTART;TZID=America/Chicago:20240708T210000
DTEND;TZID=America/Chicago:20240708T210000
DTSTAMP:20260420T223424
CREATED:20240523T175944Z
LAST-MODIFIED:20240523T175944Z
UID:74334-1720472400-1720472400@www.minneapolisparks.org
SUMMARY:Cool Runnings
DESCRIPTION:PG
URL:https://www.minneapolisparks.org/event-calendar/cool-runnings-2/
LOCATION:Painter Recreation Center\, 620 W 34th St\, Minneapolis\, MN\, 55408\, United States
CATEGORIES:Movies in the Parks,Music & Movies in the Parks
GEO:44.9416634;-93.2876806
X-APPLE-STRUCTURED-LOCATION;VALUE=URI;X-ADDRESS=Painter Recreation Center 620 W 34th St Minneapolis MN 55408 United States;X-APPLE-RADIUS=500;X-TITLE=620 W 34th St:geo:-93.2876806,44.9416634
END:VEVENT
BEGIN:VEVENT
DTSTART;TZID=America/Chicago:20240709T183000
DTEND;TZID=America/Chicago:20240709T200000
DTSTAMP:20260420T223424
CREATED:20240522T205357Z
LAST-MODIFIED:20240522T205357Z
UID:74116-1720549800-1720555200@www.minneapolisparks.org
SUMMARY:Bloodlines
DESCRIPTION:Pop
URL:https://www.minneapolisparks.org/event-calendar/bloodlines/
LOCATION:Bryant Square Park\, 3101 Bryant Ave S\, Minneapolis\, MN\, 55408\, United States
CATEGORIES:Music & Movies in the Parks,Music in the Parks
GEO:44.9461045;-93.2903539
X-APPLE-STRUCTURED-LOCATION;VALUE=URI;X-ADDRESS=Bryant Square Park 3101 Bryant Ave S Minneapolis MN 55408 United States;X-APPLE-RADIUS=500;X-TITLE=3101 Bryant Ave S:geo:-93.2903539,44.9461045
END:VEVENT
BEGIN:VEVENT
DTSTART;TZID=America/Chicago:20240709T190000
DTEND;TZID=America/Chicago:20240709T190000
DTSTAMP:20260420T223424
CREATED:20240522T201151Z
LAST-MODIFIED:20240522T201151Z
UID:74054-1720551600-1720551600@www.minneapolisparks.org
SUMMARY:Indigie Femme
DESCRIPTION:Americana folk duo who tap into their Indigenous roots
URL:https://www.minneapolisparks.org/event-calendar/indigie-femme/
LOCATION:Father Hennepin\, Minneapolis\, MN\, United States
CATEGORIES:Music & Movies in the Parks,Music in the Parks
GEO:44.9826582;-93.2513335
END:VEVENT
BEGIN:VEVENT
DTSTART;TZID=America/Chicago:20240709T190000
DTEND;TZID=America/Chicago:20240709T190000
DTSTAMP:20260420T223424
CREATED:20240708T194937Z
LAST-MODIFIED:20240708T194937Z
UID:75309-1720551600-1720551600@www.minneapolisparks.org
SUMMARY:Sam Graber Band
DESCRIPTION:All original MN roots rock!
URL:https://www.minneapolisparks.org/event-calendar/sam-graber-band/
LOCATION:Loring Park\, Loring Park\, Minneapolis\, MN\, 55403\, United States
CATEGORIES:Music & Movies in the Parks,Music in the Parks
GEO:44.9649915;-93.2854596
X-APPLE-STRUCTURED-LOCATION;VALUE=URI;X-ADDRESS=Loring Park Loring Park Minneapolis MN 55403 United States;X-APPLE-RADIUS=500;X-TITLE=Loring Park:geo:-93.2854596,44.9649915
END:VEVENT
END:VCALENDAR