BEGIN:VCALENDAR
VERSION:2.0
PRODID:-//Minneapolis Park &amp; Recreation Board - ECPv6.15.20//NONSGML v1.0//EN
CALSCALE:GREGORIAN
METHOD:PUBLISH
X-WR-CALNAME:Minneapolis Park &amp; Recreation Board
X-ORIGINAL-URL:https://www.minneapolisparks.org
X-WR-CALDESC:Events for Minneapolis Park &amp; Recreation Board
REFRESH-INTERVAL;VALUE=DURATION:PT1H
X-Robots-Tag:noindex
X-PUBLISHED-TTL:PT1H
BEGIN:VTIMEZONE
TZID:America/Chicago
BEGIN:DAYLIGHT
TZOFFSETFROM:-0600
TZOFFSETTO:-0500
TZNAME:CDT
DTSTART:20210314T080000
END:DAYLIGHT
BEGIN:STANDARD
TZOFFSETFROM:-0500
TZOFFSETTO:-0600
TZNAME:CST
DTSTART:20211107T070000
END:STANDARD
BEGIN:DAYLIGHT
TZOFFSETFROM:-0600
TZOFFSETTO:-0500
TZNAME:CDT
DTSTART:20220313T080000
END:DAYLIGHT
BEGIN:STANDARD
TZOFFSETFROM:-0500
TZOFFSETTO:-0600
TZNAME:CST
DTSTART:20221106T070000
END:STANDARD
BEGIN:DAYLIGHT
TZOFFSETFROM:-0600
TZOFFSETTO:-0500
TZNAME:CDT
DTSTART:20230312T080000
END:DAYLIGHT
BEGIN:STANDARD
TZOFFSETFROM:-0500
TZOFFSETTO:-0600
TZNAME:CST
DTSTART:20231105T070000
END:STANDARD
END:VTIMEZONE
BEGIN:VEVENT
DTSTART;TZID=America/Chicago:20220718T193000
DTEND;TZID=America/Chicago:20220718T210000
DTSTAMP:20260420T223427
CREATED:20220421T210308Z
LAST-MODIFIED:20220701T193022Z
UID:57343-1658172600-1658178000@www.minneapolisparks.org
SUMMARY:The Way Way Back Band
DESCRIPTION:Music from Motown to Michael Jackson
URL:https://www.minneapolisparks.org/event-calendar/way-way-back-band/
LOCATION:Lake Harriet Bandshell\, Minneapolis\, MN\, United States
CATEGORIES:Music & Movies in the Parks,Music in the Parks
GEO:44.927901;-93.3082473
END:VEVENT
BEGIN:VEVENT
DTSTART;TZID=America/Chicago:20220718T211000
DTEND;TZID=America/Chicago:20220718T211000
DTSTAMP:20260420T223427
CREATED:20220523T171443Z
LAST-MODIFIED:20220602T210419Z
UID:57990-1658178600-1658178600@www.minneapolisparks.org
SUMMARY:Clifford the Big Red Dog
DESCRIPTION:Rated PG
URL:https://www.minneapolisparks.org/event-calendar/clifford-the-big-red-dog-2/
LOCATION:Bottineau Park\, 2000 Second St NE\, Minneapolis\, MN\, 55418\, United States
CATEGORIES:Movies in the Parks,Music & Movies in the Parks
GEO:45.0077139;-93.2669727
X-APPLE-STRUCTURED-LOCATION;VALUE=URI;X-ADDRESS=Bottineau Park 2000 Second St NE Minneapolis MN 55418 United States;X-APPLE-RADIUS=500;X-TITLE=2000 Second St NE:geo:-93.2669727,45.0077139
END:VEVENT
BEGIN:VEVENT
DTSTART;TZID=America/Chicago:20220719T183000
DTEND;TZID=America/Chicago:20220719T200000
DTSTAMP:20260420T223427
CREATED:20220421T181759Z
LAST-MODIFIED:20220421T181759Z
UID:57205-1658255400-1658260800@www.minneapolisparks.org
SUMMARY:The Jugsluggers
DESCRIPTION:Bluegrass influenced string band music
URL:https://www.minneapolisparks.org/event-calendar/the-jugsluggers/
LOCATION:Bryant Square Park\, 3101 Bryant Ave S\, Minneapolis\, MN\, 55408\, United States
CATEGORIES:Music & Movies in the Parks,Music in the Parks
GEO:44.9461045;-93.2903539
X-APPLE-STRUCTURED-LOCATION;VALUE=URI;X-ADDRESS=Bryant Square Park 3101 Bryant Ave S Minneapolis MN 55408 United States;X-APPLE-RADIUS=500;X-TITLE=3101 Bryant Ave S:geo:-93.2903539,44.9461045
END:VEVENT
BEGIN:VEVENT
DTSTART;TZID=America/Chicago:20220719T211000
DTEND;TZID=America/Chicago:20220719T211000
DTSTAMP:20260420T223427
CREATED:20220523T171518Z
LAST-MODIFIED:20220602T210424Z
UID:57992-1658265000-1658265000@www.minneapolisparks.org
SUMMARY:Sing 2
DESCRIPTION:Rated PG
URL:https://www.minneapolisparks.org/event-calendar/sing-2-3/
LOCATION:Pershing Park\, 3523 W 48th St\, Minneapolis\, MN\, 55410\, United States
CATEGORIES:Movies in the Parks,Music & Movies in the Parks
GEO:44.9158567;-93.3243725
X-APPLE-STRUCTURED-LOCATION;VALUE=URI;X-ADDRESS=Pershing Park 3523 W 48th St Minneapolis MN 55410 United States;X-APPLE-RADIUS=500;X-TITLE=3523 W 48th St:geo:-93.3243725,44.9158567
END:VEVENT
BEGIN:VEVENT
DTSTART;TZID=America/Chicago:20220720T160000
DTEND;TZID=America/Chicago:20220720T190000
DTSTAMP:20260420T223427
CREATED:20220701T202908Z
LAST-MODIFIED:20220701T202908Z
UID:59409-1658332800-1658343600@www.minneapolisparks.org
SUMMARY:Twin Cities Mobile Jazz Project
DESCRIPTION:
URL:https://www.minneapolisparks.org/event-calendar/twin-cities-mobile-jazz-project-11/
LOCATION:Van Cleve Park\, 901 15th Ave SE\, Minneapolis\, MN\, 55414\, United States
CATEGORIES:Music & Movies in the Parks,Music in the Parks
GEO:44.9858651;-93.2311356
X-APPLE-STRUCTURED-LOCATION;VALUE=URI;X-ADDRESS=Van Cleve Park 901 15th Ave SE Minneapolis MN 55414 United States;X-APPLE-RADIUS=500;X-TITLE=901 15th Ave SE:geo:-93.2311356,44.9858651
END:VEVENT
BEGIN:VEVENT
DTSTART;TZID=America/Chicago:20220720T210500
DTEND;TZID=America/Chicago:20220720T210500
DTSTAMP:20260420T223427
CREATED:20220523T171603Z
LAST-MODIFIED:20220602T210554Z
UID:57996-1658351100-1658351100@www.minneapolisparks.org
SUMMARY:Black Panther
DESCRIPTION:Rated PG-13
URL:https://www.minneapolisparks.org/event-calendar/black-panther-6/
LOCATION:The Commons\, 425 Portland Ave South\, Minneapolis\, MN\, 55488\, United States
CATEGORIES:Movies in the Parks,Music & Movies in the Parks
GEO:44.9766971;-93.2628904
X-APPLE-STRUCTURED-LOCATION;VALUE=URI;X-ADDRESS=The Commons 425 Portland Ave South Minneapolis MN 55488 United States;X-APPLE-RADIUS=500;X-TITLE=425 Portland Ave South:geo:-93.2628904,44.9766971
END:VEVENT
BEGIN:VEVENT
DTSTART;TZID=America/Chicago:20220721T170000
DTEND;TZID=America/Chicago:20220721T183000
DTSTAMP:20260420T223427
CREATED:20220421T175815Z
LAST-MODIFIED:20220519T212134Z
UID:57173-1658422800-1658428200@www.minneapolisparks.org
SUMMARY:JoJo Green
DESCRIPTION:Powerhouse vocals & band
URL:https://www.minneapolisparks.org/event-calendar/jojo-green/
LOCATION:The Commons\, 425 Portland Ave South\, Minneapolis\, MN\, 55488\, United States
CATEGORIES:Music & Movies in the Parks,Music in the Parks
GEO:44.9766971;-93.2628904
X-APPLE-STRUCTURED-LOCATION;VALUE=URI;X-ADDRESS=The Commons 425 Portland Ave South Minneapolis MN 55488 United States;X-APPLE-RADIUS=500;X-TITLE=425 Portland Ave South:geo:-93.2628904,44.9766971
END:VEVENT
BEGIN:VEVENT
DTSTART;TZID=America/Chicago:20220721T183000
DTEND;TZID=America/Chicago:20220721T200000
DTSTAMP:20260420T223427
CREATED:20220421T181739Z
LAST-MODIFIED:20220421T181739Z
UID:57206-1658428200-1658433600@www.minneapolisparks.org
SUMMARY:Chuck Blaze
DESCRIPTION:I Ain’t Done
URL:https://www.minneapolisparks.org/event-calendar/chuck-blaze/
LOCATION:Bryant Square Park\, 3101 Bryant Ave S\, Minneapolis\, MN\, 55408\, United States
CATEGORIES:Music & Movies in the Parks,Music in the Parks
GEO:44.9461045;-93.2903539
X-APPLE-STRUCTURED-LOCATION;VALUE=URI;X-ADDRESS=Bryant Square Park 3101 Bryant Ave S Minneapolis MN 55408 United States;X-APPLE-RADIUS=500;X-TITLE=3101 Bryant Ave S:geo:-93.2903539,44.9461045
END:VEVENT
BEGIN:VEVENT
DTSTART;TZID=America/Chicago:20220721T190000
DTEND;TZID=America/Chicago:20220721T203000
DTSTAMP:20260420T223427
CREATED:20220421T185259Z
LAST-MODIFIED:20220421T185259Z
UID:57272-1658430000-1658435400@www.minneapolisparks.org
SUMMARY:Pavel Jany Trio
DESCRIPTION:Jazz with international flavor
URL:https://www.minneapolisparks.org/event-calendar/pavel-jany-trio/
LOCATION:Minnehaha Park\, Minneapolis\, MN\, United States
CATEGORIES:Music & Movies in the Parks,Music in the Parks
GEO:44.9161006;-93.2109865
END:VEVENT
BEGIN:VEVENT
DTSTART;TZID=America/Chicago:20220721T193000
DTEND;TZID=America/Chicago:20220721T210000
DTSTAMP:20260420T223427
CREATED:20220421T210546Z
LAST-MODIFIED:20220421T210546Z
UID:57344-1658431800-1658437200@www.minneapolisparks.org
SUMMARY:Tim Casey & the Martyrs
DESCRIPTION:Guitar Bass Drums Organ R & R
URL:https://www.minneapolisparks.org/event-calendar/tim-casey-the-martyrs-3/
LOCATION:Lake Harriet Bandshell\, Minneapolis\, MN\, United States
CATEGORIES:Music & Movies in the Parks,Music in the Parks
GEO:44.927901;-93.3082473
END:VEVENT
BEGIN:VEVENT
DTSTART;TZID=America/Chicago:20220721T210500
DTEND;TZID=America/Chicago:20220721T210500
DTSTAMP:20260420T223427
CREATED:20220523T171644Z
LAST-MODIFIED:20220602T210600Z
UID:57998-1658437500-1658437500@www.minneapolisparks.org
SUMMARY:Raya and the Last Dragon
DESCRIPTION:Rated PG
URL:https://www.minneapolisparks.org/event-calendar/raya-and-the-last-dragon-2/
LOCATION:Keewaydin Park\, 3030 E 53rd St\, Minneapolis\, MN\, 55417\, United States
CATEGORIES:Movies in the Parks,Music & Movies in the Parks
GEO:44.9074817;-93.22849
X-APPLE-STRUCTURED-LOCATION;VALUE=URI;X-ADDRESS=Keewaydin Park 3030 E 53rd St Minneapolis MN 55417 United States;X-APPLE-RADIUS=500;X-TITLE=3030 E 53rd St:geo:-93.22849,44.9074817
END:VEVENT
BEGIN:VEVENT
DTSTART;TZID=America/Chicago:20220722T190000
DTEND;TZID=America/Chicago:20220722T203000
DTSTAMP:20260420T223427
CREATED:20220421T185315Z
LAST-MODIFIED:20220421T185315Z
UID:57273-1658516400-1658521800@www.minneapolisparks.org
SUMMARY:drumHeart and the Women's Drum Center
DESCRIPTION:Women’s Drum Center: World Percussion
URL:https://www.minneapolisparks.org/event-calendar/drumheart-and-the-womens-drum-center/
LOCATION:Minnehaha Park\, Minneapolis\, MN\, United States
CATEGORIES:Music & Movies in the Parks,Music in the Parks
GEO:44.9161006;-93.2109865
END:VEVENT
BEGIN:VEVENT
DTSTART;TZID=America/Chicago:20220722T193000
DTEND;TZID=America/Chicago:20220722T210000
DTSTAMP:20260420T223427
CREATED:20220421T210627Z
LAST-MODIFIED:20220421T210627Z
UID:57345-1658518200-1658523600@www.minneapolisparks.org
SUMMARY:Tre Aaron
DESCRIPTION:Funky Country\, Rhythm & Blues
URL:https://www.minneapolisparks.org/event-calendar/tre-aaron-6/
LOCATION:Lake Harriet Bandshell\, Minneapolis\, MN\, United States
CATEGORIES:Music & Movies in the Parks,Music in the Parks
GEO:44.927901;-93.3082473
END:VEVENT
BEGIN:VEVENT
DTSTART;TZID=America/Chicago:20220722T210500
DTEND;TZID=America/Chicago:20220722T210500
DTSTAMP:20260420T223427
CREATED:20220331T182059Z
LAST-MODIFIED:20220602T210607Z
UID:56688-1658523900-1658523900@www.minneapolisparks.org
SUMMARY:Addams Family 2
DESCRIPTION:If you love movies just as much as you love the outdoors\, the MPRB Movies in the Park series is your ticket to cinematic entertainment this summer! Movies run throughout the park system from early June through the end of August. Join us at Folwell Park for our feature presentation\, The movie will start 15 minutes after sunset. Bring a lawn chair or blanket and come early to grab a good spot.
URL:https://www.minneapolisparks.org/event-calendar/movie-in-the-park-addams-family-2/
LOCATION:Folwell Park\, 1615 N Dowling Ave\, Minneapolis\, MN\, 55412\, United States
CATEGORIES:Events- All,Events- MPRB,Movies in the Parks,Music & Movies in the Parks
GEO:45.0235514;-93.3002305
X-APPLE-STRUCTURED-LOCATION;VALUE=URI;X-ADDRESS=Folwell Park 1615 N Dowling Ave Minneapolis MN 55412 United States;X-APPLE-RADIUS=500;X-TITLE=1615 N Dowling Ave:geo:-93.3002305,45.0235514
END:VEVENT
BEGIN:VEVENT
DTSTART;TZID=America/Chicago:20220723T193000
DTEND;TZID=America/Chicago:20220723T210000
DTSTAMP:20260420T223427
CREATED:20220421T210728Z
LAST-MODIFIED:20220603T194613Z
UID:57346-1658604600-1658610000@www.minneapolisparks.org
SUMMARY:Minneapolis Pops Orchestra
DESCRIPTION:
URL:https://www.minneapolisparks.org/event-calendar/mn-pops-orchestra-10/
LOCATION:Lake Harriet Bandshell\, Minneapolis\, MN\, United States
CATEGORIES:Music & Movies in the Parks,Music in the Parks
GEO:44.927901;-93.3082473
END:VEVENT
BEGIN:VEVENT
DTSTART;TZID=America/Chicago:20220723T210500
DTEND;TZID=America/Chicago:20220723T210500
DTSTAMP:20260420T223427
CREATED:20220331T182006Z
LAST-MODIFIED:20220602T210614Z
UID:56687-1658610300-1658610300@www.minneapolisparks.org
SUMMARY:Soul
DESCRIPTION:Grab some chairs or a blanket and bring the whole family to an outside movie on the big screen. We will be showing Disney’s “Soul.” We will have some pre-movie activities beginning at 7:30pm. The movie will start at dusk so show up early to grab a good spot!
URL:https://www.minneapolisparks.org/event-calendar/movie-in-the-park-soul/
LOCATION:Elliot Park\, 1000 E 14th St\, Minneapolis\, MN\, 55404\, United States
CATEGORIES:Events- All,Events- MPRB,Movies in the Parks,Music & Movies in the Parks
GEO:44.9693872;-93.2597211
X-APPLE-STRUCTURED-LOCATION;VALUE=URI;X-ADDRESS=Elliot Park 1000 E 14th St Minneapolis MN 55404 United States;X-APPLE-RADIUS=500;X-TITLE=1000 E 14th St:geo:-93.2597211,44.9693872
END:VEVENT
BEGIN:VEVENT
DTSTART;TZID=America/Chicago:20220724T140000
DTEND;TZID=America/Chicago:20220724T153000
DTSTAMP:20260420T223427
CREATED:20220422T185108Z
LAST-MODIFIED:20220422T185108Z
UID:57441-1658671200-1658676600@www.minneapolisparks.org
SUMMARY:Natania & Ticket to Brasil
DESCRIPTION:Brazilian samba and Latin Jazz
URL:https://www.minneapolisparks.org/event-calendar/natania-ticket-to-brasil-5/
LOCATION:Lake Harriet Bandshell\, Minneapolis\, MN\, United States
CATEGORIES:Music & Movies in the Parks,Music in the Parks
GEO:44.927901;-93.3082473
END:VEVENT
BEGIN:VEVENT
DTSTART;TZID=America/Chicago:20220724T173000
DTEND;TZID=America/Chicago:20220724T190000
DTSTAMP:20260420T223427
CREATED:20220422T183631Z
LAST-MODIFIED:20220603T194624Z
UID:57434-1658683800-1658689200@www.minneapolisparks.org
SUMMARY:Minneapolis Pops Orchestra
DESCRIPTION:
URL:https://www.minneapolisparks.org/event-calendar/mn-pops-orchestra-14/
LOCATION:Lake Harriet Bandshell\, Minneapolis\, MN\, United States
CATEGORIES:Music & Movies in the Parks,Music in the Parks
GEO:44.927901;-93.3082473
END:VEVENT
BEGIN:VEVENT
DTSTART;TZID=America/Chicago:20220725T193000
DTEND;TZID=America/Chicago:20220725T210000
DTSTAMP:20260420T223427
CREATED:20220421T210756Z
LAST-MODIFIED:20220421T210756Z
UID:57347-1658777400-1658782800@www.minneapolisparks.org
SUMMARY:Saddle Sores
DESCRIPTION:Classic Country High Energy Fun
URL:https://www.minneapolisparks.org/event-calendar/saddle-sores-4/
LOCATION:Lake Harriet Bandshell\, Minneapolis\, MN\, United States
CATEGORIES:Music & Movies in the Parks,Music in the Parks
GEO:44.927901;-93.3082473
END:VEVENT
BEGIN:VEVENT
DTSTART;TZID=America/Chicago:20220725T210500
DTEND;TZID=America/Chicago:20220725T210500
DTSTAMP:20260420T223427
CREATED:20220331T181124Z
LAST-MODIFIED:20220602T210619Z
UID:56696-1658783100-1658783100@www.minneapolisparks.org
SUMMARY:Jumanji: The Next Level
DESCRIPTION:Enjoy an evening in the park while watching an outdoor movie. This year we will be showing family favorite – Jumanji: The Next Level. Be sure to bring your lawn chairs and blanket. Movie begins at dusk. Upon registration for this program\, participants agree to follow MPRB requirements related to face coverings and physical distancing. Face coverings are required indoors at all MPRB facilities\, unless otherwise specified by MPRB as part of athletics protocol.
URL:https://www.minneapolisparks.org/event-calendar/movie-in-the-park-2/
LOCATION:Longfellow Park\, 3435 36th Ave S\, Minneapolis\, MN\, 55406\, United States
CATEGORIES:Events- All,Events- MPRB,Movies in the Parks,Music & Movies in the Parks
GEO:44.9400906;-93.2199535
X-APPLE-STRUCTURED-LOCATION;VALUE=URI;X-ADDRESS=Longfellow Park 3435 36th Ave S Minneapolis MN 55406 United States;X-APPLE-RADIUS=500;X-TITLE=3435 36th Ave S:geo:-93.2199535,44.9400906
END:VEVENT
BEGIN:VEVENT
DTSTART;TZID=America/Chicago:20220726T183000
DTEND;TZID=America/Chicago:20220726T200000
DTSTAMP:20260420T223427
CREATED:20220421T181619Z
LAST-MODIFIED:20220421T181619Z
UID:57207-1658860200-1658865600@www.minneapolisparks.org
SUMMARY:TIMISAROCKER
DESCRIPTION:Pop that’s punk but not pop-punk
URL:https://www.minneapolisparks.org/event-calendar/timisarocker-3/
LOCATION:Bryant Square Park\, 3101 Bryant Ave S\, Minneapolis\, MN\, 55408\, United States
CATEGORIES:Music & Movies in the Parks,Music in the Parks
GEO:44.9461045;-93.2903539
X-APPLE-STRUCTURED-LOCATION;VALUE=URI;X-ADDRESS=Bryant Square Park 3101 Bryant Ave S Minneapolis MN 55408 United States;X-APPLE-RADIUS=500;X-TITLE=3101 Bryant Ave S:geo:-93.2903539,44.9461045
END:VEVENT
BEGIN:VEVENT
DTSTART;TZID=America/Chicago:20220726T190000
DTEND;TZID=America/Chicago:20220726T203000
DTSTAMP:20260420T223427
CREATED:20220421T183330Z
LAST-MODIFIED:20220519T213254Z
UID:57243-1658862000-1658867400@www.minneapolisparks.org
SUMMARY:Red Hot Django Peppers
DESCRIPTION:The Music of Django Reinhardt
URL:https://www.minneapolisparks.org/event-calendar/red-hot-django-peppers/
LOCATION:Water Works at Mill Ruins Park\, 425 West River Parkway\, Minneapolis\, MN\, 55401\, United States
CATEGORIES:Music & Movies in the Parks,Music in the Parks
GEO:44.9811921;-93.2620982
X-APPLE-STRUCTURED-LOCATION;VALUE=URI;X-ADDRESS=Water Works at Mill Ruins Park 425 West River Parkway Minneapolis MN 55401 United States;X-APPLE-RADIUS=500;X-TITLE=425 West River Parkway:geo:-93.2620982,44.9811921
END:VEVENT
BEGIN:VEVENT
DTSTART;TZID=America/Chicago:20220726T210000
DTEND;TZID=America/Chicago:20220726T210000
DTSTAMP:20260420T223427
CREATED:20220523T171928Z
LAST-MODIFIED:20220602T210712Z
UID:58007-1658869200-1658869200@www.minneapolisparks.org
SUMMARY:The Boss Baby 2: Family Business
DESCRIPTION:Rated PG
URL:https://www.minneapolisparks.org/event-calendar/the-boss-baby-2-family-business/
LOCATION:Matthews Park\, 2318 29th Ave S\, Minneapolis\, MN\, 55406\, United States
CATEGORIES:Movies in the Parks,Music & Movies in the Parks
GEO:44.958293;-93.231444
X-APPLE-STRUCTURED-LOCATION;VALUE=URI;X-ADDRESS=Matthews Park 2318 29th Ave S Minneapolis MN 55406 United States;X-APPLE-RADIUS=500;X-TITLE=2318 29th Ave S:geo:-93.231444,44.958293
END:VEVENT
BEGIN:VEVENT
DTSTART;TZID=America/Chicago:20220727T210000
DTEND;TZID=America/Chicago:20220727T210000
DTSTAMP:20260420T223427
CREATED:20220523T172016Z
LAST-MODIFIED:20220602T210717Z
UID:58010-1658955600-1658955600@www.minneapolisparks.org
SUMMARY:Harry Potter and the Chamber of Secrets
DESCRIPTION:Rated PG
URL:https://www.minneapolisparks.org/event-calendar/harry-potter-and-the-chamber-of-secrets/
LOCATION:The Commons\, 425 Portland Ave South\, Minneapolis\, MN\, 55488\, United States
CATEGORIES:Movies in the Parks,Music & Movies in the Parks
GEO:44.9766971;-93.2628904
X-APPLE-STRUCTURED-LOCATION;VALUE=URI;X-ADDRESS=The Commons 425 Portland Ave South Minneapolis MN 55488 United States;X-APPLE-RADIUS=500;X-TITLE=425 Portland Ave South:geo:-93.2628904,44.9766971
END:VEVENT
BEGIN:VEVENT
DTSTART;TZID=America/Chicago:20220728T170000
DTEND;TZID=America/Chicago:20220728T183000
DTSTAMP:20260420T223427
CREATED:20220421T175825Z
LAST-MODIFIED:20220519T212111Z
UID:57174-1659027600-1659033000@www.minneapolisparks.org
SUMMARY:Graydon Francis & iamKaye
DESCRIPTION:Liberian American singer and songwriter
URL:https://www.minneapolisparks.org/event-calendar/graydon-francis-iamkaye/
LOCATION:The Commons\, 425 Portland Ave South\, Minneapolis\, MN\, 55488\, United States
CATEGORIES:Music & Movies in the Parks,Music in the Parks
GEO:44.9766971;-93.2628904
X-APPLE-STRUCTURED-LOCATION;VALUE=URI;X-ADDRESS=The Commons 425 Portland Ave South Minneapolis MN 55488 United States;X-APPLE-RADIUS=500;X-TITLE=425 Portland Ave South:geo:-93.2628904,44.9766971
END:VEVENT
BEGIN:VEVENT
DTSTART;TZID=America/Chicago:20220728T183000
DTEND;TZID=America/Chicago:20220728T200000
DTSTAMP:20260420T223427
CREATED:20220421T181441Z
LAST-MODIFIED:20220509T190915Z
UID:57208-1659033000-1659038400@www.minneapolisparks.org
SUMMARY:Space Hug
DESCRIPTION:Driving guitar riffs\, sensual vocals\, innovative keyboard
URL:https://www.minneapolisparks.org/event-calendar/spacer-hug/
LOCATION:Bryant Square Park\, 3101 Bryant Ave S\, Minneapolis\, MN\, 55408\, United States
CATEGORIES:Music & Movies in the Parks,Music in the Parks
GEO:44.9461045;-93.2903539
X-APPLE-STRUCTURED-LOCATION;VALUE=URI;X-ADDRESS=Bryant Square Park 3101 Bryant Ave S Minneapolis MN 55408 United States;X-APPLE-RADIUS=500;X-TITLE=3101 Bryant Ave S:geo:-93.2903539,44.9461045
END:VEVENT
BEGIN:VEVENT
DTSTART;TZID=America/Chicago:20220728T190000
DTEND;TZID=America/Chicago:20220728T203000
DTSTAMP:20260420T223427
CREATED:20220421T185342Z
LAST-MODIFIED:20220421T185342Z
UID:57274-1659034800-1659040200@www.minneapolisparks.org
SUMMARY:Twin Cities Mobile Jazz
DESCRIPTION:Music\, unity\, and creative education
URL:https://www.minneapolisparks.org/event-calendar/twin-cities-mobile-jazz-2/
LOCATION:Minnehaha Park\, Minneapolis\, MN\, United States
CATEGORIES:Music & Movies in the Parks,Music in the Parks
GEO:44.9161006;-93.2109865
END:VEVENT
BEGIN:VEVENT
DTSTART;TZID=America/Chicago:20220728T190000
DTEND;TZID=America/Chicago:20220728T203000
DTSTAMP:20260420T223427
CREATED:20220701T203006Z
LAST-MODIFIED:20220701T203006Z
UID:59411-1659034800-1659040200@www.minneapolisparks.org
SUMMARY:Twin Cities Mobile Jazz Project
DESCRIPTION:
URL:https://www.minneapolisparks.org/event-calendar/twin-cities-mobile-jazz-project-12/
LOCATION:Minnehaha Park\, Minneapolis\, MN\, United States
CATEGORIES:Music & Movies in the Parks,Music in the Parks
GEO:44.9161006;-93.2109865
END:VEVENT
BEGIN:VEVENT
DTSTART;TZID=America/Chicago:20220728T193000
DTEND;TZID=America/Chicago:20220728T210000
DTSTAMP:20260420T223427
CREATED:20220421T210820Z
LAST-MODIFIED:20220421T210820Z
UID:57348-1659036600-1659042000@www.minneapolisparks.org
SUMMARY:Capitol Sons
DESCRIPTION:Melody driven rock and roll
URL:https://www.minneapolisparks.org/event-calendar/capitol-sons/
LOCATION:Lake Harriet Bandshell\, Minneapolis\, MN\, United States
CATEGORIES:Music & Movies in the Parks,Music in the Parks
GEO:44.927901;-93.3082473
END:VEVENT
BEGIN:VEVENT
DTSTART;TZID=America/Chicago:20220728T210000
DTEND;TZID=America/Chicago:20220728T210000
DTSTAMP:20260420T223427
CREATED:20220523T172057Z
LAST-MODIFIED:20220602T210724Z
UID:58012-1659042000-1659042000@www.minneapolisparks.org
SUMMARY:Eternals
DESCRIPTION:Rated PG-13
URL:https://www.minneapolisparks.org/event-calendar/eternals/
LOCATION:Brackett Field Park\, 2728 S 39th Ave\, Minneapolis\, MN\, 55406\, United States
CATEGORIES:Movies in the Parks,Music & Movies in the Parks
GEO:44.9527432;-93.2170093
X-APPLE-STRUCTURED-LOCATION;VALUE=URI;X-ADDRESS=Brackett Field Park 2728 S 39th Ave Minneapolis MN 55406 United States;X-APPLE-RADIUS=500;X-TITLE=2728 S 39th Ave:geo:-93.2170093,44.9527432
END:VEVENT
END:VCALENDAR