BEGIN:VCALENDAR
VERSION:2.0
PRODID:-//Minneapolis Park &amp; Recreation Board - ECPv6.15.20//NONSGML v1.0//EN
CALSCALE:GREGORIAN
METHOD:PUBLISH
X-WR-CALNAME:Minneapolis Park &amp; Recreation Board
X-ORIGINAL-URL:https://www.minneapolisparks.org
X-WR-CALDESC:Events for Minneapolis Park &amp; Recreation Board
REFRESH-INTERVAL;VALUE=DURATION:PT1H
X-Robots-Tag:noindex
X-PUBLISHED-TTL:PT1H
BEGIN:VTIMEZONE
TZID:America/Chicago
BEGIN:DAYLIGHT
TZOFFSETFROM:-0600
TZOFFSETTO:-0500
TZNAME:CDT
DTSTART:20210314T080000
END:DAYLIGHT
BEGIN:STANDARD
TZOFFSETFROM:-0500
TZOFFSETTO:-0600
TZNAME:CST
DTSTART:20211107T070000
END:STANDARD
BEGIN:DAYLIGHT
TZOFFSETFROM:-0600
TZOFFSETTO:-0500
TZNAME:CDT
DTSTART:20220313T080000
END:DAYLIGHT
BEGIN:STANDARD
TZOFFSETFROM:-0500
TZOFFSETTO:-0600
TZNAME:CST
DTSTART:20221106T070000
END:STANDARD
BEGIN:DAYLIGHT
TZOFFSETFROM:-0600
TZOFFSETTO:-0500
TZNAME:CDT
DTSTART:20230312T080000
END:DAYLIGHT
BEGIN:STANDARD
TZOFFSETFROM:-0500
TZOFFSETTO:-0600
TZNAME:CST
DTSTART:20231105T070000
END:STANDARD
END:VTIMEZONE
BEGIN:VEVENT
DTSTART;TZID=America/Chicago:20220627T193000
DTEND;TZID=America/Chicago:20220627T210000
DTSTAMP:20260421T015331
CREATED:20220421T174926Z
LAST-MODIFIED:20220421T174926Z
UID:57142-1656358200-1656363600@www.minneapolisparks.org
SUMMARY:Detroit Don King Band
DESCRIPTION:Authentic urban blues from Motown
URL:https://www.minneapolisparks.org/event-calendar/detroit-don-king-band/
LOCATION:Lake Harriet Bandshell\, Minneapolis\, MN\, United States
CATEGORIES:Music & Movies in the Parks,Music in the Parks
GEO:44.927901;-93.3082473
END:VEVENT
BEGIN:VEVENT
DTSTART;TZID=America/Chicago:20220627T212000
DTEND;TZID=America/Chicago:20220627T212000
DTSTAMP:20260421T015331
CREATED:20220523T182335Z
LAST-MODIFIED:20220602T205912Z
UID:58055-1656364800-1656364800@www.minneapolisparks.org
SUMMARY:Encanto
DESCRIPTION:Movie begins at dusk
URL:https://www.minneapolisparks.org/event-calendar/encanto-2/
LOCATION:Lynnhurst Park\, 1345 W Minnehaha Parkway\, Minneapolis\, MN\, 55419\, United States
CATEGORIES:Movies in the Parks,Music & Movies in the Parks
GEO:44.9118382;-93.2986289
X-APPLE-STRUCTURED-LOCATION;VALUE=URI;X-ADDRESS=Lynnhurst Park 1345 W Minnehaha Parkway Minneapolis MN 55419 United States;X-APPLE-RADIUS=500;X-TITLE=1345 W Minnehaha Parkway:geo:-93.2986289,44.9118382
END:VEVENT
BEGIN:VEVENT
DTSTART;TZID=America/Chicago:20220628T183000
DTEND;TZID=America/Chicago:20220628T200000
DTSTAMP:20260421T015331
CREATED:20220421T182009Z
LAST-MODIFIED:20220421T182009Z
UID:57199-1656441000-1656446400@www.minneapolisparks.org
SUMMARY:Ameet Kamath
DESCRIPTION:Indo-Western Pop Sounds of delight
URL:https://www.minneapolisparks.org/event-calendar/ameet-kamath-3/
LOCATION:Bryant Square Park\, 3101 Bryant Ave S\, Minneapolis\, MN\, 55408\, United States
CATEGORIES:Music & Movies in the Parks,Music in the Parks
GEO:44.9461045;-93.2903539
X-APPLE-STRUCTURED-LOCATION;VALUE=URI;X-ADDRESS=Bryant Square Park 3101 Bryant Ave S Minneapolis MN 55408 United States;X-APPLE-RADIUS=500;X-TITLE=3101 Bryant Ave S:geo:-93.2903539,44.9461045
END:VEVENT
BEGIN:VEVENT
DTSTART;TZID=America/Chicago:20220628T190000
DTEND;TZID=America/Chicago:20220628T203000
DTSTAMP:20260421T015331
CREATED:20220421T183407Z
LAST-MODIFIED:20220519T213730Z
UID:57241-1656442800-1656448200@www.minneapolisparks.org
SUMMARY:Dominic Cudd
DESCRIPTION:Singer-songwriter and multi-instrumentalist
URL:https://www.minneapolisparks.org/event-calendar/dominic-cudd/
LOCATION:Water Works at Mill Ruins Park\, 425 West River Parkway\, Minneapolis\, MN\, 55401\, United States
CATEGORIES:Music & Movies in the Parks,Music in the Parks
GEO:44.9811921;-93.2620982
X-APPLE-STRUCTURED-LOCATION;VALUE=URI;X-ADDRESS=Water Works at Mill Ruins Park 425 West River Parkway Minneapolis MN 55401 United States;X-APPLE-RADIUS=500;X-TITLE=425 West River Parkway:geo:-93.2620982,44.9811921
END:VEVENT
BEGIN:VEVENT
DTSTART;TZID=America/Chicago:20220628T212000
DTEND;TZID=America/Chicago:20220628T212000
DTSTAMP:20260421T015331
CREATED:20220523T182426Z
LAST-MODIFIED:20220602T205917Z
UID:58057-1656451200-1656451200@www.minneapolisparks.org
SUMMARY:Sing 2
DESCRIPTION:Movie begins at dusk
URL:https://www.minneapolisparks.org/event-calendar/sing-2-5/
LOCATION:Harrison Park\, 503 N Irving Ave\, Minneapolis\, MN\, 55405\, United States
CATEGORIES:Movies in the Parks,Music & Movies in the Parks
GEO:44.9827416;-93.2996079
X-APPLE-STRUCTURED-LOCATION;VALUE=URI;X-ADDRESS=Harrison Park 503 N Irving Ave Minneapolis MN 55405 United States;X-APPLE-RADIUS=500;X-TITLE=503 N Irving Ave:geo:-93.2996079,44.9827416
END:VEVENT
BEGIN:VEVENT
DTSTART;TZID=America/Chicago:20220629T212000
DTEND;TZID=America/Chicago:20220629T223000
DTSTAMP:20260421T015331
CREATED:20220523T182536Z
LAST-MODIFIED:20220602T205923Z
UID:58059-1656537600-1656541800@www.minneapolisparks.org
SUMMARY:Crazy Rich Asians
DESCRIPTION:
URL:https://www.minneapolisparks.org/event-calendar/crazy-rich-asians/
LOCATION:The Commons\, 425 Portland Ave South\, Minneapolis\, MN\, 55488\, United States
CATEGORIES:Movies in the Parks,Music & Movies in the Parks
GEO:44.9766971;-93.2628904
X-APPLE-STRUCTURED-LOCATION;VALUE=URI;X-ADDRESS=The Commons 425 Portland Ave South Minneapolis MN 55488 United States;X-APPLE-RADIUS=500;X-TITLE=425 Portland Ave South:geo:-93.2628904,44.9766971
END:VEVENT
BEGIN:VEVENT
DTSTART;TZID=America/Chicago:20220630T170000
DTEND;TZID=America/Chicago:20220630T183000
DTSTAMP:20260421T015331
CREATED:20220421T175726Z
LAST-MODIFIED:20220519T212257Z
UID:57170-1656608400-1656613800@www.minneapolisparks.org
SUMMARY:Sarah Morris
DESCRIPTION:Singer-songwriter
URL:https://www.minneapolisparks.org/event-calendar/sarah-morris-2/
LOCATION:The Commons\, 425 Portland Ave South\, Minneapolis\, MN\, 55488\, United States
CATEGORIES:Music & Movies in the Parks,Music in the Parks
GEO:44.9766971;-93.2628904
X-APPLE-STRUCTURED-LOCATION;VALUE=URI;X-ADDRESS=The Commons 425 Portland Ave South Minneapolis MN 55488 United States;X-APPLE-RADIUS=500;X-TITLE=425 Portland Ave South:geo:-93.2628904,44.9766971
END:VEVENT
BEGIN:VEVENT
DTSTART;TZID=America/Chicago:20220630T183000
DTEND;TZID=America/Chicago:20220630T200000
DTSTAMP:20260421T015331
CREATED:20220421T181959Z
LAST-MODIFIED:20220421T181959Z
UID:57200-1656613800-1656619200@www.minneapolisparks.org
SUMMARY:Planet Melvin
DESCRIPTION:Entertaining & Energetic Live Music Performance
URL:https://www.minneapolisparks.org/event-calendar/planet-melvin/
LOCATION:Bryant Square Park\, 3101 Bryant Ave S\, Minneapolis\, MN\, 55408\, United States
CATEGORIES:Music & Movies in the Parks,Music in the Parks
GEO:44.9461045;-93.2903539
X-APPLE-STRUCTURED-LOCATION;VALUE=URI;X-ADDRESS=Bryant Square Park 3101 Bryant Ave S Minneapolis MN 55408 United States;X-APPLE-RADIUS=500;X-TITLE=3101 Bryant Ave S:geo:-93.2903539,44.9461045
END:VEVENT
BEGIN:VEVENT
DTSTART;TZID=America/Chicago:20220630T190000
DTEND;TZID=America/Chicago:20220630T203000
DTSTAMP:20260421T015331
CREATED:20220421T185039Z
LAST-MODIFIED:20220421T185039Z
UID:57266-1656615600-1656621000@www.minneapolisparks.org
SUMMARY:The Fabulous Jackalopes
DESCRIPTION:Rockabilly\, R&B and more
URL:https://www.minneapolisparks.org/event-calendar/the-fabulous-jackalopes/
LOCATION:Minnehaha Park\, Minneapolis\, MN\, United States
CATEGORIES:Music & Movies in the Parks,Music in the Parks
GEO:44.9161006;-93.2109865
END:VEVENT
BEGIN:VEVENT
DTSTART;TZID=America/Chicago:20220630T193000
DTEND;TZID=America/Chicago:20220630T210000
DTSTAMP:20260421T015331
CREATED:20220421T174825Z
LAST-MODIFIED:20220421T174825Z
UID:57161-1656617400-1656622800@www.minneapolisparks.org
SUMMARY:Katey B & Those SOB's
DESCRIPTION:Acoustic contemporary folk country blues
URL:https://www.minneapolisparks.org/event-calendar/katey-b-those-sobs/
LOCATION:Lake Harriet Bandshell\, Minneapolis\, MN\, United States
CATEGORIES:Music & Movies in the Parks,Music in the Parks
GEO:44.927901;-93.3082473
END:VEVENT
BEGIN:VEVENT
DTSTART;TZID=America/Chicago:20220630T212000
DTEND;TZID=America/Chicago:20220630T212000
DTSTAMP:20260421T015331
CREATED:20220523T182625Z
LAST-MODIFIED:20220602T205929Z
UID:58061-1656624000-1656624000@www.minneapolisparks.org
SUMMARY:The Wedding Singer
DESCRIPTION:Movie begins at dusk
URL:https://www.minneapolisparks.org/event-calendar/the-wedding-singer/
LOCATION:Mueller Park\, Minneapolis\, MN\, United States
CATEGORIES:Movies in the Parks,Music & Movies in the Parks
GEO:44.9569732;-93.2914447
END:VEVENT
BEGIN:VEVENT
DTSTART;TZID=America/Chicago:20220701T160000
DTEND;TZID=America/Chicago:20220701T190000
DTSTAMP:20260421T015331
CREATED:20220701T202823Z
LAST-MODIFIED:20220701T202823Z
UID:59406-1656691200-1656702000@www.minneapolisparks.org
SUMMARY:Twin Cities Mobile Jazz Project
DESCRIPTION:
URL:https://www.minneapolisparks.org/event-calendar/twin-cities-mobile-jazz-project-10/
LOCATION:Sumner Field Park\, Minneapolis\, MN\, United States
CATEGORIES:Music & Movies in the Parks,Music in the Parks
GEO:44.9877604;-93.2920734
END:VEVENT
BEGIN:VEVENT
DTSTART;TZID=America/Chicago:20220701T190000
DTEND;TZID=America/Chicago:20220701T203000
DTSTAMP:20260421T015331
CREATED:20220421T185128Z
LAST-MODIFIED:20220421T185128Z
UID:57267-1656702000-1656707400@www.minneapolisparks.org
SUMMARY:The Violet Nines
DESCRIPTION:Vibrant local groove pop outfit
URL:https://www.minneapolisparks.org/event-calendar/the-violet-nines/
LOCATION:Minnehaha Park\, Minneapolis\, MN\, United States
CATEGORIES:Music & Movies in the Parks,Music in the Parks
GEO:44.9161006;-93.2109865
END:VEVENT
BEGIN:VEVENT
DTSTART;TZID=America/Chicago:20220701T193000
DTEND;TZID=America/Chicago:20220701T210000
DTSTAMP:20260421T015331
CREATED:20220421T204722Z
LAST-MODIFIED:20220421T204722Z
UID:57335-1656703800-1656709200@www.minneapolisparks.org
SUMMARY:New Primitives
DESCRIPTION:Reggae\, funk\, world\, American music
URL:https://www.minneapolisparks.org/event-calendar/new-primitives-5/
LOCATION:Lake Harriet Bandshell\, Minneapolis\, MN\, United States
CATEGORIES:Music & Movies in the Parks,Music in the Parks
GEO:44.927901;-93.3082473
END:VEVENT
BEGIN:VEVENT
DTSTART;TZID=America/Chicago:20220701T211500
DTEND;TZID=America/Chicago:20220701T211500
DTSTAMP:20260421T015331
CREATED:20220519T214107Z
LAST-MODIFIED:20220602T210122Z
UID:57916-1656710100-1656710100@www.minneapolisparks.org
SUMMARY:Twin Cities Black Film Festival Presents: Mahogany (rated PG)
DESCRIPTION:
URL:https://www.minneapolisparks.org/event-calendar/twin-cities-black-film-festival-presents-mahogany-rated-pg/
LOCATION:Minneapolis\, MN\, 55401\, United States
CATEGORIES:Movies in the Parks,Music & Movies in the Parks,Music in the Parks
GEO:44.9836543;-93.2693572
END:VEVENT
BEGIN:VEVENT
DTSTART;TZID=America/Chicago:20220702T193000
DTEND;TZID=America/Chicago:20220702T210000
DTSTAMP:20260421T015331
CREATED:20220421T205915Z
LAST-MODIFIED:20220603T194548Z
UID:57336-1656790200-1656795600@www.minneapolisparks.org
SUMMARY:Minneapolis Pops Orchestra
DESCRIPTION:
URL:https://www.minneapolisparks.org/event-calendar/mn-pops-orchestra-8/
LOCATION:Lake Harriet Bandshell\, Minneapolis\, MN\, United States
CATEGORIES:Music & Movies in the Parks,Music in the Parks
GEO:44.927901;-93.3082473
END:VEVENT
BEGIN:VEVENT
DTSTART;TZID=America/Chicago:20220702T211500
DTEND;TZID=America/Chicago:20220702T211500
DTSTAMP:20260421T015331
CREATED:20220523T170517Z
LAST-MODIFIED:20220602T210128Z
UID:57963-1656796500-1656796500@www.minneapolisparks.org
SUMMARY:King Richard
DESCRIPTION:PG-13
URL:https://www.minneapolisparks.org/event-calendar/king-richard/
LOCATION:Lake Harriet\, Minneapolis\, MN\, United States
CATEGORIES:Movies in the Parks,Music & Movies in the Parks
GEO:44.927901;-93.3082473
END:VEVENT
BEGIN:VEVENT
DTSTART;TZID=America/Chicago:20220703T140000
DTEND;TZID=America/Chicago:20220703T153000
DTSTAMP:20260421T015331
CREATED:20220422T185018Z
LAST-MODIFIED:20220422T185018Z
UID:57443-1656856800-1656862200@www.minneapolisparks.org
SUMMARY:Issho II
DESCRIPTION:Minnesota taiko drumming extravaganza!
URL:https://www.minneapolisparks.org/event-calendar/issho-ii/
LOCATION:Lake Harriet Bandshell\, Minneapolis\, MN\, United States
CATEGORIES:Music & Movies in the Parks,Music in the Parks
GEO:44.927901;-93.3082473
END:VEVENT
BEGIN:VEVENT
DTSTART;TZID=America/Chicago:20220703T173000
DTEND;TZID=America/Chicago:20220703T190000
DTSTAMP:20260421T015331
CREATED:20220422T183105Z
LAST-MODIFIED:20220603T194549Z
UID:57429-1656869400-1656874800@www.minneapolisparks.org
SUMMARY:Minneapolis Pops Orchestra
DESCRIPTION:
URL:https://www.minneapolisparks.org/event-calendar/mn-pops-orchestra-12/
LOCATION:Lake Harriet Bandshell\, Minneapolis\, MN\, United States
CATEGORIES:Music & Movies in the Parks,Music in the Parks
GEO:44.927901;-93.3082473
END:VEVENT
BEGIN:VEVENT
DTSTART;TZID=America/Chicago:20220704T190000
DTEND;TZID=America/Chicago:20220704T203000
DTSTAMP:20260421T015331
CREATED:20220519T213707Z
LAST-MODIFIED:20220519T213707Z
UID:57909-1656961200-1656966600@www.minneapolisparks.org
SUMMARY:Opera Under the Stars
DESCRIPTION:
URL:https://www.minneapolisparks.org/event-calendar/opera-under-the-stars-2/
LOCATION:Water Works at Mill Ruins Park\, 425 West River Parkway\, Minneapolis\, MN\, 55401\, United States
CATEGORIES:Music & Movies in the Parks,Music in the Parks
GEO:44.9811921;-93.2620982
X-APPLE-STRUCTURED-LOCATION;VALUE=URI;X-ADDRESS=Water Works at Mill Ruins Park 425 West River Parkway Minneapolis MN 55401 United States;X-APPLE-RADIUS=500;X-TITLE=425 West River Parkway:geo:-93.2620982,44.9811921
END:VEVENT
BEGIN:VEVENT
DTSTART;TZID=America/Chicago:20220705T183000
DTEND;TZID=America/Chicago:20220705T200000
DTSTAMP:20260421T015331
CREATED:20220421T181941Z
LAST-MODIFIED:20220421T181941Z
UID:57201-1657045800-1657051200@www.minneapolisparks.org
SUMMARY:Cindy Lawson
DESCRIPTION:Shimmery retro pop and rock
URL:https://www.minneapolisparks.org/event-calendar/cindy-lawson-2/
LOCATION:Bryant Square Park\, 3101 Bryant Ave S\, Minneapolis\, MN\, 55408\, United States
CATEGORIES:Music & Movies in the Parks,Music in the Parks
GEO:44.9461045;-93.2903539
X-APPLE-STRUCTURED-LOCATION;VALUE=URI;X-ADDRESS=Bryant Square Park 3101 Bryant Ave S Minneapolis MN 55408 United States;X-APPLE-RADIUS=500;X-TITLE=3101 Bryant Ave S:geo:-93.2903539,44.9461045
END:VEVENT
BEGIN:VEVENT
DTSTART;TZID=America/Chicago:20220705T211500
DTEND;TZID=America/Chicago:20220705T211500
DTSTAMP:20260421T015331
CREATED:20220523T170611Z
LAST-MODIFIED:20220602T210134Z
UID:57965-1657055700-1657055700@www.minneapolisparks.org
SUMMARY:The Mitchells vs the Machines
DESCRIPTION:Rated PG
URL:https://www.minneapolisparks.org/event-calendar/the-mitchells-vs-the-machines/
LOCATION:Lyndale Park Gardens\, 1300 42nd St W\, Minneapolis\, MN\, 55409\, United States
CATEGORIES:Movies in the Parks,Music & Movies in the Parks
GEO:44.9275251;-93.2953725
X-APPLE-STRUCTURED-LOCATION;VALUE=URI;X-ADDRESS=Lyndale Park Gardens 1300 42nd St W Minneapolis MN 55409 United States;X-APPLE-RADIUS=500;X-TITLE=1300 42nd St W:geo:-93.2953725,44.9275251
END:VEVENT
BEGIN:VEVENT
DTSTART;TZID=America/Chicago:20220706T160000
DTEND;TZID=America/Chicago:20220706T190000
DTSTAMP:20260421T015331
CREATED:20220701T202742Z
LAST-MODIFIED:20220701T202742Z
UID:59404-1657123200-1657134000@www.minneapolisparks.org
SUMMARY:Twin Cities Mobile Jazz Project
DESCRIPTION:
URL:https://www.minneapolisparks.org/event-calendar/twin-cities-mobile-jazz-project-9/
LOCATION:Logan Park\, 690 13th Ave NE\, Minneapolis\, MN\, 55413\, United States
CATEGORIES:Music & Movies in the Parks,Music in the Parks
GEO:45.0006735;-93.2568797
X-APPLE-STRUCTURED-LOCATION;VALUE=URI;X-ADDRESS=Logan Park 690 13th Ave NE Minneapolis MN 55413 United States;X-APPLE-RADIUS=500;X-TITLE=690 13th Ave NE:geo:-93.2568797,45.0006735
END:VEVENT
BEGIN:VEVENT
DTSTART;TZID=America/Chicago:20220706T211500
DTEND;TZID=America/Chicago:20220706T211500
DTSTAMP:20260421T015331
CREATED:20220523T170726Z
LAST-MODIFIED:20220602T210139Z
UID:57967-1657142100-1657142100@www.minneapolisparks.org
SUMMARY:Edward Scissorhands
DESCRIPTION:Rated PG-13
URL:https://www.minneapolisparks.org/event-calendar/edward-scissorhands/
LOCATION:The Commons\, 425 Portland Ave South\, Minneapolis\, MN\, 55488\, United States
CATEGORIES:Movies in the Parks,Music & Movies in the Parks
GEO:44.9766971;-93.2628904
X-APPLE-STRUCTURED-LOCATION;VALUE=URI;X-ADDRESS=The Commons 425 Portland Ave South Minneapolis MN 55488 United States;X-APPLE-RADIUS=500;X-TITLE=425 Portland Ave South:geo:-93.2628904,44.9766971
END:VEVENT
BEGIN:VEVENT
DTSTART;TZID=America/Chicago:20220707T170000
DTEND;TZID=America/Chicago:20220707T183000
DTSTAMP:20260421T015331
CREATED:20220421T175738Z
LAST-MODIFIED:20220519T212232Z
UID:57171-1657213200-1657218600@www.minneapolisparks.org
SUMMARY:Maryann and the Money Makers
DESCRIPTION:Foot-tapping jazz
URL:https://www.minneapolisparks.org/event-calendar/maryann-and-the-money-makers/
LOCATION:The Commons\, 425 Portland Ave South\, Minneapolis\, MN\, 55488\, United States
CATEGORIES:Music & Movies in the Parks,Music in the Parks
GEO:44.9766971;-93.2628904
X-APPLE-STRUCTURED-LOCATION;VALUE=URI;X-ADDRESS=The Commons 425 Portland Ave South Minneapolis MN 55488 United States;X-APPLE-RADIUS=500;X-TITLE=425 Portland Ave South:geo:-93.2628904,44.9766971
END:VEVENT
BEGIN:VEVENT
DTSTART;TZID=America/Chicago:20220707T183000
DTEND;TZID=America/Chicago:20220707T200000
DTSTAMP:20260421T015331
CREATED:20220421T181931Z
LAST-MODIFIED:20220525T185320Z
UID:57202-1657218600-1657224000@www.minneapolisparks.org
SUMMARY:Karaoke Night
DESCRIPTION:Bring your best karaoke performance!
URL:https://www.minneapolisparks.org/event-calendar/karaoke-night/
LOCATION:Bryant Square Park\, 3101 Bryant Ave S\, Minneapolis\, MN\, 55408\, United States
CATEGORIES:Music & Movies in the Parks,Music in the Parks
GEO:44.9461045;-93.2903539
X-APPLE-STRUCTURED-LOCATION;VALUE=URI;X-ADDRESS=Bryant Square Park 3101 Bryant Ave S Minneapolis MN 55408 United States;X-APPLE-RADIUS=500;X-TITLE=3101 Bryant Ave S:geo:-93.2903539,44.9461045
END:VEVENT
BEGIN:VEVENT
DTSTART;TZID=America/Chicago:20220707T190000
DTEND;TZID=America/Chicago:20220707T203000
DTSTAMP:20260421T015331
CREATED:20220421T185148Z
LAST-MODIFIED:20220421T185148Z
UID:57268-1657220400-1657225800@www.minneapolisparks.org
SUMMARY:The Way Back Yard Boys
DESCRIPTION:Three part harmony fiddle music
URL:https://www.minneapolisparks.org/event-calendar/the-way-back-yard-boys/
LOCATION:Minnehaha Park\, Minneapolis\, MN\, United States
CATEGORIES:Music & Movies in the Parks,Music in the Parks
GEO:44.9161006;-93.2109865
END:VEVENT
BEGIN:VEVENT
DTSTART;TZID=America/Chicago:20220707T193000
DTEND;TZID=America/Chicago:20220707T210000
DTSTAMP:20260421T015331
CREATED:20220421T210002Z
LAST-MODIFIED:20220421T210002Z
UID:57337-1657222200-1657227600@www.minneapolisparks.org
SUMMARY:Jaspar Lepak
DESCRIPTION:Heartfelt folk Americana
URL:https://www.minneapolisparks.org/event-calendar/jaspar-lepak-4/
LOCATION:Lake Harriet Bandshell\, Minneapolis\, MN\, United States
CATEGORIES:Music & Movies in the Parks,Music in the Parks
GEO:44.927901;-93.3082473
END:VEVENT
BEGIN:VEVENT
DTSTART;TZID=America/Chicago:20220708T190000
DTEND;TZID=America/Chicago:20220708T203000
DTSTAMP:20260421T015331
CREATED:20220421T185206Z
LAST-MODIFIED:20220506T184129Z
UID:57269-1657306800-1657312200@www.minneapolisparks.org
SUMMARY:Andy Ulseth and Special Guest Laura Hugo
DESCRIPTION:Celebratory folk rock from Minneapolis
URL:https://www.minneapolisparks.org/event-calendar/andy-ulseth/
LOCATION:Minnehaha Park\, Minneapolis\, MN\, United States
CATEGORIES:Music & Movies in the Parks,Music in the Parks
GEO:44.9161006;-93.2109865
END:VEVENT
BEGIN:VEVENT
DTSTART;TZID=America/Chicago:20220708T193000
DTEND;TZID=America/Chicago:20220708T210000
DTSTAMP:20260421T015331
CREATED:20220421T210045Z
LAST-MODIFIED:20220622T195128Z
UID:57338-1657308600-1657314000@www.minneapolisparks.org
SUMMARY:Minnesota Orchestra
DESCRIPTION:Classical favorites performed by the Grammy-award winning Minnesota Orchestra.
URL:https://www.minneapolisparks.org/event-calendar/mn-orchestra/
LOCATION:Lake Harriet Bandshell\, Minneapolis\, MN\, United States
CATEGORIES:Music & Movies in the Parks,Music in the Parks
GEO:44.927901;-93.3082473
END:VEVENT
END:VCALENDAR