BEGIN:VCALENDAR
VERSION:2.0
PRODID:-//Minneapolis Park &amp; Recreation Board - ECPv6.15.20//NONSGML v1.0//EN
CALSCALE:GREGORIAN
METHOD:PUBLISH
X-WR-CALNAME:Minneapolis Park &amp; Recreation Board
X-ORIGINAL-URL:https://www.minneapolisparks.org
X-WR-CALDESC:Events for Minneapolis Park &amp; Recreation Board
REFRESH-INTERVAL;VALUE=DURATION:PT1H
X-Robots-Tag:noindex
X-PUBLISHED-TTL:PT1H
BEGIN:VTIMEZONE
TZID:America/Chicago
BEGIN:DAYLIGHT
TZOFFSETFROM:-0600
TZOFFSETTO:-0500
TZNAME:CDT
DTSTART:20230312T080000
END:DAYLIGHT
BEGIN:STANDARD
TZOFFSETFROM:-0500
TZOFFSETTO:-0600
TZNAME:CST
DTSTART:20231105T070000
END:STANDARD
BEGIN:DAYLIGHT
TZOFFSETFROM:-0600
TZOFFSETTO:-0500
TZNAME:CDT
DTSTART:20240310T080000
END:DAYLIGHT
BEGIN:STANDARD
TZOFFSETFROM:-0500
TZOFFSETTO:-0600
TZNAME:CST
DTSTART:20241103T070000
END:STANDARD
BEGIN:DAYLIGHT
TZOFFSETFROM:-0600
TZOFFSETTO:-0500
TZNAME:CDT
DTSTART:20250309T080000
END:DAYLIGHT
BEGIN:STANDARD
TZOFFSETFROM:-0500
TZOFFSETTO:-0600
TZNAME:CST
DTSTART:20251102T070000
END:STANDARD
END:VTIMEZONE
BEGIN:VEVENT
DTSTART;TZID=America/Chicago:20241217T174500
DTEND;TZID=America/Chicago:20241217T183000
DTSTAMP:20260421T224532
CREATED:20241122T201552Z
LAST-MODIFIED:20241122T201630Z
UID:78841-1734457500-1734460200@www.minneapolisparks.org
SUMMARY:Ballet and Creative Movement: Holiday Special
DESCRIPTION:In this class dancers will bend\, twirl\, leap\, skip\, run and gallop while learning ballet technique special awareness\, gaining social skills and having fun! Children will do a ballet warm up every week\, move creatively to the music of “The Nutcracker“ and have time and space to explore movement and music. We will learn a routine to perform for parents on the last day. \nRegister for Ballet and Creative Movement: Holiday Special
URL:https://www.minneapolisparks.org/event-calendar/ballet-and-creative-movement-holiday-special-2/2024-12-17/
LOCATION:Lake Nokomis Recreation Center\, 2401 E Minnehaha Parkway\, Minneapolis\, MN\, 55417\, United States
CATEGORIES:Events- All,Events- MPRB
GEO:44.9157107;-93.2366016
X-APPLE-STRUCTURED-LOCATION;VALUE=URI;X-ADDRESS=Lake Nokomis Recreation Center 2401 E Minnehaha Parkway Minneapolis MN 55417 United States;X-APPLE-RADIUS=500;X-TITLE=2401 E Minnehaha Parkway:geo:-93.2366016,44.9157107
END:VEVENT
BEGIN:VEVENT
DTSTART;TZID=America/Chicago:20241210T174500
DTEND;TZID=America/Chicago:20241210T183000
DTSTAMP:20260421T224532
CREATED:20241122T201552Z
LAST-MODIFIED:20241122T201630Z
UID:78840-1733852700-1733855400@www.minneapolisparks.org
SUMMARY:Ballet and Creative Movement: Holiday Special
DESCRIPTION:In this class dancers will bend\, twirl\, leap\, skip\, run and gallop while learning ballet technique special awareness\, gaining social skills and having fun! Children will do a ballet warm up every week\, move creatively to the music of “The Nutcracker“ and have time and space to explore movement and music. We will learn a routine to perform for parents on the last day. \nRegister for Ballet and Creative Movement: Holiday Special
URL:https://www.minneapolisparks.org/event-calendar/ballet-and-creative-movement-holiday-special-2/2024-12-10/
LOCATION:Lake Nokomis Recreation Center\, 2401 E Minnehaha Parkway\, Minneapolis\, MN\, 55417\, United States
CATEGORIES:Events- All,Events- MPRB
GEO:44.9157107;-93.2366016
X-APPLE-STRUCTURED-LOCATION;VALUE=URI;X-ADDRESS=Lake Nokomis Recreation Center 2401 E Minnehaha Parkway Minneapolis MN 55417 United States;X-APPLE-RADIUS=500;X-TITLE=2401 E Minnehaha Parkway:geo:-93.2366016,44.9157107
END:VEVENT
BEGIN:VEVENT
DTSTART;TZID=America/Chicago:20241203T174500
DTEND;TZID=America/Chicago:20241203T183000
DTSTAMP:20260421T224532
CREATED:20241122T201552Z
LAST-MODIFIED:20241122T201629Z
UID:78839-1733247900-1733250600@www.minneapolisparks.org
SUMMARY:Ballet and Creative Movement: Holiday Special
DESCRIPTION:In this class dancers will bend\, twirl\, leap\, skip\, run and gallop while learning ballet technique special awareness\, gaining social skills and having fun! Children will do a ballet warm up every week\, move creatively to the music of “The Nutcracker“ and have time and space to explore movement and music. We will learn a routine to perform for parents on the last day. \nRegister for Ballet and Creative Movement: Holiday Special
URL:https://www.minneapolisparks.org/event-calendar/ballet-and-creative-movement-holiday-special-2/2024-12-03/
LOCATION:Lake Nokomis Recreation Center\, 2401 E Minnehaha Parkway\, Minneapolis\, MN\, 55417\, United States
CATEGORIES:Events- All,Events- MPRB
GEO:44.9157107;-93.2366016
X-APPLE-STRUCTURED-LOCATION;VALUE=URI;X-ADDRESS=Lake Nokomis Recreation Center 2401 E Minnehaha Parkway Minneapolis MN 55417 United States;X-APPLE-RADIUS=500;X-TITLE=2401 E Minnehaha Parkway:geo:-93.2366016,44.9157107
END:VEVENT
END:VCALENDAR